Workbook

Sheet протокол
G1: ПЕРВЕНСТВО МОСКВЫ
G2: по триатлону
G3: (спортивная дисциплина: акватлон)
G4: 500м плав + 2,5км бег
A5: Место проведения: г. Москва ЦСП "Северный" | M5: 1 марта 2026 г.
A6: Место | B6: Фамилия | C6: Имя | D6: Отчество | E6: ДР | F6: Квалиф. | G6: Спортивная организация | H6: ПЛАВ 500м | J6: БЕГ 2,5км | L6: Результат | M6: Отстав. мин:сек / %% | O6: Выполн. | P6: Тренеры | Q6: Ж
G7: ДЕВУШКИ 13-14 лет | S7: 500+2,5 | T7: М | U7: Ж
A8: 1 | B8: =INDEX(Оргео!C:C,MATCH(протокол!Q8,Оргео!F:F,0)) -> Петровская | C8: =INDEX(Оргео!D:D,MATCH(протокол!Q8,Оргео!F:F,0)) -> Анастасия | D8: =INDEX(Оргео!E:E,MATCH(протокол!Q8,Оргео!F:F,0)) -> Романовна | E8: =INDEX(Оргео!L:L,MATCH(протокол!Q8,Оргео!F:F,0)) -> 41541 | F8: =INDEX(мандатка!I:I,MATCH(протокол!Q8,мандатка!F:F,0)) -> 1р | G8: =INDEX(мандатка!Z:Z,MATCH(протокол!Q8,мандатка!F:F,0)) -> ГБУ ДО «Московская академия современного пятиборья» | H8: =INDEX(ИТОГИ!G:G,MATCH(протокол!Q8,ИТОГИ!E:E,0)) -> 0.0048032407 | I8: =INDEX(ИТОГИ!H:H,MATCH(протокол!Q8,ИТОГИ!E:E,0)) -> (2) | J8: =INDEX(ИТОГИ!I:I,MATCH(протокол!Q8,ИТОГИ!E:E,0)) -> 0.0057175926 | K8: =INDEX(ИТОГИ!J:J,MATCH(протокол!Q8,ИТОГИ!E:E,0)) -> (1) | L8: =H8+J8 -> 0.010520833 | M8: - | O8: 1р | P8: =INDEX(мандатка!AC:AC,MATCH(протокол!Q8,мандатка!F:F,0)) -> Васильев Иван Михайлович | Q8: Петровская Анастасия | R8: =INDEX(ИТОГИ!K:K,MATCH(протокол!Q8,ИТОГИ!E:E,0)) -> 0.010520833 | S8: 1 | T8: 0.011805556 | U8: 0.013194444
A9: 2 | B9: =INDEX(Оргео!C:C,MATCH(протокол!Q9,Оргео!F:F,0)) -> Давыдова | C9: =INDEX(Оргео!D:D,MATCH(протокол!Q9,Оргео!F:F,0)) -> Екатерина | D9: =INDEX(Оргео!E:E,MATCH(протокол!Q9,Оргео!F:F,0)) -> Витальевна | E9: =INDEX(Оргео!L:L,MATCH(протокол!Q9,Оргео!F:F,0)) -> 41151 | F9: =INDEX(мандатка!I:I,MATCH(протокол!Q9,мандатка!F:F,0)) -> кмс | G9: =INDEX(мандатка!Z:Z,MATCH(протокол!Q9,мандатка!F:F,0)) -> ГБУ ДО «Московская академия современного пятиборья» | H9: =INDEX(ИТОГИ!G:G,MATCH(протокол!Q9,ИТОГИ!E:E,0)) -> 0.0051157407 | I9: =INDEX(ИТОГИ!H:H,MATCH(протокол!Q9,ИТОГИ!E:E,0)) -> (5) | J9: =INDEX(ИТОГИ!I:I,MATCH(протокол!Q9,ИТОГИ!E:E,0)) -> 0.0064583333 | K9: =INDEX(ИТОГИ!J:J,MATCH(протокол!Q9,ИТОГИ!E:E,0)) -> (2) | L9: =H9+J9 -> 0.011574074 | M9: =L9-$L$8 -> 0.0010532407 | N9: =M9/$L$8 -> 0.10011001 | O9: 1р | P9: =INDEX(мандатка!AC:AC,MATCH(протокол!Q9,мандатка!F:F,0)) -> Багазеев Александр Константинович | Q9: Давыдова Екатерина | R9: =INDEX(ИТОГИ!K:K,MATCH(протокол!Q9,ИТОГИ!E:E,0)) -> 0.011574074 | S9: 2 | T9: 0.0125 | U9: 0.013888889
A10: 3 | B10: =INDEX(Оргео!C:C,MATCH(протокол!Q10,Оргео!F:F,0)) -> Буханова | C10: =INDEX(Оргео!D:D,MATCH(протокол!Q10,Оргео!F:F,0)) -> Диана | D10: =INDEX(Оргео!E:E,MATCH(протокол!Q10,Оргео!F:F,0)) -> Дмитриевна | E10: =INDEX(Оргео!L:L,MATCH(протокол!Q10,Оргео!F:F,0)) -> 41282 | F10: =INDEX(мандатка!I:I,MATCH(протокол!Q10,мандатка!F:F,0)) -> 1ю | G10: =INDEX(мандатка!Z:Z,MATCH(протокол!Q10,мандатка!F:F,0)) -> ГБУ ДО «Московская академия современного пятиборья» | H10: =INDEX(ИТОГИ!G:G,MATCH(протокол!Q10,ИТОГИ!E:E,0)) -> 0.0045023148 | I10: =INDEX(ИТОГИ!H:H,MATCH(протокол!Q10,ИТОГИ!E:E,0)) -> (1) | J10: =INDEX(ИТОГИ!I:I,MATCH(протокол!Q10,ИТОГИ!E:E,0)) -> 0.0071990741 | K10: =INDEX(ИТОГИ!J:J,MATCH(протокол!Q10,ИТОГИ!E:E,0)) -> (7) | L10: =H10+J10 -> 0.011701389 | M10: =L10-$L$8 -> 0.0011805556 | N10: =M10/$L$8 -> 0.11221122 | O10: 1р | P10: =INDEX(мандатка!AC:AC,MATCH(протокол!Q10,мандатка!F:F,0)) -> Васильев Иван Михайлович | Q10: Буханова Диана | R10: =INDEX(ИТОГИ!K:K,MATCH(протокол!Q10,ИТОГИ!E:E,0)) -> 0.011701389 | S10: 3 | T10: 0.013194444 | U10: 0.014583333
A11: 4 | B11: =INDEX(Оргео!C:C,MATCH(протокол!Q11,Оргео!F:F,0)) -> Рогожина | C11: =INDEX(Оргео!D:D,MATCH(протокол!Q11,Оргео!F:F,0)) -> Дарья | D11: =INDEX(Оргео!E:E,MATCH(протокол!Q11,Оргео!F:F,0)) -> Антоновна | E11: =INDEX(Оргео!L:L,MATCH(протокол!Q11,Оргео!F:F,0)) -> 41323 | F11: =INDEX(мандатка!I:I,MATCH(протокол!Q11,мандатка!F:F,0)) -> 1р | G11: =INDEX(мандатка!Z:Z,MATCH(протокол!Q11,мандатка!F:F,0)) -> ГБПОУ «МССУОР № 2» Москомспорта | H11: =INDEX(ИТОГИ!G:G,MATCH(протокол!Q11,ИТОГИ!E:E,0)) -> 0.0049768519 | I11: =INDEX(ИТОГИ!H:H,MATCH(протокол!Q11,ИТОГИ!E:E,0)) -> (3) | J11: =INDEX(ИТОГИ!I:I,MATCH(протокол!Q11,ИТОГИ!E:E,0)) -> 0.0068171296 | K11: =INDEX(ИТОГИ!J:J,MATCH(протокол!Q11,ИТОГИ!E:E,0)) -> (3) | L11: =H11+J11 -> 0.011793981 | M11: =L11-$L$8 -> 0.0012731481 | N11: =M11/$L$8 -> 0.1210121 | O11: 1р | P11: =INDEX(мандатка!AC:AC,MATCH(протокол!Q11,мандатка!F:F,0)) -> Пахомова Марина Сергеевна | Q11: Рогожина Дарья | R11: =INDEX(ИТОГИ!K:K,MATCH(протокол!Q11,ИТОГИ!E:E,0)) -> 0.011793981 | S11: 1ю | T11: 0.013888889 | U11: 0.015625
A12: 5 | B12: =INDEX(Оргео!C:C,MATCH(протокол!Q12,Оргео!F:F,0)) -> Петрова | C12: =INDEX(Оргео!D:D,MATCH(протокол!Q12,Оргео!F:F,0)) -> Полина | D12: =INDEX(Оргео!E:E,MATCH(протокол!Q12,Оргео!F:F,0)) -> Сергеевна | E12: =INDEX(Оргео!L:L,MATCH(протокол!Q12,Оргео!F:F,0)) -> 41175 | F12: =INDEX(мандатка!I:I,MATCH(протокол!Q12,мандатка!F:F,0)) -> 1р | G12: =INDEX(мандатка!Z:Z,MATCH(протокол!Q12,мандатка!F:F,0)) -> ГБУ ДО «Московская академия современного пятиборья» | H12: =INDEX(ИТОГИ!G:G,MATCH(протокол!Q12,ИТОГИ!E:E,0)) -> 0.0050231481 | I12: =INDEX(ИТОГИ!H:H,MATCH(протокол!Q12,ИТОГИ!E:E,0)) -> (4) | J12: =INDEX(ИТОГИ!I:I,MATCH(протокол!Q12,ИТОГИ!E:E,0)) -> 0.0070949074 | K12: =INDEX(ИТОГИ!J:J,MATCH(протокол!Q12,ИТОГИ!E:E,0)) -> (6) | L12: =H12+J12 -> 0.012118056 | M12: =L12-$L$8 -> 0.0015972222 | N12: =M12/$L$8 -> 0.15181518 | O12: 1р | P12: =INDEX(мандатка!AC:AC,MATCH(протокол!Q12,мандатка!F:F,0)) -> Васильев Иван Михайлович | Q12: Петрова Полина | R12: =INDEX(ИТОГИ!K:K,MATCH(протокол!Q12,ИТОГИ!E:E,0)) -> 0.012118056 | S12: 2ю | T12: 0.014930556 | U12: 0.016666667
A13: 6 | B13: =INDEX(Оргео!C:C,MATCH(протокол!Q13,Оргео!F:F,0)) -> Сомова | C13: =INDEX(Оргео!D:D,MATCH(протокол!Q13,Оргео!F:F,0)) -> Алиса | D13: =INDEX(Оргео!E:E,MATCH(протокол!Q13,Оргео!F:F,0)) -> Евгеньевна | E13: =INDEX(Оргео!L:L,MATCH(протокол!Q13,Оргео!F:F,0)) -> 41617 | F13: =INDEX(мандатка!I:I,MATCH(протокол!Q13,мандатка!F:F,0)) -> 1р | G13: =INDEX(мандатка!Z:Z,MATCH(протокол!Q13,мандатка!F:F,0)) -> АНО «ДЮСШ «Акватикс» | H13: =INDEX(ИТОГИ!G:G,MATCH(протокол!Q13,ИТОГИ!E:E,0)) -> 0.0052546296 | I13: =INDEX(ИТОГИ!H:H,MATCH(протокол!Q13,ИТОГИ!E:E,0)) -> (7) | J13: =INDEX(ИТОГИ!I:I,MATCH(протокол!Q13,ИТОГИ!E:E,0)) -> 0.0069328704 | K13: =INDEX(ИТОГИ!J:J,MATCH(протокол!Q13,ИТОГИ!E:E,0)) -> (4) | L13: =H13+J13 -> 0.0121875 | M13: =L13-$L$8 -> 0.0016666667 | N13: =M13/$L$8 -> 0.15841584 | O13: 1р | P13: =INDEX(мандатка!AC:AC,MATCH(протокол!Q13,мандатка!F:F,0)) -> Борисов Евгений Валерьевич, Самсонов Иван Александрович | Q13: Сомова Алиса | R13: =INDEX(ИТОГИ!K:K,MATCH(протокол!Q13,ИТОГИ!E:E,0)) -> 0.0121875 | S13: 3ю | T13: 0.015625 | U13: 0.017708333
A14: 7 | B14: =INDEX(Оргео!C:C,MATCH(протокол!Q14,Оргео!F:F,0)) -> Жевагина | C14: =INDEX(Оргео!D:D,MATCH(протокол!Q14,Оргео!F:F,0)) -> Виктория | D14: =INDEX(Оргео!E:E,MATCH(протокол!Q14,Оргео!F:F,0)) -> Михайловна | E14: =INDEX(Оргео!L:L,MATCH(протокол!Q14,Оргео!F:F,0)) -> 41135 | F14: =INDEX(мандатка!I:I,MATCH(протокол!Q14,мандатка!F:F,0)) -> 2р | G14: =INDEX(мандатка!Z:Z,MATCH(протокол!Q14,мандатка!F:F,0)) -> ГБПОУ «МССУОР № 2» Москомспорта | H14: =INDEX(ИТОГИ!G:G,MATCH(протокол!Q14,ИТОГИ!E:E,0)) -> 0.0052430556 | I14: =INDEX(ИТОГИ!H:H,MATCH(протокол!Q14,ИТОГИ!E:E,0)) -> (6) | J14: =INDEX(ИТОГИ!I:I,MATCH(протокол!Q14,ИТОГИ!E:E,0)) -> 0.0072569444 | K14: =INDEX(ИТОГИ!J:J,MATCH(протокол!Q14,ИТОГИ!E:E,0)) -> (8) | L14: =H14+J14 -> 0.0125 | M14: =L14-$L$8 -> 0.0019791667 | N14: =M14/$L$8 -> 0.18811881 | O14: 1р | P14: =INDEX(мандатка!AC:AC,MATCH(протокол!Q14,мандатка!F:F,0)) -> Семиволос Алексей Юрьевич | Q14: Жевагина Виктория | R14: =INDEX(ИТОГИ!K:K,MATCH(протокол!Q14,ИТОГИ!E:E,0)) -> 0.0125
A15: 8 | B15: =INDEX(Оргео!C:C,MATCH(протокол!Q15,Оргео!F:F,0)) -> Ланцова | C15: =INDEX(Оргео!D:D,MATCH(протокол!Q15,Оргео!F:F,0)) -> Мария | D15: =INDEX(Оргео!E:E,MATCH(протокол!Q15,Оргео!F:F,0)) -> Андреевна | E15: =INDEX(Оргео!L:L,MATCH(протокол!Q15,Оргео!F:F,0)) -> 41583 | F15: =INDEX(мандатка!I:I,MATCH(протокол!Q15,мандатка!F:F,0)) -> 1р | G15: =INDEX(мандатка!Z:Z,MATCH(протокол!Q15,мандатка!F:F,0)) -> АНО «ДЮСШ «Акватикс» | H15: =INDEX(ИТОГИ!G:G,MATCH(протокол!Q15,ИТОГИ!E:E,0)) -> 0.0056365741 | I15: =INDEX(ИТОГИ!H:H,MATCH(протокол!Q15,ИТОГИ!E:E,0)) -> (8) | J15: =INDEX(ИТОГИ!I:I,MATCH(протокол!Q15,ИТОГИ!E:E,0)) -> 0.0069560185 | K15: =INDEX(ИТОГИ!J:J,MATCH(протокол!Q15,ИТОГИ!E:E,0)) -> (5) | L15: =H15+J15 -> 0.012592593 | M15: =L15-$L$8 -> 0.0020717593 | N15: =M15/$L$8 -> 0.19691969 | O15: 1р | P15: =INDEX(мандатка!AC:AC,MATCH(протокол!Q15,мандатка!F:F,0)) -> Борисов Евгений Валерьевич, Самсонов Иван Александрович | Q15: Ланцова Мария | R15: =INDEX(ИТОГИ!K:K,MATCH(протокол!Q15,ИТОГИ!E:E,0)) -> 0.012592593
A16: 9 | B16: =INDEX(Оргео!C:C,MATCH(протокол!Q16,Оргео!F:F,0)) -> Жаринова | C16: =INDEX(Оргео!D:D,MATCH(протокол!Q16,Оргео!F:F,0)) -> Анна | D16: =INDEX(Оргео!E:E,MATCH(протокол!Q16,Оргео!F:F,0)) -> Владимировна | E16: =INDEX(Оргео!L:L,MATCH(протокол!Q16,Оргео!F:F,0)) -> 41557 | F16: =INDEX(мандатка!I:I,MATCH(протокол!Q16,мандатка!F:F,0)) -> 2р | G16: =INDEX(мандатка!Z:Z,MATCH(протокол!Q16,мандатка!F:F,0)) -> ГБПОУ «МССУОР № 2» Москомспорта | H16: =INDEX(ИТОГИ!G:G,MATCH(протокол!Q16,ИТОГИ!E:E,0)) -> 0.0056597222 | I16: =INDEX(ИТОГИ!H:H,MATCH(протокол!Q16,ИТОГИ!E:E,0)) -> (9) | J16: =INDEX(ИТОГИ!I:I,MATCH(протокол!Q16,ИТОГИ!E:E,0)) -> 0.0073611111 | K16: =INDEX(ИТОГИ!J:J,MATCH(протокол!Q16,ИТОГИ!E:E,0)) -> (9) | L16: =H16+J16 -> 0.013020833 | M16: =L16-$L$8 -> 0.0025 | N16: =M16/$L$8 -> 0.23762376 | O16: 1р | P16: =INDEX(мандатка!AC:AC,MATCH(протокол!Q16,мандатка!F:F,0)) -> Семиволос Алексей Юрьевич | Q16: Жаринова Анна | R16: =INDEX(ИТОГИ!K:K,MATCH(протокол!Q16,ИТОГИ!E:E,0)) -> 0.013020833
A17: 10 | B17: =INDEX(Оргео!C:C,MATCH(протокол!Q17,Оргео!F:F,0)) -> Украинцева | C17: =INDEX(Оргео!D:D,MATCH(протокол!Q17,Оргео!F:F,0)) -> Софья | D17: =INDEX(Оргео!E:E,MATCH(протокол!Q17,Оргео!F:F,0)) -> Романовна | E17: =INDEX(Оргео!L:L,MATCH(протокол!Q17,Оргео!F:F,0)) -> 41525 | F17: =INDEX(мандатка!I:I,MATCH(протокол!Q17,мандатка!F:F,0)) -> 3р | G17: =INDEX(мандатка!Z:Z,MATCH(протокол!Q17,мандатка!F:F,0)) -> АНО «ДЮСШ «Акватикс» | H17: =INDEX(ИТОГИ!G:G,MATCH(протокол!Q17,ИТОГИ!E:E,0)) -> 0.0057986111 | I17: =INDEX(ИТОГИ!H:H,MATCH(протокол!Q17,ИТОГИ!E:E,0)) -> (16) | J17: =INDEX(ИТОГИ!I:I,MATCH(протокол!Q17,ИТОГИ!E:E,0)) -> 0.0077083333 | K17: =INDEX(ИТОГИ!J:J,MATCH(протокол!Q17,ИТОГИ!E:E,0)) -> (12) | L17: =H17+J17 -> 0.013506944 | M17: =L17-$L$8 -> 0.0029861111 | N17: =M17/$L$8 -> 0.28382838 | O17: 2р | P17: =INDEX(мандатка!AC:AC,MATCH(протокол!Q17,мандатка!F:F,0)) -> Трифанкин Степан Николаевич, Борисов Евгений Валерьевич | Q17: Украинцева Софья | R17: =INDEX(ИТОГИ!K:K,MATCH(протокол!Q17,ИТОГИ!E:E,0)) -> 0.013506944
D19: Главный судья | I19: Багазеев А.К., СС1К
D21: Главный секретарь | I21: Парфенцова Т.М., ССВК
G22: ПЕРВЕНСТВО МОСКВЫ
G23: по триатлону
G24: (спортивная дисциплина: акватлон)
G25: 500м плав + 2,5км бег
A26: Место проведения: г. Москва ЦСП "Северный" | M26: 1 марта 2026 г.
A27: Место | B27: Фамилия | C27: Имя | D27: Отчество | E27: ДР | F27: Квалиф. | G27: Спортивная организация | H27: ПЛАВ 500м | J27: БЕГ 2,5км | L27: Результат | M27: Отстав. мин:сек / %% | O27: Выполн. | P27: Тренеры | Q27: Ж
G28: ДЕВУШКИ 15-17 лет | S28: 500+2,5 | T28: М | U28: Ж
A29: 1 | B29: =INDEX(Оргео!C:C,MATCH(протокол!Q29,Оргео!F:F,0)) -> Ключарёва | C29: =INDEX(Оргео!D:D,MATCH(протокол!Q29,Оргео!F:F,0)) -> Иоанна | D29: =INDEX(Оргео!E:E,MATCH(протокол!Q29,Оргео!F:F,0)) -> Олеговна | E29: =INDEX(Оргео!L:L,MATCH(протокол!Q29,Оргео!F:F,0)) -> 40717 | F29: =INDEX(мандатка!I:I,MATCH(протокол!Q29,мандатка!F:F,0)) -> кмс | G29: =INDEX(мандатка!Z:Z,MATCH(протокол!Q29,мандатка!F:F,0)) -> ГБУ ДО «Московская академия современного пятиборья» | H29: =INDEX(ИТОГИ!G:G,MATCH(протокол!Q29,ИТОГИ!E:E,0)) -> 0.0045486111 | I29: =INDEX(ИТОГИ!H:H,MATCH(протокол!Q29,ИТОГИ!E:E,0)) -> (1) | J29: =INDEX(ИТОГИ!I:I,MATCH(протокол!Q29,ИТОГИ!E:E,0)) -> 0.006087963 | K29: =INDEX(ИТОГИ!J:J,MATCH(протокол!Q29,ИТОГИ!E:E,0)) -> (1) | L29: =H29+J29 -> 0.010636574 | M29: - | O29: 1р | P29: =INDEX(мандатка!AC:AC,MATCH(протокол!Q29,мандатка!F:F,0)) -> Багазеев Александр Константинович | Q29: Ключарёва Иоанна | R29: =INDEX(ИТОГИ!K:K,MATCH(протокол!Q29,ИТОГИ!E:E,0)) -> 0.010636574 | S29: 1 | T29: 0.011805556 | U29: 0.013194444
A30: 2 | B30: =INDEX(Оргео!C:C,MATCH(протокол!Q30,Оргео!F:F,0)) -> Титова | C30: =INDEX(Оргео!D:D,MATCH(протокол!Q30,Оргео!F:F,0)) -> Алина | D30: =INDEX(Оргео!E:E,MATCH(протокол!Q30,Оргео!F:F,0)) -> Павловна | E30: =INDEX(Оргео!L:L,MATCH(протокол!Q30,Оргео!F:F,0)) -> 40701 | F30: =INDEX(мандатка!I:I,MATCH(протокол!Q30,мандатка!F:F,0)) -> кмс | G30: =INDEX(мандатка!Z:Z,MATCH(протокол!Q30,мандатка!F:F,0)) -> ГБУ ДО «Московская академия современного пятиборья» | H30: =INDEX(ИТОГИ!G:G,MATCH(протокол!Q30,ИТОГИ!E:E,0)) -> 0.0046180556 | I30: =INDEX(ИТОГИ!H:H,MATCH(протокол!Q30,ИТОГИ!E:E,0)) -> (2) | J30: =INDEX(ИТОГИ!I:I,MATCH(протокол!Q30,ИТОГИ!E:E,0)) -> 0.0062847222 | K30: =INDEX(ИТОГИ!J:J,MATCH(протокол!Q30,ИТОГИ!E:E,0)) -> (3) | L30: =H30+J30 -> 0.010902778 | M30: =L30-$L$29 -> 0.0002662037 | N30: =M30/$L$29 -> 0.025027203 | O30: 1р | P30: =INDEX(мандатка!AC:AC,MATCH(протокол!Q30,мандатка!F:F,0)) -> Багазеев Александр Константинович | Q30: Титова Алина | R30: =INDEX(ИТОГИ!K:K,MATCH(протокол!Q30,ИТОГИ!E:E,0)) -> 0.010902778 | S30: 2 | T30: 0.0125 | U30: 0.013888889
A31: 3 | B31: =INDEX(Оргео!C:C,MATCH(протокол!Q31,Оргео!F:F,0)) -> Длютрова | C31: =INDEX(Оргео!D:D,MATCH(протокол!Q31,Оргео!F:F,0)) -> Ульяна | D31: =INDEX(Оргео!E:E,MATCH(протокол!Q31,Оргео!F:F,0)) -> Юрьевна | E31: =INDEX(Оргео!L:L,MATCH(протокол!Q31,Оргео!F:F,0)) -> 40717 | F31: =INDEX(мандатка!I:I,MATCH(протокол!Q31,мандатка!F:F,0)) -> кмс | G31: =INDEX(мандатка!Z:Z,MATCH(протокол!Q31,мандатка!F:F,0)) -> ГБПОУ «МССУОР № 2» Москомспорта | H31: =INDEX(ИТОГИ!G:G,MATCH(протокол!Q31,ИТОГИ!E:E,0)) -> 0.0046643519 | I31: =INDEX(ИТОГИ!H:H,MATCH(протокол!Q31,ИТОГИ!E:E,0)) -> (5) | J31: =INDEX(ИТОГИ!I:I,MATCH(протокол!Q31,ИТОГИ!E:E,0)) -> 0.0062962963 | K31: =INDEX(ИТОГИ!J:J,MATCH(протокол!Q31,ИТОГИ!E:E,0)) -> (4) | L31: =H31+J31 -> 0.010960648 | M31: =L31-$L$29 -> 0.00032407407 | N31: =M31/$L$29 -> 0.0304679 | O31: 1р | P31: =INDEX(мандатка!AC:AC,MATCH(протокол!Q31,мандатка!F:F,0)) -> Антошина Ирина Николаевна | Q31: Длютрова Ульяна | R31: =INDEX(ИТОГИ!K:K,MATCH(протокол!Q31,ИТОГИ!E:E,0)) -> 0.010960648 | S31: 3 | T31: 0.013194444 | U31: 0.014583333
A32: 4 | B32: =INDEX(Оргео!C:C,MATCH(протокол!Q32,Оргео!F:F,0)) -> Корюкалова | C32: =INDEX(Оргео!D:D,MATCH(протокол!Q32,Оргео!F:F,0)) -> Ева | D32: =INDEX(Оргео!E:E,MATCH(протокол!Q32,Оргео!F:F,0)) -> Станиславовна | E32: =INDEX(Оргео!L:L,MATCH(протокол!Q32,Оргео!F:F,0)) -> 39837 | F32: =INDEX(мандатка!I:I,MATCH(протокол!Q32,мандатка!F:F,0)) -> кмс | G32: =INDEX(мандатка!Z:Z,MATCH(протокол!Q32,мандатка!F:F,0)) -> ГБПОУ «МССУОР № 2» Москомспорта | H32: =INDEX(ИТОГИ!G:G,MATCH(протокол!Q32,ИТОГИ!E:E,0)) -> 0.0049768519 | I32: =INDEX(ИТОГИ!H:H,MATCH(протокол!Q32,ИТОГИ!E:E,0)) -> (12) | J32: =INDEX(ИТОГИ!I:I,MATCH(протокол!Q32,ИТОГИ!E:E,0)) -> 0.0061921296 | K32: =INDEX(ИТОГИ!J:J,MATCH(протокол!Q32,ИТОГИ!E:E,0)) -> (2) | L32: =H32+J32 -> 0.011168981 | M32: =L32-$L$29 -> 0.00053240741 | N32: =M32/$L$29 -> 0.050054407 | O32: 1р | P32: =INDEX(мандатка!AC:AC,MATCH(протокол!Q32,мандатка!F:F,0)) -> Антошина Ирина Николаевна | Q32: Корюкалова Ева | R32: =INDEX(ИТОГИ!K:K,MATCH(протокол!Q32,ИТОГИ!E:E,0)) -> 0.011168981 | S32: 1ю | T32: 0.013888889 | U32: 0.015625
A33: 5 | B33: =INDEX(Оргео!C:C,MATCH(протокол!Q33,Оргео!F:F,0)) -> Семенова | C33: =INDEX(Оргео!D:D,MATCH(протокол!Q33,Оргео!F:F,0)) -> Юлия | D33: =INDEX(Оргео!E:E,MATCH(протокол!Q33,Оргео!F:F,0)) -> Олеговна | E33: =INDEX(Оргео!L:L,MATCH(протокол!Q33,Оргео!F:F,0)) -> 40725 | F33: =INDEX(мандатка!I:I,MATCH(протокол!Q33,мандатка!F:F,0)) -> кмс | G33: =INDEX(мандатка!Z:Z,MATCH(протокол!Q33,мандатка!F:F,0)) -> ГБУ ДО «Московская академия современного пятиборья» | H33: =INDEX(ИТОГИ!G:G,MATCH(протокол!Q33,ИТОГИ!E:E,0)) -> 0.0047222222 | I33: =INDEX(ИТОГИ!H:H,MATCH(протокол!Q33,ИТОГИ!E:E,0)) -> (7) | J33: =INDEX(ИТОГИ!I:I,MATCH(протокол!Q33,ИТОГИ!E:E,0)) -> 0.0065046296 | K33: =INDEX(ИТОГИ!J:J,MATCH(протокол!Q33,ИТОГИ!E:E,0)) -> (5) | L33: =H33+J33 -> 0.011226852 | M33: =L33-$L$29 -> 0.00059027778 | N33: =M33/$L$29 -> 0.055495103 | O33: 1р | P33: =INDEX(мандатка!AC:AC,MATCH(протокол!Q33,мандатка!F:F,0)) -> Багазеев Александр Константинович | Q33: Семенова Юлия | R33: =INDEX(ИТОГИ!K:K,MATCH(протокол!Q33,ИТОГИ!E:E,0)) -> 0.011226852 | S33: 2ю | T33: 0.014930556 | U33: 0.016666667
A34: 6 | B34: =INDEX(Оргео!C:C,MATCH(протокол!Q34,Оргео!F:F,0)) -> Куфман | C34: =INDEX(Оргео!D:D,MATCH(протокол!Q34,Оргео!F:F,0)) -> Варвара | D34: =INDEX(Оргео!E:E,MATCH(протокол!Q34,Оргео!F:F,0)) -> Ильинична | E34: =INDEX(Оргео!L:L,MATCH(протокол!Q34,Оргео!F:F,0)) -> 40223 | F34: =INDEX(мандатка!I:I,MATCH(протокол!Q34,мандатка!F:F,0)) -> кмс | G34: =INDEX(мандатка!Z:Z,MATCH(протокол!Q34,мандатка!F:F,0)) -> ГБПОУ «МССУОР № 2» Москомспорта | H34: =INDEX(ИТОГИ!G:G,MATCH(протокол!Q34,ИТОГИ!E:E,0)) -> 0.0047916667 | I34: =INDEX(ИТОГИ!H:H,MATCH(протокол!Q34,ИТОГИ!E:E,0)) -> (11) | J34: =INDEX(ИТОГИ!I:I,MATCH(протокол!Q34,ИТОГИ!E:E,0)) -> 0.0065509259 | K34: =INDEX(ИТОГИ!J:J,MATCH(протокол!Q34,ИТОГИ!E:E,0)) -> (6) | L34: =H34+J34 -> 0.011342593 | M34: =L34-$L$29 -> 0.00070601852 | N34: =M34/$L$29 -> 0.066376496 | O34: 1р | P34: =INDEX(мандатка!AC:AC,MATCH(протокол!Q34,мандатка!F:F,0)) -> Эсаулова Ольга Олеговна | Q34: Куфман Варвара | R34: =INDEX(ИТОГИ!K:K,MATCH(протокол!Q34,ИТОГИ!E:E,0)) -> 0.011342593 | S34: 3ю | T34: 0.015625 | U34: 0.017708333
A35: 7 | B35: =INDEX(Оргео!C:C,MATCH(протокол!Q35,Оргео!F:F,0)) -> Дащенко | C35: =INDEX(Оргео!D:D,MATCH(протокол!Q35,Оргео!F:F,0)) -> Элина | D35: =INDEX(Оргео!E:E,MATCH(протокол!Q35,Оргео!F:F,0)) -> Андреевна | E35: =INDEX(Оргео!L:L,MATCH(протокол!Q35,Оргео!F:F,0)) -> 40240 | F35: =INDEX(мандатка!I:I,MATCH(протокол!Q35,мандатка!F:F,0)) -> кмс | G35: =INDEX(мандатка!Z:Z,MATCH(протокол!Q35,мандатка!F:F,0)) -> ГБПОУ «МССУОР № 2» Москомспорта | H35: =INDEX(ИТОГИ!G:G,MATCH(протокол!Q35,ИТОГИ!E:E,0)) -> 0.0046527778 | I35: =INDEX(ИТОГИ!H:H,MATCH(протокол!Q35,ИТОГИ!E:E,0)) -> (3) | J35: =INDEX(ИТОГИ!I:I,MATCH(протокол!Q35,ИТОГИ!E:E,0)) -> 0.0069212963 | K35: =INDEX(ИТОГИ!J:J,MATCH(протокол!Q35,ИТОГИ!E:E,0)) -> (10) | L35: =H35+J35 -> 0.011574074 | M35: =L35-$L$29 -> 0.0009375 | N35: =M35/$L$29 -> 0.088139282 | O35: 1р | P35: =INDEX(мандатка!AC:AC,MATCH(протокол!Q35,мандатка!F:F,0)) -> Семиволос Алексей Юрьевич | Q35: Дащенко Элина | R35: =INDEX(ИТОГИ!K:K,MATCH(протокол!Q35,ИТОГИ!E:E,0)) -> 0.011574074
A36: 8 | B36: =INDEX(Оргео!C:C,MATCH(протокол!Q36,Оргео!F:F,0)) -> Пронюк | C36: =INDEX(Оргео!D:D,MATCH(протокол!Q36,Оргео!F:F,0)) -> Анастасия | D36: =INDEX(Оргео!E:E,MATCH(протокол!Q36,Оргео!F:F,0)) -> Вячеславовна | E36: =INDEX(Оргео!L:L,MATCH(протокол!Q36,Оргео!F:F,0)) -> 40183 | F36: =INDEX(мандатка!I:I,MATCH(протокол!Q36,мандатка!F:F,0)) -> кмс | G36: =INDEX(мандатка!Z:Z,MATCH(протокол!Q36,мандатка!F:F,0)) -> ГБУ ДО «Московская академия современного пятиборья» | H36: =INDEX(ИТОГИ!G:G,MATCH(протокол!Q36,ИТОГИ!E:E,0)) -> 0.0047337963 | I36: =INDEX(ИТОГИ!H:H,MATCH(протокол!Q36,ИТОГИ!E:E,0)) -> (8) | J36: =INDEX(ИТОГИ!I:I,MATCH(протокол!Q36,ИТОГИ!E:E,0)) -> 0.0069212963 | K36: =INDEX(ИТОГИ!J:J,MATCH(протокол!Q36,ИТОГИ!E:E,0)) -> (9) | L36: =H36+J36 -> 0.011655093 | M36: =L36-$L$29 -> 0.0010185185 | N36: =M36/$L$29 -> 0.095756257 | O36: 1р | P36: =INDEX(мандатка!AC:AC,MATCH(протокол!Q36,мандатка!F:F,0)) -> Анисимова Нина Валентиновна | Q36: Пронюк Анастасия | R36: =INDEX(ИТОГИ!K:K,MATCH(протокол!Q36,ИТОГИ!E:E,0)) -> 0.011655093
A37: 9 | B37: =INDEX(Оргео!C:C,MATCH(протокол!Q37,Оргео!F:F,0)) -> Филина | C37: =INDEX(Оргео!D:D,MATCH(протокол!Q37,Оргео!F:F,0)) -> Анна | D37: =INDEX(Оргео!E:E,MATCH(протокол!Q37,Оргео!F:F,0)) -> Дмитриевна | E37: =INDEX(Оргео!L:L,MATCH(протокол!Q37,Оргео!F:F,0)) -> 40675 | F37: =INDEX(мандатка!I:I,MATCH(протокол!Q37,мандатка!F:F,0)) -> кмс | G37: =INDEX(мандатка!Z:Z,MATCH(протокол!Q37,мандатка!F:F,0)) -> ГБУ ДО «Московская академия современного пятиборья» | H37: =INDEX(ИТОГИ!G:G,MATCH(протокол!Q37,ИТОГИ!E:E,0)) -> 0.0050347222 | I37: =INDEX(ИТОГИ!H:H,MATCH(протокол!Q37,ИТОГИ!E:E,0)) -> (13) | J37: =INDEX(ИТОГИ!I:I,MATCH(протокол!Q37,ИТОГИ!E:E,0)) -> 0.0067708333 | K37: =INDEX(ИТОГИ!J:J,MATCH(протокол!Q37,ИТОГИ!E:E,0)) -> (8) | L37: =H37+J37 -> 0.011805556 | M37: =L37-$L$29 -> 0.0011689815 | N37: =M37/$L$29 -> 0.10990207 | O37: 1р | P37: =INDEX(мандатка!AC:AC,MATCH(протокол!Q37,мандатка!F:F,0)) -> Васильев Иван Михайлович | Q37: Филина Анна | R37: =INDEX(ИТОГИ!K:K,MATCH(протокол!Q37,ИТОГИ!E:E,0)) -> 0.011805556
A38: 10 | B38: =INDEX(Оргео!C:C,MATCH(протокол!Q38,Оргео!F:F,0)) -> Игошина | C38: =INDEX(Оргео!D:D,MATCH(протокол!Q38,Оргео!F:F,0)) -> Дарина | D38: =INDEX(Оргео!E:E,MATCH(протокол!Q38,Оргео!F:F,0)) -> Алексеевна | E38: =INDEX(Оргео!L:L,MATCH(протокол!Q38,Оргео!F:F,0)) -> 40375 | F38: =INDEX(мандатка!I:I,MATCH(протокол!Q38,мандатка!F:F,0)) -> 1р | G38: =INDEX(мандатка!Z:Z,MATCH(протокол!Q38,мандатка!F:F,0)) -> ГБПОУ «МССУОР № 2» Москомспорта | H38: =INDEX(ИТОГИ!G:G,MATCH(протокол!Q38,ИТОГИ!E:E,0)) -> 0.0054398148 | I38: =INDEX(ИТОГИ!H:H,MATCH(протокол!Q38,ИТОГИ!E:E,0)) -> (14) | J38: =INDEX(ИТОГИ!I:I,MATCH(протокол!Q38,ИТОГИ!E:E,0)) -> 0.0066087963 | K38: =INDEX(ИТОГИ!J:J,MATCH(протокол!Q38,ИТОГИ!E:E,0)) -> (7) | L38: =H38+J38 -> 0.012048611 | M38: =L38-$L$29 -> 0.001412037 | N38: =M38/$L$29 -> 0.13275299 | O38: 1р | P38: =INDEX(мандатка!AC:AC,MATCH(протокол!Q38,мандатка!F:F,0)) -> Антошина Ирина Николаевна | Q38: Игошина Дарина | R38: =INDEX(ИТОГИ!K:K,MATCH(протокол!Q38,ИТОГИ!E:E,0)) -> 0.012048611
A39: 11 | B39: =INDEX(Оргео!C:C,MATCH(протокол!Q39,Оргео!F:F,0)) -> Морданова | C39: =INDEX(Оргео!D:D,MATCH(протокол!Q39,Оргео!F:F,0)) -> Софья | D39: =INDEX(Оргео!E:E,MATCH(протокол!Q39,Оргео!F:F,0)) -> Михайловна | E39: =INDEX(Оргео!L:L,MATCH(протокол!Q39,Оргео!F:F,0)) -> 39991 | F39: =INDEX(мандатка!I:I,MATCH(протокол!Q39,мандатка!F:F,0)) -> кмс | G39: =INDEX(мандатка!Z:Z,MATCH(протокол!Q39,мандатка!F:F,0)) -> ГБУ ДО «Московская академия современного пятиборья» | H39: =INDEX(ИТОГИ!G:G,MATCH(протокол!Q39,ИТОГИ!E:E,0)) -> 0.0046527778 | I39: =INDEX(ИТОГИ!H:H,MATCH(протокол!Q39,ИТОГИ!E:E,0)) -> (3) | J39: =INDEX(ИТОГИ!I:I,MATCH(протокол!Q39,ИТОГИ!E:E,0)) -> 0.0078703704 | K39: =INDEX(ИТОГИ!J:J,MATCH(протокол!Q39,ИТОГИ!E:E,0)) -> (13) | L39: =H39+J39 -> 0.012523148 | M39: =L39-$L$29 -> 0.0018865741 | N39: =M39/$L$29 -> 0.1773667 | O39: 1р | P39: =INDEX(мандатка!AC:AC,MATCH(протокол!Q39,мандатка!F:F,0)) -> Анисимова Нина Валентиновна | Q39: Морданова Софья | R39: =INDEX(ИТОГИ!K:K,MATCH(протокол!Q39,ИТОГИ!E:E,0)) -> 0.012523148
A40: 12 | B40: =INDEX(Оргео!C:C,MATCH(протокол!Q40,Оргео!F:F,0)) -> Лабанюк | C40: =INDEX(Оргео!D:D,MATCH(протокол!Q40,Оргео!F:F,0)) -> Анна | D40: =INDEX(Оргео!E:E,MATCH(протокол!Q40,Оргео!F:F,0)) -> Денисовна | E40: =INDEX(Оргео!L:L,MATCH(протокол!Q40,Оргео!F:F,0)) -> 40445 | F40: =INDEX(мандатка!I:I,MATCH(протокол!Q40,мандатка!F:F,0)) -> 1р | G40: =INDEX(мандатка!Z:Z,MATCH(протокол!Q40,мандатка!F:F,0)) -> АНО «ДЮСШ «Акватикс» | H40: =INDEX(ИТОГИ!G:G,MATCH(протокол!Q40,ИТОГИ!E:E,0)) -> 0.0055092593 | I40: =INDEX(ИТОГИ!H:H,MATCH(протокол!Q40,ИТОГИ!E:E,0)) -> (15) | J40: =INDEX(ИТОГИ!I:I,MATCH(протокол!Q40,ИТОГИ!E:E,0)) -> 0.0070833333 | K40: =INDEX(ИТОГИ!J:J,MATCH(протокол!Q40,ИТОГИ!E:E,0)) -> (11) | L40: =H40+J40 -> 0.012592593 | M40: =L40-$L$29 -> 0.0019560185 | N40: =M40/$L$29 -> 0.18389554 | O40: 1р | P40: =INDEX(мандатка!AC:AC,MATCH(протокол!Q40,мандатка!F:F,0)) -> Борисов Евгений Валерьевич, Самсонов Иван Александрович | Q40: Лабанюк Анна | R40: =INDEX(ИТОГИ!K:K,MATCH(протокол!Q40,ИТОГИ!E:E,0)) -> 0.012592593
A41: 13 | B41: =INDEX(Оргео!C:C,MATCH(протокол!Q41,Оргео!F:F,0)) -> Силина | C41: =INDEX(Оргео!D:D,MATCH(протокол!Q41,Оргео!F:F,0)) -> Кира | D41: =INDEX(Оргео!E:E,MATCH(протокол!Q41,Оргео!F:F,0)) -> Олеговна | E41: =INDEX(Оргео!L:L,MATCH(протокол!Q41,Оргео!F:F,0)) -> 40667 | F41: =INDEX(мандатка!I:I,MATCH(протокол!Q41,мандатка!F:F,0)) -> 1р | G41: =INDEX(мандатка!Z:Z,MATCH(протокол!Q41,мандатка!F:F,0)) -> ГБПОУ «МССУОР № 2» Москомспорта | H41: =INDEX(ИТОГИ!G:G,MATCH(протокол!Q41,ИТОГИ!E:E,0)) -> 0.0046643519 | I41: =INDEX(ИТОГИ!H:H,MATCH(протокол!Q41,ИТОГИ!E:E,0)) -> (5) | J41: =INDEX(ИТОГИ!I:I,MATCH(протокол!Q41,ИТОГИ!E:E,0)) -> 0.0083333333 | K41: =INDEX(ИТОГИ!J:J,MATCH(протокол!Q41,ИТОГИ!E:E,0)) -> (14) | L41: =H41+J41 -> 0.012997685 | M41: =L41-$L$29 -> 0.0023611111 | N41: =M41/$L$29 -> 0.22198041 | O41: 1р | P41: =INDEX(мандатка!AC:AC,MATCH(протокол!Q41,мандатка!F:F,0)) -> Семиволос Алексей Юрьевич | Q41: Силина Кира | R41: =INDEX(ИТОГИ!K:K,MATCH(протокол!Q41,ИТОГИ!E:E,0)) -> 0.012997685
A42: н/ф | B42: =INDEX(Оргео!C:C,MATCH(протокол!Q42,Оргео!F:F,0)) -> Маркина | C42: =INDEX(Оргео!D:D,MATCH(протокол!Q42,Оргео!F:F,0)) -> Дарья | D42: =INDEX(Оргео!E:E,MATCH(протокол!Q42,Оргео!F:F,0)) -> Владимировна | E42: =INDEX(Оргео!L:L,MATCH(протокол!Q42,Оргео!F:F,0)) -> 40687 | F42: =INDEX(мандатка!I:I,MATCH(протокол!Q42,мандатка!F:F,0)) -> 1р | G42: =INDEX(мандатка!Z:Z,MATCH(протокол!Q42,мандатка!F:F,0)) -> ГБУ ДО «Московская академия современного пятиборья» | H42: =INDEX(ИТОГИ!G:G,MATCH(протокол!Q42,ИТОГИ!E:E,0)) -> 0.0047337963 | I42: =INDEX(ИТОГИ!H:H,MATCH(протокол!Q42,ИТОГИ!E:E,0)) -> (8) | J42: =INDEX(ИТОГИ!I:I,MATCH(протокол!Q42,ИТОГИ!E:E,0)) -> сошел | L42: н/ф | P42: =INDEX(мандатка!AC:AC,MATCH(протокол!Q42,мандатка!F:F,0)) -> Васильев Иван Михайлович | Q42: Маркина Дарья
A43: н/ф | B43: =INDEX(Оргео!C:C,MATCH(протокол!Q43,Оргео!F:F,0)) -> Зовская | C43: =INDEX(Оргео!D:D,MATCH(протокол!Q43,Оргео!F:F,0)) -> Софья | D43: =INDEX(Оргео!E:E,MATCH(протокол!Q43,Оргео!F:F,0)) -> Дмитриевна | E43: =INDEX(Оргео!L:L,MATCH(протокол!Q43,Оргео!F:F,0)) -> 40079 | F43: =INDEX(мандатка!I:I,MATCH(протокол!Q43,мандатка!F:F,0)) -> кмс | G43: =INDEX(мандатка!Z:Z,MATCH(протокол!Q43,мандатка!F:F,0)) -> ГБУ ДО «Московская академия современного пятиборья» | H43: =INDEX(ИТОГИ!G:G,MATCH(протокол!Q43,ИТОГИ!E:E,0)) -> 0.0047685185 | I43: =INDEX(ИТОГИ!H:H,MATCH(протокол!Q43,ИТОГИ!E:E,0)) -> (10) | J43: =INDEX(ИТОГИ!I:I,MATCH(протокол!Q43,ИТОГИ!E:E,0)) -> сошел | L43: н/ф | P43: =INDEX(мандатка!AC:AC,MATCH(протокол!Q43,мандатка!F:F,0)) -> Анисимова Нина Валентиновна | Q43: Зовская Софья
D45: Главный судья | I45: Багазеев А.К., СС1К
D47: Главный секретарь | I47: Парфенцова Т.М., ССВК
G48: ПЕРВЕНСТВО МОСКВЫ
G49: по триатлону
G50: (спортивная дисциплина: акватлон)
G51: 500м плав + 2,5км бег
A52: Место проведения: г. Москва ЦСП "Северный" | M52: 1 марта 2026 г.
A53: Место | B53: Фамилия | C53: Имя | D53: Отчество | E53: ДР | F53: Квалиф. | G53: Спортивная организация | H53: ПЛАВ 500м | J53: БЕГ 2,5км | L53: Результат | M53: Отстав. мин:сек / %% | O53: Выполн. | P53: Тренеры | Q53: М
G54: ЮНОШИ 13-14 лет | S54: 500+2,5 | T54: М | U54: Ж
A55: 1 | B55: =INDEX(Оргео!C:C,MATCH(протокол!Q55,Оргео!F:F,0)) -> Медведев | C55: =INDEX(Оргео!D:D,MATCH(протокол!Q55,Оргео!F:F,0)) -> Антон | D55: =INDEX(Оргео!E:E,MATCH(протокол!Q55,Оргео!F:F,0)) -> Павлович | E55: =INDEX(Оргео!L:L,MATCH(протокол!Q55,Оргео!F:F,0)) -> 40998 | F55: =INDEX(мандатка!I:I,MATCH(протокол!Q55,мандатка!F:F,0)) -> 1р | G55: =INDEX(мандатка!Z:Z,MATCH(протокол!Q55,мандатка!F:F,0)) -> ГБПОУ «МССУОР № 2» Москомспорта | H55: =INDEX(ИТОГИ!G:G,MATCH(протокол!Q55,ИТОГИ!E:E,0)) -> 0.0040740741 | I55: =INDEX(ИТОГИ!H:H,MATCH(протокол!Q55,ИТОГИ!E:E,0)) -> (1) | J55: =INDEX(ИТОГИ!I:I,MATCH(протокол!Q55,ИТОГИ!E:E,0)) -> 0.0056018519 | K55: =INDEX(ИТОГИ!J:J,MATCH(протокол!Q55,ИТОГИ!E:E,0)) -> (1) | L55: =H55+J55 -> 0.0096759259 | M55: - | O55: 1р | P55: =INDEX(мандатка!AC:AC,MATCH(протокол!Q55,мандатка!F:F,0)) -> Эсаулова Ольга Олеговна | Q55: Медведев Антон | R55: =INDEX(ИТОГИ!K:K,MATCH(протокол!Q55,ИТОГИ!E:E,0)) -> 0.0096759259 | S55: 1 | T55: 0.011805556 | U55: 0.013194444
A56: 2 | B56: =INDEX(Оргео!C:C,MATCH(протокол!Q56,Оргео!F:F,0)) -> Акиньшин | C56: =INDEX(Оргео!D:D,MATCH(протокол!Q56,Оргео!F:F,0)) -> Платон | D56: =INDEX(Оргео!E:E,MATCH(протокол!Q56,Оргео!F:F,0)) -> Михайлович | E56: =INDEX(Оргео!L:L,MATCH(протокол!Q56,Оргео!F:F,0)) -> 40957 | F56: =INDEX(мандатка!I:I,MATCH(протокол!Q56,мандатка!F:F,0)) -> кмс | G56: =INDEX(мандатка!Z:Z,MATCH(протокол!Q56,мандатка!F:F,0)) -> ГБУ ДО «Московская академия современного пятиборья» | H56: =INDEX(ИТОГИ!G:G,MATCH(протокол!Q56,ИТОГИ!E:E,0)) -> 0.0041550926 | I56: =INDEX(ИТОГИ!H:H,MATCH(протокол!Q56,ИТОГИ!E:E,0)) -> (2) | J56: =INDEX(ИТОГИ!I:I,MATCH(протокол!Q56,ИТОГИ!E:E,0)) -> 0.0056597222 | K56: =INDEX(ИТОГИ!J:J,MATCH(протокол!Q56,ИТОГИ!E:E,0)) -> (2) | L56: =H56+J56 -> 0.0098148148 | M56: =L56-$L$55 -> 0.00013888889 | N56: =M56/$L$55 -> 0.014354067 | O56: 1р | P56: =INDEX(мандатка!AC:AC,MATCH(протокол!Q56,мандатка!F:F,0)) -> Багазеев Александр Константинович | Q56: Акиньшин Платон | R56: =INDEX(ИТОГИ!K:K,MATCH(протокол!Q56,ИТОГИ!E:E,0)) -> 0.0098148148 | S56: 2 | T56: 0.0125 | U56: 0.013888889
A57: 3 | B57: =INDEX(Оргео!C:C,MATCH(протокол!Q57,Оргео!F:F,0)) -> Бобков | C57: =INDEX(Оргео!D:D,MATCH(протокол!Q57,Оргео!F:F,0)) -> Игорь | D57: =INDEX(Оргео!E:E,MATCH(протокол!Q57,Оргео!F:F,0)) -> Кирилович | E57: =INDEX(Оргео!L:L,MATCH(протокол!Q57,Оргео!F:F,0)) -> 41351 | F57: =INDEX(мандатка!I:I,MATCH(протокол!Q57,мандатка!F:F,0)) -> 1р | G57: =INDEX(мандатка!Z:Z,MATCH(протокол!Q57,мандатка!F:F,0)) -> ГБУ ДО «Московская академия современного пятиборья» | H57: =INDEX(ИТОГИ!G:G,MATCH(протокол!Q57,ИТОГИ!E:E,0)) -> 0.0043402778 | I57: =INDEX(ИТОГИ!H:H,MATCH(протокол!Q57,ИТОГИ!E:E,0)) -> (4) | J57: =INDEX(ИТОГИ!I:I,MATCH(протокол!Q57,ИТОГИ!E:E,0)) -> 0.0056828704 | K57: =INDEX(ИТОГИ!J:J,MATCH(протокол!Q57,ИТОГИ!E:E,0)) -> (3) | L57: =H57+J57 -> 0.010023148 | M57: =L57-$L$55 -> 0.00034722222 | N57: =M57/$L$55 -> 0.035885167 | O57: 1р | P57: =INDEX(мандатка!AC:AC,MATCH(протокол!Q57,мандатка!F:F,0)) -> Багазеев Александр Константинович | Q57: Бобков Игорь | R57: =INDEX(ИТОГИ!K:K,MATCH(протокол!Q57,ИТОГИ!E:E,0)) -> 0.010023148 | S57: 3 | T57: 0.013194444 | U57: 0.014583333
A58: 4 | B58: =INDEX(Оргео!C:C,MATCH(протокол!Q58,Оргео!F:F,0)) -> Харин | C58: =INDEX(Оргео!D:D,MATCH(протокол!Q58,Оргео!F:F,0)) -> Тимур | D58: =INDEX(Оргео!E:E,MATCH(протокол!Q58,Оргео!F:F,0)) -> Александрович | E58: =INDEX(Оргео!L:L,MATCH(протокол!Q58,Оргео!F:F,0)) -> 41516 | F58: =INDEX(мандатка!I:I,MATCH(протокол!Q58,мандатка!F:F,0)) -> 1р | G58: =INDEX(мандатка!Z:Z,MATCH(протокол!Q58,мандатка!F:F,0)) -> ГБУ ДО «Московская академия современного пятиборья» | H58: =INDEX(ИТОГИ!G:G,MATCH(протокол!Q58,ИТОГИ!E:E,0)) -> 0.0043287037 | I58: =INDEX(ИТОГИ!H:H,MATCH(протокол!Q58,ИТОГИ!E:E,0)) -> (3) | J58: =INDEX(ИТОГИ!I:I,MATCH(протокол!Q58,ИТОГИ!E:E,0)) -> 0.0058680556 | K58: =INDEX(ИТОГИ!J:J,MATCH(протокол!Q58,ИТОГИ!E:E,0)) -> (6) | L58: =H58+J58 -> 0.010196759 | M58: =L58-$L$55 -> 0.00052083333 | N58: =M58/$L$55 -> 0.053827751 | O58: 1р | P58: =INDEX(мандатка!AC:AC,MATCH(протокол!Q58,мандатка!F:F,0)) -> Васильев Иван Михайлович | Q58: Харин Тимур | R58: =INDEX(ИТОГИ!K:K,MATCH(протокол!Q58,ИТОГИ!E:E,0)) -> 0.010196759 | S58: 1ю | T58: 0.013888889 | U58: 0.015625
A59: 5 | B59: =INDEX(Оргео!C:C,MATCH(протокол!Q59,Оргео!F:F,0)) -> Красников | C59: =INDEX(Оргео!D:D,MATCH(протокол!Q59,Оргео!F:F,0)) -> Лев | D59: =INDEX(Оргео!E:E,MATCH(протокол!Q59,Оргео!F:F,0)) -> Павлович | E59: =INDEX(Оргео!L:L,MATCH(протокол!Q59,Оргео!F:F,0)) -> 41007 | F59: =INDEX(мандатка!I:I,MATCH(протокол!Q59,мандатка!F:F,0)) -> 1р | G59: =INDEX(мандатка!Z:Z,MATCH(протокол!Q59,мандатка!F:F,0)) -> АНО «ДЮСШ «Акватикс» | H59: =INDEX(ИТОГИ!G:G,MATCH(протокол!Q59,ИТОГИ!E:E,0)) -> 0.0046875 | I59: =INDEX(ИТОГИ!H:H,MATCH(протокол!Q59,ИТОГИ!E:E,0)) -> (8) | J59: =INDEX(ИТОГИ!I:I,MATCH(протокол!Q59,ИТОГИ!E:E,0)) -> 0.0058564815 | K59: =INDEX(ИТОГИ!J:J,MATCH(протокол!Q59,ИТОГИ!E:E,0)) -> (5) | L59: =H59+J59 -> 0.010543981 | M59: =L59-$L$55 -> 0.00086805556 | N59: =M59/$L$55 -> 0.089712919 | O59: 1р | P59: =INDEX(мандатка!AC:AC,MATCH(протокол!Q59,мандатка!F:F,0)) -> Кумин Егор Сергеевич, Кулик Евгений Юрьевич | Q59: Красников Лев | R59: =INDEX(ИТОГИ!K:K,MATCH(протокол!Q59,ИТОГИ!E:E,0)) -> 0.010543981 | S59: 2ю | T59: 0.014930556 | U59: 0.016666667
A60: 6 | B60: =INDEX(Оргео!C:C,MATCH(протокол!Q60,Оргео!F:F,0)) -> Рогожин | C60: =INDEX(Оргео!D:D,MATCH(протокол!Q60,Оргео!F:F,0)) -> Дмитрий | D60: =INDEX(Оргео!E:E,MATCH(протокол!Q60,Оргео!F:F,0)) -> Антонович | E60: =INDEX(Оргео!L:L,MATCH(протокол!Q60,Оргео!F:F,0)) -> 41323 | F60: =INDEX(мандатка!I:I,MATCH(протокол!Q60,мандатка!F:F,0)) -> 1р | G60: =INDEX(мандатка!Z:Z,MATCH(протокол!Q60,мандатка!F:F,0)) -> ГБПОУ «МССУОР № 2» Москомспорта | H60: =INDEX(ИТОГИ!G:G,MATCH(протокол!Q60,ИТОГИ!E:E,0)) -> 0.0046643519 | I60: =INDEX(ИТОГИ!H:H,MATCH(протокол!Q60,ИТОГИ!E:E,0)) -> (7) | J60: =INDEX(ИТОГИ!I:I,MATCH(протокол!Q60,ИТОГИ!E:E,0)) -> 0.0060300926 | K60: =INDEX(ИТОГИ!J:J,MATCH(протокол!Q60,ИТОГИ!E:E,0)) -> (11) | L60: =H60+J60 -> 0.010694444 | M60: =L60-$L$55 -> 0.0010185185 | N60: =M60/$L$55 -> 0.10526316 | O60: 1р | P60: =INDEX(мандатка!AC:AC,MATCH(протокол!Q60,мандатка!F:F,0)) -> Пахомова Марина Сергеевна | Q60: Рогожин Дмитрий | R60: =INDEX(ИТОГИ!K:K,MATCH(протокол!Q60,ИТОГИ!E:E,0)) -> 0.010694444 | S60: 3ю | T60: 0.015625 | U60: 0.017708333
A61: 7 | B61: =INDEX(Оргео!C:C,MATCH(протокол!Q61,Оргео!F:F,0)) -> Шевяков | C61: =INDEX(Оргео!D:D,MATCH(протокол!Q61,Оргео!F:F,0)) -> Артем | D61: =INDEX(Оргео!E:E,MATCH(протокол!Q61,Оргео!F:F,0)) -> Денисович | E61: =INDEX(Оргео!L:L,MATCH(протокол!Q61,Оргео!F:F,0)) -> 41187 | F61: =INDEX(мандатка!I:I,MATCH(протокол!Q61,мандатка!F:F,0)) -> 1р | G61: =INDEX(мандатка!Z:Z,MATCH(протокол!Q61,мандатка!F:F,0)) -> АНО «ДЮСШ «Акватикс» | H61: =INDEX(ИТОГИ!G:G,MATCH(протокол!Q61,ИТОГИ!E:E,0)) -> 0.0048842593 | I61: =INDEX(ИТОГИ!H:H,MATCH(протокол!Q61,ИТОГИ!E:E,0)) -> (15) | J61: =INDEX(ИТОГИ!I:I,MATCH(протокол!Q61,ИТОГИ!E:E,0)) -> 0.0058912037 | K61: =INDEX(ИТОГИ!J:J,MATCH(протокол!Q61,ИТОГИ!E:E,0)) -> (7) | L61: =H61+J61 -> 0.010775463 | M61: =L61-$L$55 -> 0.001099537 | N61: =M61/$L$55 -> 0.11363636 | O61: 1р | P61: =INDEX(мандатка!AC:AC,MATCH(протокол!Q61,мандатка!F:F,0)) -> Трифанкин Степан Николаевич, Борисов Евгений Валерьевич | Q61: Шевяков Артем | R61: =INDEX(ИТОГИ!K:K,MATCH(протокол!Q61,ИТОГИ!E:E,0)) -> 0.010775463
A62: 8 | B62: =INDEX(Оргео!C:C,MATCH(протокол!Q62,Оргео!F:F,0)) -> Воловик | C62: =INDEX(Оргео!D:D,MATCH(протокол!Q62,Оргео!F:F,0)) -> Степан | D62: =INDEX(Оргео!E:E,MATCH(протокол!Q62,Оргео!F:F,0)) -> Арсеньевич | E62: =INDEX(Оргео!L:L,MATCH(протокол!Q62,Оргео!F:F,0)) -> 41061 | F62: =INDEX(мандатка!I:I,MATCH(протокол!Q62,мандатка!F:F,0)) -> 1р | G62: =INDEX(мандатка!Z:Z,MATCH(протокол!Q62,мандатка!F:F,0)) -> ГБУ ДО «Московская академия современного пятиборья» | H62: =INDEX(ИТОГИ!G:G,MATCH(протокол!Q62,ИТОГИ!E:E,0)) -> 0.0048032407 | I62: =INDEX(ИТОГИ!H:H,MATCH(протокол!Q62,ИТОГИ!E:E,0)) -> (11) | J62: =INDEX(ИТОГИ!I:I,MATCH(протокол!Q62,ИТОГИ!E:E,0)) -> 0.0059953704 | K62: =INDEX(ИТОГИ!J:J,MATCH(протокол!Q62,ИТОГИ!E:E,0)) -> (10) | L62: =H62+J62 -> 0.010798611 | M62: =L62-$L$55 -> 0.0011226852 | N62: =M62/$L$55 -> 0.11602871 | O62: 1р | P62: =INDEX(мандатка!AC:AC,MATCH(протокол!Q62,мандатка!F:F,0)) -> Багазеев Александр Константинович | Q62: Воловик Степан | R62: =INDEX(ИТОГИ!K:K,MATCH(протокол!Q62,ИТОГИ!E:E,0)) -> 0.010798611
A63: 9 | B63: =INDEX(Оргео!C:C,MATCH(протокол!Q63,Оргео!F:F,0)) -> Комлик | C63: =INDEX(Оргео!D:D,MATCH(протокол!Q63,Оргео!F:F,0)) -> Тимофей | D63: =INDEX(Оргео!E:E,MATCH(протокол!Q63,Оргео!F:F,0)) -> Дмитриевич | E63: =INDEX(Оргео!L:L,MATCH(протокол!Q63,Оргео!F:F,0)) -> 41042 | F63: =INDEX(мандатка!I:I,MATCH(протокол!Q63,мандатка!F:F,0)) -> 2р | G63: =INDEX(мандатка!Z:Z,MATCH(протокол!Q63,мандатка!F:F,0)) -> ГБПОУ «МССУОР № 2» Москомспорта | H63: =INDEX(ИТОГИ!G:G,MATCH(протокол!Q63,ИТОГИ!E:E,0)) -> 0.0051041667 | I63: =INDEX(ИТОГИ!H:H,MATCH(протокол!Q63,ИТОГИ!E:E,0)) -> (17) | J63: =INDEX(ИТОГИ!I:I,MATCH(протокол!Q63,ИТОГИ!E:E,0)) -> 0.0059953704 | K63: =INDEX(ИТОГИ!J:J,MATCH(протокол!Q63,ИТОГИ!E:E,0)) -> (9) | L63: =H63+J63 -> 0.011099537 | M63: =L63-$L$55 -> 0.0014236111 | N63: =M63/$L$55 -> 0.14712919 | O63: 1р | P63: =INDEX(мандатка!AC:AC,MATCH(протокол!Q63,мандатка!F:F,0)) -> Пахомова Марина Сергеевна | Q63: Комлик Тимофей | R63: =INDEX(ИТОГИ!K:K,MATCH(протокол!Q63,ИТОГИ!E:E,0)) -> 0.011099537
A64: 10 | B64: =INDEX(Оргео!C:C,MATCH(протокол!Q64,Оргео!F:F,0)) -> Лукьянов | C64: =INDEX(Оргео!D:D,MATCH(протокол!Q64,Оргео!F:F,0)) -> Артем | D64: =INDEX(Оргео!E:E,MATCH(протокол!Q64,Оргео!F:F,0)) -> Анатольевич | E64: =INDEX(Оргео!L:L,MATCH(протокол!Q64,Оргео!F:F,0)) -> 41408 | F64: =INDEX(мандатка!I:I,MATCH(протокол!Q64,мандатка!F:F,0)) -> 1ю | G64: =INDEX(мандатка!Z:Z,MATCH(протокол!Q64,мандатка!F:F,0)) -> АНО «ДЮСШ «Акватикс» | H64: =INDEX(ИТОГИ!G:G,MATCH(протокол!Q64,ИТОГИ!E:E,0)) -> 0.0051273148 | I64: =INDEX(ИТОГИ!H:H,MATCH(протокол!Q64,ИТОГИ!E:E,0)) -> (20) | J64: =INDEX(ИТОГИ!I:I,MATCH(протокол!Q64,ИТОГИ!E:E,0)) -> 0.0059837963 | K64: =INDEX(ИТОГИ!J:J,MATCH(протокол!Q64,ИТОГИ!E:E,0)) -> (8) | L64: =H64+J64 -> 0.011111111 | M64: =L64-$L$55 -> 0.0014351852 | N64: =M64/$L$55 -> 0.14832536 | O64: 1р | P64: =INDEX(мандатка!AC:AC,MATCH(протокол!Q64,мандатка!F:F,0)) -> Трифанкин Степан Николаевич, Борисов Евгений Валерьевич | Q64: Лукьянов Артем | R64: =INDEX(ИТОГИ!K:K,MATCH(протокол!Q64,ИТОГИ!E:E,0)) -> 0.011111111
A65: 11 | B65: =INDEX(Оргео!C:C,MATCH(протокол!Q65,Оргео!F:F,0)) -> Диденко | C65: =INDEX(Оргео!D:D,MATCH(протокол!Q65,Оргео!F:F,0)) -> Александр | D65: =INDEX(Оргео!E:E,MATCH(протокол!Q65,Оргео!F:F,0)) -> Денисович | E65: =INDEX(Оргео!L:L,MATCH(протокол!Q65,Оргео!F:F,0)) -> 41056 | F65: =INDEX(мандатка!I:I,MATCH(протокол!Q65,мандатка!F:F,0)) -> 1р | G65: =INDEX(мандатка!Z:Z,MATCH(протокол!Q65,мандатка!F:F,0)) -> ГБУ ДО «Московская академия современного пятиборья» | H65: =INDEX(ИТОГИ!G:G,MATCH(протокол!Q65,ИТОГИ!E:E,0)) -> 0.0044791667 | I65: =INDEX(ИТОГИ!H:H,MATCH(протокол!Q65,ИТОГИ!E:E,0)) -> (5) | J65: =INDEX(ИТОГИ!I:I,MATCH(протокол!Q65,ИТОГИ!E:E,0)) -> 0.0066898148 | K65: =INDEX(ИТОГИ!J:J,MATCH(протокол!Q65,ИТОГИ!E:E,0)) -> (16) | L65: =H65+J65 -> 0.011168981 | M65: =L65-$L$55 -> 0.0014930556 | N65: =M65/$L$55 -> 0.15430622 | O65: 1р | P65: =INDEX(мандатка!AC:AC,MATCH(протокол!Q65,мандатка!F:F,0)) -> Багазеев Александр Константинович | Q65: Диденко Александр | R65: =INDEX(ИТОГИ!K:K,MATCH(протокол!Q65,ИТОГИ!E:E,0)) -> 0.011168981
A66: 12 | B66: =INDEX(Оргео!C:C,MATCH(протокол!Q66,Оргео!F:F,0)) -> Ершов | C66: =INDEX(Оргео!D:D,MATCH(протокол!Q66,Оргео!F:F,0)) -> Антон | D66: =INDEX(Оргео!E:E,MATCH(протокол!Q66,Оргео!F:F,0)) -> Александрович | E66: =INDEX(Оргео!L:L,MATCH(протокол!Q66,Оргео!F:F,0)) -> 41245 | F66: =INDEX(мандатка!I:I,MATCH(протокол!Q66,мандатка!F:F,0)) -> 1р | G66: =INDEX(мандатка!Z:Z,MATCH(протокол!Q66,мандатка!F:F,0)) -> ГБУ ДО «Московская академия современного пятиборья» | H66: =INDEX(ИТОГИ!G:G,MATCH(протокол!Q66,ИТОГИ!E:E,0)) -> 0.0047569444 | I66: =INDEX(ИТОГИ!H:H,MATCH(протокол!Q66,ИТОГИ!E:E,0)) -> (9) | J66: =INDEX(ИТОГИ!I:I,MATCH(протокол!Q66,ИТОГИ!E:E,0)) -> 0.0064351852 | K66: =INDEX(ИТОГИ!J:J,MATCH(протокол!Q66,ИТОГИ!E:E,0)) -> (15) | L66: =H66+J66 -> 0.01119213 | M66: =L66-$L$55 -> 0.0015162037 | N66: =M66/$L$55 -> 0.15669856 | O66: 1р | P66: =INDEX(мандатка!AC:AC,MATCH(протокол!Q66,мандатка!F:F,0)) -> Багазеев Александр Константинович | Q66: Ершов Антон | R66: =INDEX(ИТОГИ!K:K,MATCH(протокол!Q66,ИТОГИ!E:E,0)) -> 0.01119213
A67: 13 | B67: =INDEX(Оргео!C:C,MATCH(протокол!Q67,Оргео!F:F,0)) -> Горохов | C67: =INDEX(Оргео!D:D,MATCH(протокол!Q67,Оргео!F:F,0)) -> Евгений | D67: =INDEX(Оргео!E:E,MATCH(протокол!Q67,Оргео!F:F,0)) -> Дмитриевич | E67: =INDEX(Оргео!L:L,MATCH(протокол!Q67,Оргео!F:F,0)) -> 41456 | F67: =INDEX(мандатка!I:I,MATCH(протокол!Q67,мандатка!F:F,0)) -> 1р | G67: =INDEX(мандатка!Z:Z,MATCH(протокол!Q67,мандатка!F:F,0)) -> ГБПОУ «МССУОР № 2» Москомспорта | H67: =INDEX(ИТОГИ!G:G,MATCH(протокол!Q67,ИТОГИ!E:E,0)) -> 0.0048726852 | I67: =INDEX(ИТОГИ!H:H,MATCH(протокол!Q67,ИТОГИ!E:E,0)) -> (13) | J67: =INDEX(ИТОГИ!I:I,MATCH(протокол!Q67,ИТОГИ!E:E,0)) -> 0.0063773148 | K67: =INDEX(ИТОГИ!J:J,MATCH(протокол!Q67,ИТОГИ!E:E,0)) -> (14) | L67: =H67+J67 -> 0.01125 | M67: =L67-$L$55 -> 0.0015740741 | N67: =M67/$L$55 -> 0.16267943 | O67: 1р | P67: =INDEX(мандатка!AC:AC,MATCH(протокол!Q67,мандатка!F:F,0)) -> Никульшин Александр Викторович | Q67: Горохов Евгений | R67: =INDEX(ИТОГИ!K:K,MATCH(протокол!Q67,ИТОГИ!E:E,0)) -> 0.01125
A68: 14 | B68: =INDEX(Оргео!C:C,MATCH(протокол!Q68,Оргео!F:F,0)) -> Кухарев | C68: =INDEX(Оргео!D:D,MATCH(протокол!Q68,Оргео!F:F,0)) -> Даниил | D68: =INDEX(Оргео!E:E,MATCH(протокол!Q68,Оргео!F:F,0)) -> Михайлович | E68: =INDEX(Оргео!L:L,MATCH(протокол!Q68,Оргео!F:F,0)) -> 41318 | F68: =INDEX(мандатка!I:I,MATCH(протокол!Q68,мандатка!F:F,0)) -> 2р | G68: =INDEX(мандатка!Z:Z,MATCH(протокол!Q68,мандатка!F:F,0)) -> ГБПОУ «МССУОР № 2» Москомспорта | H68: =INDEX(ИТОГИ!G:G,MATCH(протокол!Q68,ИТОГИ!E:E,0)) -> 0.0045949074 | I68: =INDEX(ИТОГИ!H:H,MATCH(протокол!Q68,ИТОГИ!E:E,0)) -> (6) | J68: =INDEX(ИТОГИ!I:I,MATCH(протокол!Q68,ИТОГИ!E:E,0)) -> 0.0067592593 | K68: =INDEX(ИТОГИ!J:J,MATCH(протокол!Q68,ИТОГИ!E:E,0)) -> (18) | L68: =H68+J68 -> 0.011354167 | M68: =L68-$L$55 -> 0.0016782407 | N68: =M68/$L$55 -> 0.17344498 | O68: 1р | P68: =INDEX(мандатка!AC:AC,MATCH(протокол!Q68,мандатка!F:F,0)) -> Пахомова Марина Сергеевна | Q68: Кухарев Даниил | R68: =INDEX(ИТОГИ!K:K,MATCH(протокол!Q68,ИТОГИ!E:E,0)) -> 0.011354167
A69: 15 | B69: =INDEX(Оргео!C:C,MATCH(протокол!Q69,Оргео!F:F,0)) -> Косов | C69: =INDEX(Оргео!D:D,MATCH(протокол!Q69,Оргео!F:F,0)) -> Даниил | D69: =INDEX(Оргео!E:E,MATCH(протокол!Q69,Оргео!F:F,0)) -> Алексеевич | E69: =INDEX(Оргео!L:L,MATCH(протокол!Q69,Оргео!F:F,0)) -> 41372 | F69: =INDEX(мандатка!I:I,MATCH(протокол!Q69,мандатка!F:F,0)) -> 2р | G69: =INDEX(мандатка!Z:Z,MATCH(протокол!Q69,мандатка!F:F,0)) -> ГБПОУ «МССУОР № 2» Москомспорта | H69: =INDEX(ИТОГИ!G:G,MATCH(протокол!Q69,ИТОГИ!E:E,0)) -> 0.0056365741 | I69: =INDEX(ИТОГИ!H:H,MATCH(протокол!Q69,ИТОГИ!E:E,0)) -> (23) | J69: =INDEX(ИТОГИ!I:I,MATCH(протокол!Q69,ИТОГИ!E:E,0)) -> 0.0058564815 | K69: =INDEX(ИТОГИ!J:J,MATCH(протокол!Q69,ИТОГИ!E:E,0)) -> (4) | L69: =H69+J69 -> 0.011493056 | M69: =L69-$L$55 -> 0.0018171296 | N69: =M69/$L$55 -> 0.18779904 | O69: 1р | P69: =INDEX(мандатка!AC:AC,MATCH(протокол!Q69,мандатка!F:F,0)) -> Никульшин Александр Викторович | Q69: Косов Даниил | R69: =INDEX(ИТОГИ!K:K,MATCH(протокол!Q69,ИТОГИ!E:E,0)) -> 0.011493056
A70: 16 | B70: =INDEX(Оргео!C:C,MATCH(протокол!Q70,Оргео!F:F,0)) -> Литвинов | C70: =INDEX(Оргео!D:D,MATCH(протокол!Q70,Оргео!F:F,0)) -> Дмитрий | D70: =INDEX(Оргео!E:E,MATCH(протокол!Q70,Оргео!F:F,0)) -> Романович | E70: =INDEX(Оргео!L:L,MATCH(протокол!Q70,Оргео!F:F,0)) -> 40998 | F70: =INDEX(мандатка!I:I,MATCH(протокол!Q70,мандатка!F:F,0)) -> 1р | G70: =INDEX(мандатка!Z:Z,MATCH(протокол!Q70,мандатка!F:F,0)) -> АНО «ДЮСШ «Акватикс» | H70: =INDEX(ИТОГИ!G:G,MATCH(протокол!Q70,ИТОГИ!E:E,0)) -> 0.0047916667 | I70: =INDEX(ИТОГИ!H:H,MATCH(протокол!Q70,ИТОГИ!E:E,0)) -> (10) | J70: =INDEX(ИТОГИ!I:I,MATCH(протокол!Q70,ИТОГИ!E:E,0)) -> 0.006724537 | K70: =INDEX(ИТОГИ!J:J,MATCH(протокол!Q70,ИТОГИ!E:E,0)) -> (17) | L70: =H70+J70 -> 0.011516204 | M70: =L70-$L$55 -> 0.0018402778 | N70: =M70/$L$55 -> 0.19019139 | O70: 1р | P70: =INDEX(мандатка!AC:AC,MATCH(протокол!Q70,мандатка!F:F,0)) -> Кумин Егор Сергеевич, Кулик Евгений Юрьевич | Q70: Литвинов Дмитрий | R70: =INDEX(ИТОГИ!K:K,MATCH(протокол!Q70,ИТОГИ!E:E,0)) -> 0.011516204
A71: 17 | B71: =INDEX(Оргео!C:C,MATCH(протокол!Q71,Оргео!F:F,0)) -> Зволинский | C71: =INDEX(Оргео!D:D,MATCH(протокол!Q71,Оргео!F:F,0)) -> Владислав | D71: =INDEX(Оргео!E:E,MATCH(протокол!Q71,Оргео!F:F,0)) -> Никитич | E71: =INDEX(Оргео!L:L,MATCH(протокол!Q71,Оргео!F:F,0)) -> 41522 | F71: =INDEX(мандатка!I:I,MATCH(протокол!Q71,мандатка!F:F,0)) -> 2р | G71: =INDEX(мандатка!Z:Z,MATCH(протокол!Q71,мандатка!F:F,0)) -> АНО «ДЮСШ «Акватикс» | H71: =INDEX(ИТОГИ!G:G,MATCH(протокол!Q71,ИТОГИ!E:E,0)) -> 0.0053125 | I71: =INDEX(ИТОГИ!H:H,MATCH(протокол!Q71,ИТОГИ!E:E,0)) -> (21) | J71: =INDEX(ИТОГИ!I:I,MATCH(протокол!Q71,ИТОГИ!E:E,0)) -> 0.0062847222 | K71: =INDEX(ИТОГИ!J:J,MATCH(протокол!Q71,ИТОГИ!E:E,0)) -> (13) | L71: =H71+J71 -> 0.011597222 | M71: =L71-$L$55 -> 0.0019212963 | N71: =M71/$L$55 -> 0.19856459 | O71: 1р | P71: =INDEX(мандатка!AC:AC,MATCH(протокол!Q71,мандатка!F:F,0)) -> Трифанкин Степан Николаевич, Борисов Евгений Валерьевич | Q71: Зволинский Владислав | R71: =INDEX(ИТОГИ!K:K,MATCH(протокол!Q71,ИТОГИ!E:E,0)) -> 0.011597222
A72: 18 | B72: =INDEX(Оргео!C:C,MATCH(протокол!Q72,Оргео!F:F,0)) -> Дёмин | C72: =INDEX(Оргео!D:D,MATCH(протокол!Q72,Оргео!F:F,0)) -> Максим | D72: =INDEX(Оргео!E:E,MATCH(протокол!Q72,Оргео!F:F,0)) -> Александрович | E72: =INDEX(Оргео!L:L,MATCH(протокол!Q72,Оргео!F:F,0)) -> 41332 | F72: =INDEX(мандатка!I:I,MATCH(протокол!Q72,мандатка!F:F,0)) -> 2р | G72: =INDEX(мандатка!Z:Z,MATCH(протокол!Q72,мандатка!F:F,0)) -> РСОО «Федерация триатлона города Москвы» | H72: =INDEX(ИТОГИ!G:G,MATCH(протокол!Q72,ИТОГИ!E:E,0)) -> 0.0048726852 | I72: =INDEX(ИТОГИ!H:H,MATCH(протокол!Q72,ИТОГИ!E:E,0)) -> (13) | J72: =INDEX(ИТОГИ!I:I,MATCH(протокол!Q72,ИТОГИ!E:E,0)) -> 0.0067939815 | K72: =INDEX(ИТОГИ!J:J,MATCH(протокол!Q72,ИТОГИ!E:E,0)) -> (21) | L72: =H72+J72 -> 0.011666667 | M72: =L72-$L$55 -> 0.0019907407 | N72: =M72/$L$55 -> 0.20574163 | O72: 1р | P72: =INDEX(мандатка!AC:AC,MATCH(протокол!Q72,мандатка!F:F,0)) -> Семиволос Алексей Юрьевич | Q72: Дёмин Максим | R72: =INDEX(ИТОГИ!K:K,MATCH(протокол!Q72,ИТОГИ!E:E,0)) -> 0.011666667
... A75: 21 | B75: =INDEX(Оргео!C:C,MATCH(протокол!Q75,Оргео!F:F,0)) -> Капранов | C75: =INDEX(Оргео!D:D,MATCH(протокол!Q75,Оргео!F:F,0)) -> Филипп | D75: =INDEX(Оргео!E:E,MATCH(протокол!Q75,Оргео!F:F,0)) -> Ильич | E75: =INDEX(Оргео!L:L,MATCH(протокол!Q75,Оргео!F:F,0)) -> 41035 | F75: =INDEX(мандатка!I:I,MATCH(протокол!Q75,мандатка!F:F,0)) -> 2р | G75: =INDEX(мандатка!Z:Z,MATCH(протокол!Q75,мандатка!F:F,0)) -> АНО «ДЮСШ «Акватикс» | H75: =INDEX(ИТОГИ!G:G,MATCH(протокол!Q75,ИТОГИ!E:E,0)) -> 0.0057291667 | I75: =INDEX(ИТОГИ!H:H,MATCH(протокол!Q75,ИТОГИ!E:E,0)) -> (24) | J75: =INDEX(ИТОГИ!I:I,MATCH(протокол!Q75,ИТОГИ!E:E,0)) -> 0.0062037037 | K75: =INDEX(ИТОГИ!J:J,MATCH(протокол!Q75,ИТОГИ!E:E,0)) -> (12) | L75: =H75+J75 -> 0.01193287 | M75: =L75-$L$55 -> 0.0022569444 | N75: =M75/$L$55 -> 0.23325359 | O75: 2р | P75: =INDEX(мандатка!AC:AC,MATCH(протокол!Q75,мандатка!F:F,0)) -> Кумин Егор Сергеевич, Кулик Евгений Юрьевич | Q75: Капранов Филипп | R75: =INDEX(ИТОГИ!K:K,MATCH(протокол!Q75,ИТОГИ!E:E,0)) -> 0.01193287
A76: Место | B76: Фамилия | C76: Имя | D76: Отчество | E76: ДР | F76: Квалиф. | G76: Спортивная организация | H76: ПЛАВ 500м | J76: БЕГ 2,5км | L76: Результат | M76: Отстав. мин:сек / %% | O76: Выполн. | P76: Тренеры | Q76: Ж
A77: 22 | B77: =INDEX(Оргео!C:C,MATCH(протокол!Q77,Оргео!F:F,0)) -> Петров | C77: =INDEX(Оргео!D:D,MATCH(протокол!Q77,Оргео!F:F,0)) -> Артемий | D77: =INDEX(Оргео!E:E,MATCH(протокол!Q77,Оргео!F:F,0)) -> Владимирович | E77: =INDEX(Оргео!L:L,MATCH(протокол!Q77,Оргео!F:F,0)) -> 41563 | F77: =INDEX(мандатка!I:I,MATCH(протокол!Q77,мандатка!F:F,0)) -> 2р | G77: =INDEX(мандатка!Z:Z,MATCH(протокол!Q77,мандатка!F:F,0)) -> ГБПОУ «МССУОР № 2» Москомспорта | H77: =INDEX(ИТОГИ!G:G,MATCH(протокол!Q77,ИТОГИ!E:E,0)) -> 0.0051157407 | I77: =INDEX(ИТОГИ!H:H,MATCH(протокол!Q77,ИТОГИ!E:E,0)) -> (19) | J77: =INDEX(ИТОГИ!I:I,MATCH(протокол!Q77,ИТОГИ!E:E,0)) -> 0.0068865741 | K77: =INDEX(ИТОГИ!J:J,MATCH(протокол!Q77,ИТОГИ!E:E,0)) -> (22) | L77: =H77+J77 -> 0.012002315 | M77: =L77-$L$55 -> 0.0023263889 | N77: =M77/$L$55 -> 0.24043062 | O77: 2р | P77: =INDEX(мандатка!AC:AC,MATCH(протокол!Q77,мандатка!F:F,0)) -> Семиволос Алексей Юрьевич | Q77: Петров Артемий | R77: =INDEX(ИТОГИ!K:K,MATCH(протокол!Q77,ИТОГИ!E:E,0)) -> 0.012002315
A78: 23 | B78: =INDEX(Оргео!C:C,MATCH(протокол!Q78,Оргео!F:F,0)) -> Литвинов | C78: =INDEX(Оргео!D:D,MATCH(протокол!Q78,Оргео!F:F,0)) -> Марк | D78: =INDEX(Оргео!E:E,MATCH(протокол!Q78,Оргео!F:F,0)) -> Романович | E78: =INDEX(Оргео!L:L,MATCH(протокол!Q78,Оргео!F:F,0)) -> 40998 | F78: =INDEX(мандатка!I:I,MATCH(протокол!Q78,мандатка!F:F,0)) -> 1р | G78: =INDEX(мандатка!Z:Z,MATCH(протокол!Q78,мандатка!F:F,0)) -> АНО «ДЮСШ «Акватикс» | H78: =INDEX(ИТОГИ!G:G,MATCH(протокол!Q78,ИТОГИ!E:E,0)) -> 0.0048611111 | I78: =INDEX(ИТОГИ!H:H,MATCH(протокол!Q78,ИТОГИ!E:E,0)) -> (12) | J78: =INDEX(ИТОГИ!I:I,MATCH(протокол!Q78,ИТОГИ!E:E,0)) -> 0.0073032407 | K78: =INDEX(ИТОГИ!J:J,MATCH(протокол!Q78,ИТОГИ!E:E,0)) -> (25) | L78: =H78+J78 -> 0.012164352 | M78: =L78-$L$55 -> 0.0024884259 | N78: =M78/$L$55 -> 0.25717703 | O78: 2р | P78: =INDEX(мандатка!AC:AC,MATCH(протокол!Q78,мандатка!F:F,0)) -> Кумин Егор Сергеевич, Кулик Евгений Юрьевич | Q78: Литвинов Марк | R78: =INDEX(ИТОГИ!K:K,MATCH(протокол!Q78,ИТОГИ!E:E,0)) -> 0.012164352
A79: 24 | B79: =INDEX(Оргео!C:C,MATCH(протокол!Q79,Оргео!F:F,0)) -> Дюжий | C79: =INDEX(Оргео!D:D,MATCH(протокол!Q79,Оргео!F:F,0)) -> Михаил | D79: =INDEX(Оргео!E:E,MATCH(протокол!Q79,Оргео!F:F,0)) -> Сергеевич | E79: =INDEX(Оргео!L:L,MATCH(протокол!Q79,Оргео!F:F,0)) -> 41100 | F79: =INDEX(мандатка!I:I,MATCH(протокол!Q79,мандатка!F:F,0)) -> 3р | G79: =INDEX(мандатка!Z:Z,MATCH(протокол!Q79,мандатка!F:F,0)) -> АНО «ДЮСШ «Акватикс» | H79: =INDEX(ИТОГИ!G:G,MATCH(протокол!Q79,ИТОГИ!E:E,0)) -> 0.0056018519 | I79: =INDEX(ИТОГИ!H:H,MATCH(протокол!Q79,ИТОГИ!E:E,0)) -> (22) | J79: =INDEX(ИТОГИ!I:I,MATCH(протокол!Q79,ИТОГИ!E:E,0)) -> 0.0069560185 | K79: =INDEX(ИТОГИ!J:J,MATCH(протокол!Q79,ИТОГИ!E:E,0)) -> (24) | L79: =H79+J79 -> 0.01255787 | M79: =L79-$L$55 -> 0.0028819444 | N79: =M79/$L$55 -> 0.29784689 | O79: 3р | P79: =INDEX(мандатка!AC:AC,MATCH(протокол!Q79,мандатка!F:F,0)) -> Кумин Егор Сергеевич, Кулик Евгений Юрьевич | Q79: Дюжий Михаил | R79: =INDEX(ИТОГИ!K:K,MATCH(протокол!Q79,ИТОГИ!E:E,0)) -> 0.01255787
A80: 25 | B80: =INDEX(Оргео!C:C,MATCH(протокол!Q80,Оргео!F:F,0)) -> Минажетдинов | C80: =INDEX(Оргео!D:D,MATCH(протокол!Q80,Оргео!F:F,0)) -> Руслан | D80: =INDEX(Оргео!E:E,MATCH(протокол!Q80,Оргео!F:F,0)) -> Тахирович | E80: =INDEX(Оргео!L:L,MATCH(протокол!Q80,Оргео!F:F,0)) -> 41263 | F80: =INDEX(мандатка!I:I,MATCH(протокол!Q80,мандатка!F:F,0)) -> 3р | G80: =INDEX(мандатка!Z:Z,MATCH(протокол!Q80,мандатка!F:F,0)) -> ГБУ ДО «Московская академия современного пятиборья» | H80: =INDEX(ИТОГИ!G:G,MATCH(протокол!Q80,ИТОГИ!E:E,0)) -> 0.0064351852 | I80: =INDEX(ИТОГИ!H:H,MATCH(протокол!Q80,ИТОГИ!E:E,0)) -> (25) | J80: =INDEX(ИТОГИ!I:I,MATCH(протокол!Q80,ИТОГИ!E:E,0)) -> 0.0069444444 | K80: =INDEX(ИТОГИ!J:J,MATCH(протокол!Q80,ИТОГИ!E:E,0)) -> (23) | L80: =H80+J80 -> 0.01337963 | M80: =L80-$L$55 -> 0.0037037037 | N80: =M80/$L$55 -> 0.38277512 | O80: 1юн | P80: =INDEX(мандатка!AC:AC,MATCH(протокол!Q80,мандатка!F:F,0)) -> Васильев Иван Михайлович | Q80: Минажетдинов Руслан | R80: =INDEX(ИТОГИ!K:K,MATCH(протокол!Q80,ИТОГИ!E:E,0)) -> 0.01337963
D82: Главный судья | I82: Багазеев А.К., СС1К
D84: Главный секретарь | I84: Парфенцова Т.М., ССВК
G85: ПЕРВЕНСТВО МОСКВЫ
G86: по триатлону
G87: (спортивная дисциплина: акватлон)
G88: 500м плав + 2,5км бег
A89: Место проведения: г. Москва ЦСП "Северный" | M89: 1 марта 2026 г.
A90: Место | B90: Фамилия | C90: Имя | D90: Отчество | E90: ДР | F90: Квалиф. | G90: Спортивная организация | H90: ПЛАВ 500м | J90: БЕГ 2,5км | L90: Результат | M90: Отстав. мин:сек / %% | O90: Выполн. | P90: Тренеры | Q90: М
G91: ЮНОШИ 15-17 лет | S91: 500+2,5 | T91: М | U91: Ж
A92: 1 | B92: =INDEX(Оргео!C:C,MATCH(протокол!Q92,Оргео!F:F,0)) -> Арстамян | C92: =INDEX(Оргео!D:D,MATCH(протокол!Q92,Оргео!F:F,0)) -> Глеб | D92: =INDEX(Оргео!E:E,MATCH(протокол!Q92,Оргео!F:F,0)) -> Дмитриевич | E92: =INDEX(Оргео!L:L,MATCH(протокол!Q92,Оргео!F:F,0)) -> 40361 | F92: =INDEX(мандатка!I:I,MATCH(протокол!Q92,мандатка!F:F,0)) -> кмс | G92: =INDEX(мандатка!Z:Z,MATCH(протокол!Q92,мандатка!F:F,0)) -> ГБПОУ «МССУОР № 2» Москомспорта | H92: =INDEX(ИТОГИ!G:G,MATCH(протокол!Q92,ИТОГИ!E:E,0)) -> 0.003912037 | I92: =INDEX(ИТОГИ!H:H,MATCH(протокол!Q92,ИТОГИ!E:E,0)) -> (2) | J92: =INDEX(ИТОГИ!I:I,MATCH(протокол!Q92,ИТОГИ!E:E,0)) -> 0.0053935185 | K92: =INDEX(ИТОГИ!J:J,MATCH(протокол!Q92,ИТОГИ!E:E,0)) -> (5) | L92: =H92+J92 -> 0.0093055556 | M92: - | O92: 1р | P92: =INDEX(мандатка!AC:AC,MATCH(протокол!Q92,мандатка!F:F,0)) -> Мещерякова Валентина Николаевна | Q92: Арстамян Глеб | R92: =INDEX(ИТОГИ!K:K,MATCH(протокол!Q92,ИТОГИ!E:E,0)) -> 0.0093055556 | S92: 1 | T92: 0.011805556 | U92: 0.013194444
A93: 2 | B93: =INDEX(Оргео!C:C,MATCH(протокол!Q93,Оргео!F:F,0)) -> Кузин | C93: =INDEX(Оргео!D:D,MATCH(протокол!Q93,Оргео!F:F,0)) -> Василий | D93: =INDEX(Оргео!E:E,MATCH(протокол!Q93,Оргео!F:F,0)) -> Александрович | E93: =INDEX(Оргео!L:L,MATCH(протокол!Q93,Оргео!F:F,0)) -> 39978 | F93: =INDEX(мандатка!I:I,MATCH(протокол!Q93,мандатка!F:F,0)) -> кмс | G93: =INDEX(мандатка!Z:Z,MATCH(протокол!Q93,мандатка!F:F,0)) -> ГБУ ДО «Московская академия современного пятиборья» | H93: =INDEX(ИТОГИ!G:G,MATCH(протокол!Q93,ИТОГИ!E:E,0)) -> 0.0041666667 | I93: =INDEX(ИТОГИ!H:H,MATCH(протокол!Q93,ИТОГИ!E:E,0)) -> (6) | J93: =INDEX(ИТОГИ!I:I,MATCH(протокол!Q93,ИТОГИ!E:E,0)) -> 0.0053356481 | K93: =INDEX(ИТОГИ!J:J,MATCH(протокол!Q93,ИТОГИ!E:E,0)) -> (3) | L93: =H93+J93 -> 0.0095023148 | M93: =L93-$L$92 -> 0.00019675926 | N93: =M93/$L$92 -> 0.021144279 | O93: 1р | P93: =INDEX(мандатка!AC:AC,MATCH(протокол!Q93,мандатка!F:F,0)) -> Выборнов Сергей Сергеевич, Пушкин Дмитрий Сергеевич | Q93: Кузин Василий | R93: =INDEX(ИТОГИ!K:K,MATCH(протокол!Q93,ИТОГИ!E:E,0)) -> 0.0095023148 | S93: 2 | T93: 0.0125 | U93: 0.013888889
A94: 3 | B94: =INDEX(Оргео!C:C,MATCH(протокол!Q94,Оргео!F:F,0)) -> Мельничук | C94: =INDEX(Оргео!D:D,MATCH(протокол!Q94,Оргео!F:F,0)) -> Георгий | D94: =INDEX(Оргео!E:E,MATCH(протокол!Q94,Оргео!F:F,0)) -> Николаевич | E94: =INDEX(Оргео!L:L,MATCH(протокол!Q94,Оргео!F:F,0)) -> 39938 | F94: =INDEX(мандатка!I:I,MATCH(протокол!Q94,мандатка!F:F,0)) -> кмс | G94: =INDEX(мандатка!Z:Z,MATCH(протокол!Q94,мандатка!F:F,0)) -> ГБУ ДО «Московская академия современного пятиборья» | H94: =INDEX(ИТОГИ!G:G,MATCH(протокол!Q94,ИТОГИ!E:E,0)) -> 0.003900463 | I94: =INDEX(ИТОГИ!H:H,MATCH(протокол!Q94,ИТОГИ!E:E,0)) -> (1) | J94: =INDEX(ИТОГИ!I:I,MATCH(протокол!Q94,ИТОГИ!E:E,0)) -> 0.0056944444 | K94: =INDEX(ИТОГИ!J:J,MATCH(протокол!Q94,ИТОГИ!E:E,0)) -> (13) | L94: =H94+J94 -> 0.0095949074 | M94: =L94-$L$92 -> 0.00028935185 | N94: =M94/$L$92 -> 0.031094527 | O94: 1р | P94: =INDEX(мандатка!AC:AC,MATCH(протокол!Q94,мандатка!F:F,0)) -> Выборнов Сергей Сергеевич, Пушкин Дмитрий Сергеевич | Q94: Мельничук Георгий | R94: =INDEX(ИТОГИ!K:K,MATCH(протокол!Q94,ИТОГИ!E:E,0)) -> 0.0095949074 | S94: 3 | T94: 0.013194444 | U94: 0.014583333
A95: 3 | B95: =INDEX(Оргео!C:C,MATCH(протокол!Q95,Оргео!F:F,0)) -> Михайлов | C95: =INDEX(Оргео!D:D,MATCH(протокол!Q95,Оргео!F:F,0)) -> Никита | D95: =INDEX(Оргео!E:E,MATCH(протокол!Q95,Оргео!F:F,0)) -> Сергеевич | E95: =INDEX(Оргео!L:L,MATCH(протокол!Q95,Оргео!F:F,0)) -> 40116 | F95: =INDEX(мандатка!I:I,MATCH(протокол!Q95,мандатка!F:F,0)) -> кмс | G95: =INDEX(мандатка!Z:Z,MATCH(протокол!Q95,мандатка!F:F,0)) -> ГБПОУ «МССУОР № 2» Москомспорта | H95: =INDEX(ИТОГИ!G:G,MATCH(протокол!Q95,ИТОГИ!E:E,0)) -> 0.0041782407 | I95: =INDEX(ИТОГИ!H:H,MATCH(протокол!Q95,ИТОГИ!E:E,0)) -> (7) | J95: =INDEX(ИТОГИ!I:I,MATCH(протокол!Q95,ИТОГИ!E:E,0)) -> 0.0054166667 | K95: =INDEX(ИТОГИ!J:J,MATCH(протокол!Q95,ИТОГИ!E:E,0)) -> (6) | L95: =H95+J95 -> 0.0095949074 | M95: =L95-$L$92 -> 0.00028935185 | N95: =M95/$L$92 -> 0.031094527 | O95: 1р | P95: =INDEX(мандатка!AC:AC,MATCH(протокол!Q95,мандатка!F:F,0)) -> Мещерякова Валентина Николаевна | Q95: Михайлов Никита | R95: =INDEX(ИТОГИ!K:K,MATCH(протокол!Q95,ИТОГИ!E:E,0)) -> 0.0095949074 | S95: 1ю | T95: 0.013888889 | U95: 0.015625
A96: 5 | B96: =INDEX(Оргео!C:C,MATCH(протокол!Q96,Оргео!F:F,0)) -> Гришин | C96: =INDEX(Оргео!D:D,MATCH(протокол!Q96,Оргео!F:F,0)) -> Артём | D96: =INDEX(Оргео!E:E,MATCH(протокол!Q96,Оргео!F:F,0)) -> Спартакович | E96: =INDEX(Оргео!L:L,MATCH(протокол!Q96,Оргео!F:F,0)) -> 40042 | F96: =INDEX(мандатка!I:I,MATCH(протокол!Q96,мандатка!F:F,0)) -> кмс | G96: =INDEX(мандатка!Z:Z,MATCH(протокол!Q96,мандатка!F:F,0)) -> ГБУ ДО «Московская академия современного пятиборья» | H96: =INDEX(ИТОГИ!G:G,MATCH(протокол!Q96,ИТОГИ!E:E,0)) -> 0.004224537 | I96: =INDEX(ИТОГИ!H:H,MATCH(протокол!Q96,ИТОГИ!E:E,0)) -> (11) | J96: =INDEX(ИТОГИ!I:I,MATCH(протокол!Q96,ИТОГИ!E:E,0)) -> 0.005474537 | K96: =INDEX(ИТОГИ!J:J,MATCH(протокол!Q96,ИТОГИ!E:E,0)) -> (8) | L96: =H96+J96 -> 0.0096990741 | M96: =L96-$L$92 -> 0.00039351852 | N96: =M96/$L$92 -> 0.042288557 | O96: 1р | P96: =INDEX(мандатка!AC:AC,MATCH(протокол!Q96,мандатка!F:F,0)) -> Выборнов Сергей Сергеевич, Пушкин Дмитрий Сергеевич | Q96: Гришин Артём | R96: =INDEX(ИТОГИ!K:K,MATCH(протокол!Q96,ИТОГИ!E:E,0)) -> 0.0096990741 | S96: 2ю | T96: 0.014930556 | U96: 0.016666667
A97: 6 | B97: =INDEX(Оргео!C:C,MATCH(протокол!Q97,Оргео!F:F,0)) -> Коротких | C97: =INDEX(Оргео!D:D,MATCH(протокол!Q97,Оргео!F:F,0)) -> Матвей | D97: =INDEX(Оргео!E:E,MATCH(протокол!Q97,Оргео!F:F,0)) -> Андреевич | E97: =INDEX(Оргео!L:L,MATCH(протокол!Q97,Оргео!F:F,0)) -> 40041 | F97: =INDEX(мандатка!I:I,MATCH(протокол!Q97,мандатка!F:F,0)) -> кмс | G97: =INDEX(мандатка!Z:Z,MATCH(протокол!Q97,мандатка!F:F,0)) -> ГБПОУ «МССУОР № 2» Москомспорта | H97: =INDEX(ИТОГИ!G:G,MATCH(протокол!Q97,ИТОГИ!E:E,0)) -> 0.0041898148 | I97: =INDEX(ИТОГИ!H:H,MATCH(протокол!Q97,ИТОГИ!E:E,0)) -> (9) | J97: =INDEX(ИТОГИ!I:I,MATCH(протокол!Q97,ИТОГИ!E:E,0)) -> 0.0055902778 | K97: =INDEX(ИТОГИ!J:J,MATCH(протокол!Q97,ИТОГИ!E:E,0)) -> (9) | L97: =H97+J97 -> 0.0097800926 | M97: =L97-$L$92 -> 0.00047453704 | N97: =M97/$L$92 -> 0.050995025 | O97: 1р | P97: =INDEX(мандатка!AC:AC,MATCH(протокол!Q97,мандатка!F:F,0)) -> Мещерякова Валентина Николаевна | Q97: Коротких Матвей | R97: =INDEX(ИТОГИ!K:K,MATCH(протокол!Q97,ИТОГИ!E:E,0)) -> 0.0097800926 | S97: 3ю | T97: 0.015625 | U97: 0.017708333
A98: 7 | B98: =INDEX(Оргео!C:C,MATCH(протокол!Q98,Оргео!F:F,0)) -> Галиуллин | C98: =INDEX(Оргео!D:D,MATCH(протокол!Q98,Оргео!F:F,0)) -> Руслан | D98: =INDEX(Оргео!E:E,MATCH(протокол!Q98,Оргео!F:F,0)) -> Тальгатович | E98: =INDEX(Оргео!L:L,MATCH(протокол!Q98,Оргео!F:F,0)) -> 40099 | F98: =INDEX(мандатка!I:I,MATCH(протокол!Q98,мандатка!F:F,0)) -> кмс | G98: =INDEX(мандатка!Z:Z,MATCH(протокол!Q98,мандатка!F:F,0)) -> ГБУ ДО «Московская академия современного пятиборья» | H98: =INDEX(ИТОГИ!G:G,MATCH(протокол!Q98,ИТОГИ!E:E,0)) -> 0.0045486111 | I98: =INDEX(ИТОГИ!H:H,MATCH(протокол!Q98,ИТОГИ!E:E,0)) -> (17) | J98: =INDEX(ИТОГИ!I:I,MATCH(протокол!Q98,ИТОГИ!E:E,0)) -> 0.0052777778 | K98: =INDEX(ИТОГИ!J:J,MATCH(протокол!Q98,ИТОГИ!E:E,0)) -> (1) | L98: =H98+J98 -> 0.0098263889 | M98: =L98-$L$92 -> 0.00052083333 | N98: =M98/$L$92 -> 0.055970149 | O98: 1р | P98: =INDEX(мандатка!AC:AC,MATCH(протокол!Q98,мандатка!F:F,0)) -> Анисимова Нина Валентиновна | Q98: Галиуллин Руслан | R98: =INDEX(ИТОГИ!K:K,MATCH(протокол!Q98,ИТОГИ!E:E,0)) -> 0.0098263889
A99: 8 | B99: =INDEX(Оргео!C:C,MATCH(протокол!Q99,Оргео!F:F,0)) -> Тагаров | C99: =INDEX(Оргео!D:D,MATCH(протокол!Q99,Оргео!F:F,0)) -> Михаил | D99: =INDEX(Оргео!E:E,MATCH(протокол!Q99,Оргео!F:F,0)) -> Алексеевич | E99: =INDEX(Оргео!L:L,MATCH(протокол!Q99,Оргео!F:F,0)) -> 40175 | F99: =INDEX(мандатка!I:I,MATCH(протокол!Q99,мандатка!F:F,0)) -> кмс | G99: =INDEX(мандатка!Z:Z,MATCH(протокол!Q99,мандатка!F:F,0)) -> ГБУ ДО «Московская академия современного пятиборья» | H99: =INDEX(ИТОГИ!G:G,MATCH(протокол!Q99,ИТОГИ!E:E,0)) -> 0.0042013889 | I99: =INDEX(ИТОГИ!H:H,MATCH(протокол!Q99,ИТОГИ!E:E,0)) -> (10) | J99: =INDEX(ИТОГИ!I:I,MATCH(протокол!Q99,ИТОГИ!E:E,0)) -> 0.0056712963 | K99: =INDEX(ИТОГИ!J:J,MATCH(протокол!Q99,ИТОГИ!E:E,0)) -> (12) | L99: =H99+J99 -> 0.0098726852 | M99: =L99-$L$92 -> 0.00056712963 | N99: =M99/$L$92 -> 0.060945274 | O99: 1р | P99: =INDEX(мандатка!AC:AC,MATCH(протокол!Q99,мандатка!F:F,0)) -> Анисимова Нина Валентиновна | Q99: Тагаров Михаил | R99: =INDEX(ИТОГИ!K:K,MATCH(протокол!Q99,ИТОГИ!E:E,0)) -> 0.0098726852
A100: 9 | B100: =INDEX(Оргео!C:C,MATCH(протокол!Q100,Оргео!F:F,0)) -> Аржаных | C100: =INDEX(Оргео!D:D,MATCH(протокол!Q100,Оргео!F:F,0)) -> Макар | D100: =INDEX(Оргео!E:E,MATCH(протокол!Q100,Оргео!F:F,0)) -> Сергеевич | E100: =INDEX(Оргео!L:L,MATCH(протокол!Q100,Оргео!F:F,0)) -> 40714 | F100: =INDEX(мандатка!I:I,MATCH(протокол!Q100,мандатка!F:F,0)) -> кмс | G100: =INDEX(мандатка!Z:Z,MATCH(протокол!Q100,мандатка!F:F,0)) -> ГБУ ДО «Московская академия современного пятиборья» | H100: =INDEX(ИТОГИ!G:G,MATCH(протокол!Q100,ИТОГИ!E:E,0)) -> 0.0042592593 | I100: =INDEX(ИТОГИ!H:H,MATCH(протокол!Q100,ИТОГИ!E:E,0)) -> (12) | J100: =INDEX(ИТОГИ!I:I,MATCH(протокол!Q100,ИТОГИ!E:E,0)) -> 0.005625 | K100: =INDEX(ИТОГИ!J:J,MATCH(протокол!Q100,ИТОГИ!E:E,0)) -> (10) | L100: =H100+J100 -> 0.0098842593 | M100: =L100-$L$92 -> 0.0005787037 | N100: =M100/$L$92 -> 0.062189055 | O100: 1р | P100: =INDEX(мандатка!AC:AC,MATCH(протокол!Q100,мандатка!F:F,0)) -> Багазеев Александр Константинович | Q100: Аржаных Макар | R100: =INDEX(ИТОГИ!K:K,MATCH(протокол!Q100,ИТОГИ!E:E,0)) -> 0.0098842593
A101: 10 | B101: =INDEX(Оргео!C:C,MATCH(протокол!Q101,Оргео!F:F,0)) -> Пушкин | C101: =INDEX(Оргео!D:D,MATCH(протокол!Q101,Оргео!F:F,0)) -> Сергей | D101: =INDEX(Оргео!E:E,MATCH(протокол!Q101,Оргео!F:F,0)) -> Сергеевич | E101: =INDEX(Оргео!L:L,MATCH(протокол!Q101,Оргео!F:F,0)) -> 40876 | F101: =INDEX(мандатка!I:I,MATCH(протокол!Q101,мандатка!F:F,0)) -> 1р | G101: =INDEX(мандатка!Z:Z,MATCH(протокол!Q101,мандатка!F:F,0)) -> ГБУ ДО «Московская академия современного пятиборья» | H101: =INDEX(ИТОГИ!G:G,MATCH(протокол!Q101,ИТОГИ!E:E,0)) -> 0.0045717593 | I101: =INDEX(ИТОГИ!H:H,MATCH(протокол!Q101,ИТОГИ!E:E,0)) -> (20) | J101: =INDEX(ИТОГИ!I:I,MATCH(протокол!Q101,ИТОГИ!E:E,0)) -> 0.0053356481 | K101: =INDEX(ИТОГИ!J:J,MATCH(протокол!Q101,ИТОГИ!E:E,0)) -> (4) | L101: =H101+J101 -> 0.0099074074 | M101: =L101-$L$92 -> 0.00060185185 | N101: =M101/$L$92 -> 0.064676617 | O101: 1р | P101: =INDEX(мандатка!AC:AC,MATCH(протокол!Q101,мандатка!F:F,0)) -> Багазеев Александр Константинович | Q101: Пушкин Сергей | R101: =INDEX(ИТОГИ!K:K,MATCH(протокол!Q101,ИТОГИ!E:E,0)) -> 0.0099074074
A102: 11 | B102: =INDEX(Оргео!C:C,MATCH(протокол!Q102,Оргео!F:F,0)) -> Тишков | C102: =INDEX(Оргео!D:D,MATCH(протокол!Q102,Оргео!F:F,0)) -> Георгий | D102: =INDEX(Оргео!E:E,MATCH(протокол!Q102,Оргео!F:F,0)) -> Александрович | E102: =INDEX(Оргео!L:L,MATCH(протокол!Q102,Оргео!F:F,0)) -> 40055 | F102: =INDEX(мандатка!I:I,MATCH(протокол!Q102,мандатка!F:F,0)) -> кмс | G102: =INDEX(мандатка!Z:Z,MATCH(протокол!Q102,мандатка!F:F,0)) -> ГБПОУ «МССУОР № 2» Москомспорта | H102: =INDEX(ИТОГИ!G:G,MATCH(протокол!Q102,ИТОГИ!E:E,0)) -> 0.0041782407 | I102: =INDEX(ИТОГИ!H:H,MATCH(протокол!Q102,ИТОГИ!E:E,0)) -> (7) | J102: =INDEX(ИТОГИ!I:I,MATCH(протокол!Q102,ИТОГИ!E:E,0)) -> 0.0057523148 | K102: =INDEX(ИТОГИ!J:J,MATCH(протокол!Q102,ИТОГИ!E:E,0)) -> (14) | L102: =H102+J102 -> 0.0099305556 | M102: =L102-$L$92 -> 0.000625 | N102: =M102/$L$92 -> 0.067164179 | O102: 1р | P102: =INDEX(мандатка!AC:AC,MATCH(протокол!Q102,мандатка!F:F,0)) -> Антошина Ирина Николаевна | Q102: Тишков Георгий | R102: =INDEX(ИТОГИ!K:K,MATCH(протокол!Q102,ИТОГИ!E:E,0)) -> 0.0099305556
A103: 12 | B103: =INDEX(Оргео!C:C,MATCH(протокол!Q103,Оргео!F:F,0)) -> Качко | C103: =INDEX(Оргео!D:D,MATCH(протокол!Q103,Оргео!F:F,0)) -> Артемий | D103: =INDEX(Оргео!E:E,MATCH(протокол!Q103,Оргео!F:F,0)) -> Алексеевич | E103: =INDEX(Оргео!L:L,MATCH(протокол!Q103,Оргео!F:F,0)) -> 40212 | F103: =INDEX(мандатка!I:I,MATCH(протокол!Q103,мандатка!F:F,0)) -> кмс | G103: =INDEX(мандатка!Z:Z,MATCH(протокол!Q103,мандатка!F:F,0)) -> ГБПОУ «МССУОР № 2» Москомспорта | H103: =INDEX(ИТОГИ!G:G,MATCH(протокол!Q103,ИТОГИ!E:E,0)) -> 0.0046064815 | I103: =INDEX(ИТОГИ!H:H,MATCH(протокол!Q103,ИТОГИ!E:E,0)) -> (21) | J103: =INDEX(ИТОГИ!I:I,MATCH(протокол!Q103,ИТОГИ!E:E,0)) -> 0.0054513889 | K103: =INDEX(ИТОГИ!J:J,MATCH(протокол!Q103,ИТОГИ!E:E,0)) -> (7) | L103: =H103+J103 -> 0.01005787 | M103: =L103-$L$92 -> 0.00075231481 | N103: =M103/$L$92 -> 0.080845771 | O103: 1р | P103: =INDEX(мандатка!AC:AC,MATCH(протокол!Q103,мандатка!F:F,0)) -> Мещерякова Валентина Николаевна | Q103: Качко Артемий | R103: =INDEX(ИТОГИ!K:K,MATCH(протокол!Q103,ИТОГИ!E:E,0)) -> 0.01005787
A104: 13 | B104: =INDEX(Оргео!C:C,MATCH(протокол!Q104,Оргео!F:F,0)) -> Султанов | C104: =INDEX(Оргео!D:D,MATCH(протокол!Q104,Оргео!F:F,0)) -> Илья | D104: =INDEX(Оргео!E:E,MATCH(протокол!Q104,Оргео!F:F,0)) -> Русланович | E104: =INDEX(Оргео!L:L,MATCH(протокол!Q104,Оргео!F:F,0)) -> 40157 | F104: =INDEX(мандатка!I:I,MATCH(протокол!Q104,мандатка!F:F,0)) -> кмс | G104: =INDEX(мандатка!Z:Z,MATCH(протокол!Q104,мандатка!F:F,0)) -> ГБПОУ «МССУОР № 2» Москомспорта | H104: =INDEX(ИТОГИ!G:G,MATCH(протокол!Q104,ИТОГИ!E:E,0)) -> 0.0041435185 | I104: =INDEX(ИТОГИ!H:H,MATCH(протокол!Q104,ИТОГИ!E:E,0)) -> (5) | J104: =INDEX(ИТОГИ!I:I,MATCH(протокол!Q104,ИТОГИ!E:E,0)) -> 0.0059375 | K104: =INDEX(ИТОГИ!J:J,MATCH(протокол!Q104,ИТОГИ!E:E,0)) -> (16) | L104: =H104+J104 -> 0.010081019 | M104: =L104-$L$92 -> 0.00077546296 | N104: =M104/$L$92 -> 0.083333333 | O104: 1р | P104: =INDEX(мандатка!AC:AC,MATCH(протокол!Q104,мандатка!F:F,0)) -> Пахомова Марина Сергеевна | Q104: Султанов Илья | R104: =INDEX(ИТОГИ!K:K,MATCH(протокол!Q104,ИТОГИ!E:E,0)) -> 0.010081019
A105: 14 | B105: =INDEX(Оргео!C:C,MATCH(протокол!Q105,Оргео!F:F,0)) -> Ващенко | C105: =INDEX(Оргео!D:D,MATCH(протокол!Q105,Оргео!F:F,0)) -> Марк | D105: =INDEX(Оргео!E:E,MATCH(протокол!Q105,Оргео!F:F,0)) -> Антонович | E105: =INDEX(Оргео!L:L,MATCH(протокол!Q105,Оргео!F:F,0)) -> 40786 | F105: =INDEX(мандатка!I:I,MATCH(протокол!Q105,мандатка!F:F,0)) -> кмс | G105: =INDEX(мандатка!Z:Z,MATCH(протокол!Q105,мандатка!F:F,0)) -> АНО «ДЮСШ «Акватикс» | H105: =INDEX(ИТОГИ!G:G,MATCH(протокол!Q105,ИТОГИ!E:E,0)) -> 0.0045486111 | I105: =INDEX(ИТОГИ!H:H,MATCH(протокол!Q105,ИТОГИ!E:E,0)) -> (17) | J105: =INDEX(ИТОГИ!I:I,MATCH(протокол!Q105,ИТОГИ!E:E,0)) -> 0.0056481481 | K105: =INDEX(ИТОГИ!J:J,MATCH(протокол!Q105,ИТОГИ!E:E,0)) -> (11) | L105: =H105+J105 -> 0.010196759 | M105: =L105-$L$92 -> 0.0008912037 | N105: =M105/$L$92 -> 0.095771144 | O105: 1р | P105: =INDEX(мандатка!AC:AC,MATCH(протокол!Q105,мандатка!F:F,0)) -> Борисов Евгений Валерьевич, Самсонов Иван Александрович | Q105: Ващенко Марк | R105: =INDEX(ИТОГИ!K:K,MATCH(протокол!Q105,ИТОГИ!E:E,0)) -> 0.010196759
A106: 15 | B106: =INDEX(Оргео!C:C,MATCH(протокол!Q106,Оргео!F:F,0)) -> Нехожин | C106: =INDEX(Оргео!D:D,MATCH(протокол!Q106,Оргео!F:F,0)) -> Дмитрий | D106: =INDEX(Оргео!E:E,MATCH(протокол!Q106,Оргео!F:F,0)) -> Михайлович | E106: =INDEX(Оргео!L:L,MATCH(протокол!Q106,Оргео!F:F,0)) -> 40591 | F106: =INDEX(мандатка!I:I,MATCH(протокол!Q106,мандатка!F:F,0)) -> кмс | G106: =INDEX(мандатка!Z:Z,MATCH(протокол!Q106,мандатка!F:F,0)) -> ГБПОУ «МССУОР № 2» Москомспорта | H106: =INDEX(ИТОГИ!G:G,MATCH(протокол!Q106,ИТОГИ!E:E,0)) -> 0.0043171296 | I106: =INDEX(ИТОГИ!H:H,MATCH(протокол!Q106,ИТОГИ!E:E,0)) -> (13) | J106: =INDEX(ИТОГИ!I:I,MATCH(протокол!Q106,ИТОГИ!E:E,0)) -> 0.0060069444 | K106: =INDEX(ИТОГИ!J:J,MATCH(протокол!Q106,ИТОГИ!E:E,0)) -> (18) | L106: =H106+J106 -> 0.010324074 | M106: =L106-$L$92 -> 0.0010185185 | N106: =M106/$L$92 -> 0.10945274 | O106: 1р | P106: =INDEX(мандатка!AC:AC,MATCH(протокол!Q106,мандатка!F:F,0)) -> Семиволос Алексей Юрьевич | Q106: Нехожин Дмитрий | R106: =INDEX(ИТОГИ!K:K,MATCH(протокол!Q106,ИТОГИ!E:E,0)) -> 0.010324074
A107: 16 | B107: =INDEX(Оргео!C:C,MATCH(протокол!Q107,Оргео!F:F,0)) -> Бутов | C107: =INDEX(Оргео!D:D,MATCH(протокол!Q107,Оргео!F:F,0)) -> Михаил | D107: =INDEX(Оргео!E:E,MATCH(протокол!Q107,Оргео!F:F,0)) -> Евгеньевич | E107: =INDEX(Оргео!L:L,MATCH(протокол!Q107,Оргео!F:F,0)) -> 40200 | F107: =INDEX(мандатка!I:I,MATCH(протокол!Q107,мандатка!F:F,0)) -> кмс | G107: =INDEX(мандатка!Z:Z,MATCH(протокол!Q107,мандатка!F:F,0)) -> ГБПОУ «МССУОР № 2» Москомспорта | H107: =INDEX(ИТОГИ!G:G,MATCH(протокол!Q107,ИТОГИ!E:E,0)) -> 0.0041087963 | I107: =INDEX(ИТОГИ!H:H,MATCH(протокол!Q107,ИТОГИ!E:E,0)) -> (3) | J107: =INDEX(ИТОГИ!I:I,MATCH(протокол!Q107,ИТОГИ!E:E,0)) -> 0.00625 | K107: =INDEX(ИТОГИ!J:J,MATCH(протокол!Q107,ИТОГИ!E:E,0)) -> (20) | L107: =H107+J107 -> 0.010358796 | M107: =L107-$L$92 -> 0.0010532407 | N107: =M107/$L$92 -> 0.11318408 | O107: 1р | P107: =INDEX(мандатка!AC:AC,MATCH(протокол!Q107,мандатка!F:F,0)) -> Мещерякова Валентина Николаевна | Q107: Бутов Михаил | R107: =INDEX(ИТОГИ!K:K,MATCH(протокол!Q107,ИТОГИ!E:E,0)) -> 0.010358796
A108: 17 | B108: =INDEX(Оргео!C:C,MATCH(протокол!Q108,Оргео!F:F,0)) -> Добролюбов | C108: =INDEX(Оргео!D:D,MATCH(протокол!Q108,Оргео!F:F,0)) -> Игорь | D108: =INDEX(Оргео!E:E,MATCH(протокол!Q108,Оргео!F:F,0)) -> Олегович | E108: =INDEX(Оргео!L:L,MATCH(протокол!Q108,Оргео!F:F,0)) -> 40608 | F108: =INDEX(мандатка!I:I,MATCH(протокол!Q108,мандатка!F:F,0)) -> кмс | G108: =INDEX(мандатка!Z:Z,MATCH(протокол!Q108,мандатка!F:F,0)) -> ГБПОУ «МССУОР № 2» Москомспорта | H108: =INDEX(ИТОГИ!G:G,MATCH(протокол!Q108,ИТОГИ!E:E,0)) -> 0.0043634259 | I108: =INDEX(ИТОГИ!H:H,MATCH(протокол!Q108,ИТОГИ!E:E,0)) -> (14) | J108: =INDEX(ИТОГИ!I:I,MATCH(протокол!Q108,ИТОГИ!E:E,0)) -> 0.0060532407 | K108: =INDEX(ИТОГИ!J:J,MATCH(протокол!Q108,ИТОГИ!E:E,0)) -> (19) | L108: =H108+J108 -> 0.010416667 | M108: =L108-$L$92 -> 0.0011111111 | N108: =M108/$L$92 -> 0.11940299 | O108: 1р | P108: =INDEX(мандатка!AC:AC,MATCH(протокол!Q108,мандатка!F:F,0)) -> Мещерякова Валентина Николаевна | Q108: Добролюбов Игорь | R108: =INDEX(ИТОГИ!K:K,MATCH(протокол!Q108,ИТОГИ!E:E,0)) -> 0.010416667
...

Sheet ИТОГИ
A1: Группа | B1: П/п | C1: Место | D1: № | E1: Фамилия, имя | F1: Команда | G1: SWIM | I1: RUN | K1: FINISH | L1: Отставан
A2: Д14 | B2: 1 | C2: 1 | D2: 1441 | E2: Петровская Анастасия | F2: ГБОУ ДО МАСП | G2: 0.0048032407 | H2: =CONCATENATE("(",RANK(G2,$G$2:$G$11,1),")") -> (2) | I2: =K2-G2 -> 0.0057175926 | J2: =CONCATENATE("(",RANK(I2,$I$2:$I$11,1),")") -> (1) | K2: 0.010520833 | L2: +00:00
A3: Д14 | B3: 2 | C3: 2 | D3: 147 | E3: Давыдова Екатерина | F3: ГБОУ ДО МАСП | G3: 0.0051157407 | H3: =CONCATENATE("(",RANK(G3,$G$2:$G$11,1),")") -> (5) | I3: =K3-G3 -> 0.0064583333 | J3: =CONCATENATE("(",RANK(I3,$I$2:$I$11,1),")") -> (2) | K3: 0.011574074 | L3: +01:31
A4: Д14 | B4: 3 | C4: 3 | D4: 146 | E4: Буханова Диана | F4: ГБОУ ДО МАСП | G4: 0.0045023148 | H4: =CONCATENATE("(",RANK(G4,$G$2:$G$11,1),")") -> (1) | I4: =K4-G4 -> 0.0071990741 | J4: =CONCATENATE("(",RANK(I4,$I$2:$I$11,1),")") -> (7) | K4: 0.011701389 | L4: +01:42
A5: Д14 | B5: 4 | C5: 4 | D5: 145 | E5: Рогожина Дарья | F5: МССУОР№2 | G5: 0.0049768519 | H5: =CONCATENATE("(",RANK(G5,$G$2:$G$11,1),")") -> (3) | I5: =K5-G5 -> 0.0068171296 | J5: =CONCATENATE("(",RANK(I5,$I$2:$I$11,1),")") -> (3) | K5: 0.011793981 | L5: +01:50
A6: Д14 | B6: 5 | C6: 5 | D6: 149 | E6: Петрова Полина | F6: ГБОУ ДО МАСП | G6: 0.0050231481 | H6: =CONCATENATE("(",RANK(G6,$G$2:$G$11,1),")") -> (4) | I6: =K6-G6 -> 0.0070949074 | J6: =CONCATENATE("(",RANK(I6,$I$2:$I$11,1),")") -> (6) | K6: 0.012118056 | L6: +02:18
A7: Д14 | B7: 6 | C7: 6 | D7: 150 | E7: Сомова Алиса | F7: ДЮСШ "АКВАТИКС" | G7: 0.0052546296 | H7: =CONCATENATE("(",RANK(G7,$G$2:$G$11,1),")") -> (7) | I7: =K7-G7 -> 0.0069328704 | J7: =CONCATENATE("(",RANK(I7,$I$2:$I$11,1),")") -> (4) | K7: 0.0121875 | L7: +02:24
A8: Д14 | B8: 7 | C8: 7 | D8: 148 | E8: Жевагина Виктория | F8: МССУОР№2 | G8: 0.0052430556 | H8: =CONCATENATE("(",RANK(G8,$G$2:$G$11,1),")") -> (6) | I8: =K8-G8 -> 0.0072569444 | J8: =CONCATENATE("(",RANK(I8,$I$2:$I$11,1),")") -> (8) | K8: 0.0125 | L8: +02:51
A9: Д14 | B9: 8 | C9: 8 | D9: 1431 | E9: Ланцова Мария | F9: Акватикс | G9: 0.0056365741 | H9: =CONCATENATE("(",RANK(G9,$G$2:$G$11,1),")") -> (8) | I9: =K9-G9 -> 0.0069560185 | J9: =CONCATENATE("(",RANK(I9,$I$2:$I$11,1),")") -> (5) | K9: 0.012592593 | L9: +02:59
A10: Д14 | B10: 9 | C10: 9 | D10: 1421 | E10: Жаринова Анна | F10: МССУОР№2 | G10: 0.0056597222 | H10: =CONCATENATE("(",RANK(G10,$G$2:$G$11,1),")") -> (9) | I10: =K10-G10 -> 0.0073611111 | J10: =CONCATENATE("(",RANK(I10,$I$2:$I$11,1),")") -> (9) | K10: 0.013020833 | L10: +03:36
A11: Д14 | B11: 10 | C11: 10 | D11: 1411 | E11: Украинцева Софья | F11: Акватикс | G11: 0.0057986111 | H11: =CONCATENATE("(",RANK(G11,$G$11:$G$26,1),")") -> (16) | I11: =K11-G11 -> 0.0077083333 | J11: =CONCATENATE("(",RANK(I11,$I$11:$I$26,1),")") -> (12) | K11: 0.013506944 | L11: +04:18
A12: Д17 | B12: 1 | C12: 1 | D12: 1341 | E12: КлючарЁва Иоанна | F12: ГБОУ ДО МАСП | G12: 0.0045486111 | H12: =CONCATENATE("(",RANK(G12,$G$11:$G$26,1),")") -> (1) | I12: =K12-G12 -> 0.006087963 | J12: =CONCATENATE("(",RANK(I12,$I$11:$I$26,1),")") -> (1) | K12: 0.010636574 | L12: +00:00
A13: Д17 | B13: 2 | C13: 2 | D13: 1291 | E13: Титова Алина | F13: ГБОУ ДО МАСП | G13: 0.0046180556 | H13: =CONCATENATE("(",RANK(G13,$G$11:$G$26,1),")") -> (2) | I13: =K13-G13 -> 0.0062847222 | J13: =CONCATENATE("(",RANK(I13,$I$11:$I$26,1),")") -> (3) | K13: 0.010902778 | L13: +00:23
A14: Д17 | B14: 3 | C14: 3 | D14: 1391 | E14: Длютрова Ульяна | F14: МССУОР№2 | G14: 0.0046643519 | H14: =CONCATENATE("(",RANK(G14,$G$11:$G$26,1),")") -> (5) | I14: =K14-G14 -> 0.0062962963 | J14: =CONCATENATE("(",RANK(I14,$I$11:$I$26,1),")") -> (4) | K14: 0.010960648 | L14: +00:28
A15: Д17 | B15: 4 | C15: 4 | D15: 1331 | E15: Корюкалова Ева | F15: МССУОР№2 | G15: 0.0049768519 | H15: =CONCATENATE("(",RANK(G15,$G$11:$G$26,1),")") -> (12) | I15: =K15-G15 -> 0.0061921296 | J15: =CONCATENATE("(",RANK(I15,$I$11:$I$26,1),")") -> (2) | K15: 0.011168981 | L15: +00:46
A16: Д17 | B16: 5 | C16: 5 | D16: 1281 | E16: Семенова Юлия | F16: ГБОУ ДО МАСП | G16: 0.0047222222 | H16: =CONCATENATE("(",RANK(G16,$G$11:$G$26,1),")") -> (7) | I16: =K16-G16 -> 0.0065046296 | J16: =CONCATENATE("(",RANK(I16,$I$11:$I$26,1),")") -> (5) | K16: 0.011226852 | L16: +00:51
A17: Д17 | B17: 6 | C17: 6 | D17: 1401 | E17: Куфман Варвара | F17: ГБПОУ "МССУОР №2" | G17: 0.0047916667 | H17: =CONCATENATE("(",RANK(G17,$G$11:$G$26,1),")") -> (11) | I17: =K17-G17 -> 0.0065509259 | J17: =CONCATENATE("(",RANK(I17,$I$11:$I$26,1),")") -> (6) | K17: 0.011342593 | L17: +01:01
A18: Д17 | B18: 7 | C18: 7 | D18: 1371 | E18: Дащенко Элина | F18: МССУОР№2 | G18: 0.0046527778 | H18: =CONCATENATE("(",RANK(G18,$G$11:$G$26,1),")") -> (3) | I18: =K18-G18 -> 0.0069212963 | J18: =CONCATENATE("(",RANK(I18,$I$11:$I$26,1),")") -> (10) | K18: 0.011574074 | L18: +01:21
A19: Д17 | B19: 8 | C19: 8 | D19: 1321 | E19: Пронюк Анастасия | F19: ГБОУ ДО "МАСП" | G19: 0.0047337963 | H19: =CONCATENATE("(",RANK(G19,$G$11:$G$26,1),")") -> (8) | I19: =K19-G19 -> 0.0069212963 | J19: =CONCATENATE("(",RANK(I19,$I$11:$I$26,1),")") -> (9) | K19: 0.011655093 | L19: +01:28
A20: Д17 | B20: 9 | C20: 9 | D20: 1301 | E20: Филина Анна | F20: ГБОУ ДО МАСП | G20: 0.0050347222 | H20: =CONCATENATE("(",RANK(G20,$G$11:$G$26,1),")") -> (13) | I20: =K20-G20 -> 0.0067708333 | J20: =CONCATENATE("(",RANK(I20,$I$11:$I$26,1),")") -> (8) | K20: 0.011805556 | L20: +01:41
A21: Д17 | B21: 10 | C21: 10 | D21: 1351 | E21: Игошина Дарина | F21: МССУОР№2 | G21: 0.0054398148 | H21: =CONCATENATE("(",RANK(G21,$G$11:$G$26,1),")") -> (14) | I21: =K21-G21 -> 0.0066087963 | J21: =CONCATENATE("(",RANK(I21,$I$11:$I$26,1),")") -> (7) | K21: 0.012048611 | L21: +02:02
A22: Д17 | B22: 11 | C22: 11 | D22: 1311 | E22: Морданова Софья | F22: ГБОУ ДО "МАСП" | G22: 0.0046527778 | H22: =CONCATENATE("(",RANK(G22,$G$11:$G$26,1),")") -> (3) | I22: =K22-G22 -> 0.0078703704 | J22: =CONCATENATE("(",RANK(I22,$I$11:$I$26,1),")") -> (13) | K22: 0.012523148 | L22: +02:43
... A24: Д17 | B24: 13 | C24: 13 | D24: 1361 | E24: Силина Кира | F24: МССУОР№2 | G24: 0.0046643519 | H24: =CONCATENATE("(",RANK(G24,$G$11:$G$26,1),")") -> (5) | I24: =K24-G24 -> 0.0083333333 | J24: =CONCATENATE("(",RANK(I24,$I$11:$I$26,1),")") -> (14) | K24: 0.012997685 | L24: +03:24
A25: Д17 | B25: 14 | D25: 22 | E25: Маркина Дарья | F25: ГБОУ ДО МАСП | G25: 0.0047337963 | H25: =CONCATENATE("(",RANK(G25,$G$11:$G$26,1),")") -> (8) | I25: сошел | K25: н/ф
A26: Д17 | B26: 15 | D26: 16 | E26: Зовская Софья | F26: ГБОУ ДО "МАСП" | G26: 0.0047685185 | H26: =CONCATENATE("(",RANK(G26,$G$11:$G$26,1),")") -> (10) | I26: сошел | K26: н/ф
A27: М14 | B27: 1 | C27: 1 | D27: 69 | E27: Медведев Антон | F27: ГБПОУ "МССУОР №2" | G27: 0.0040740741 | H27: =CONCATENATE("(",RANK(G27,$G$27:$G$51,1),")") -> (1) | I27: =K27-G27 -> 0.0056018519 | J27: =CONCATENATE("(",RANK(I27,$I$27:$I$51,1),")") -> (1) | K27: 0.0096759259 | L27: +00:00
A28: М14 | B28: 2 | C28: 2 | D28: 51 | E28: Акиньшин Платон | F28: ГБОУ ДО МАСП | G28: 0.0041550926 | H28: =CONCATENATE("(",RANK(G28,$G$27:$G$51,1),")") -> (2) | I28: =K28-G28 -> 0.0056597222 | J28: =CONCATENATE("(",RANK(I28,$I$27:$I$51,1),")") -> (2) | K28: 0.0098148148 | L28: +00:12
A29: М14 | B29: 3 | C29: 3 | D29: 52 | E29: Бобков Игорь | F29: ГБОУ ДО МАСП | G29: 0.0043402778 | H29: =CONCATENATE("(",RANK(G29,$G$27:$G$51,1),")") -> (4) | I29: =K29-G29 -> 0.0056828704 | J29: =CONCATENATE("(",RANK(I29,$I$27:$I$51,1),")") -> (3) | K29: 0.010023148 | L29: +00:30
A30: М14 | B30: 4 | C30: 4 | D30: 77 | E30: Харин Тимур | F30: ГБОУ ДО МАСП | G30: 0.0043287037 | H30: =CONCATENATE("(",RANK(G30,$G$27:$G$51,1),")") -> (3) | I30: =K30-G30 -> 0.0058680556 | J30: =CONCATENATE("(",RANK(I30,$I$27:$I$51,1),")") -> (6) | K30: 0.010196759 | L30: +00:45
A31: М14 | B31: 5 | C31: 5 | D31: 63 | E31: Красников Лев | F31: ДЮСШ "АКВАТИКС" | G31: 0.0046875 | H31: =CONCATENATE("(",RANK(G31,$G$27:$G$51,1),")") -> (8) | I31: =K31-G31 -> 0.0058564815 | J31: =CONCATENATE("(",RANK(I31,$I$27:$I$51,1),")") -> (5) | K31: 0.010543981 | L31: +01:15
A32: М14 | B32: 6 | C32: 6 | D32: 73 | E32: Рогожин Дмитрий | F32: МССУОР№2 | G32: 0.0046643519 | H32: =CONCATENATE("(",RANK(G32,$G$27:$G$51,1),")") -> (7) | I32: =K32-G32 -> 0.0060300926 | J32: =CONCATENATE("(",RANK(I32,$I$27:$I$51,1),")") -> (11) | K32: 0.010694444 | L32: +01:28
A33: М14 | B33: 7 | C33: 7 | D33: 691 | E33: Шевяков Артем | F33: ДЮСШ "АКВАТИКС" | G33: 0.0048842593 | H33: =CONCATENATE("(",RANK(G33,$G$27:$G$51,1),")") -> (15) | I33: =K33-G33 -> 0.0058912037 | J33: =CONCATENATE("(",RANK(I33,$I$27:$I$51,1),")") -> (7) | K33: 0.010775463 | L33: +01:35
A34: М14 | B34: 8 | C34: 8 | D34: 751 | E34: Воловик Степан | F34: ГБОУ ДО МАСП | G34: 0.0048032407 | H34: =CONCATENATE("(",RANK(G34,$G$27:$G$51,1),")") -> (11) | I34: =K34-G34 -> 0.0059953704 | J34: =CONCATENATE("(",RANK(I34,$I$27:$I$51,1),")") -> (10) | K34: 0.010798611 | L34: +01:37
A35: М14 | B35: 9 | C35: 9 | D35: 721 | E35: Комлик Тимофей | F35: МССУОР№2 | G35: 0.0051041667 | H35: =CONCATENATE("(",RANK(G35,$G$27:$G$51,1),")") -> (17) | I35: =K35-G35 -> 0.0059953704 | J35: =CONCATENATE("(",RANK(I35,$I$27:$I$51,1),")") -> (9) | K35: 0.011099537 | L35: +02:03
A36: М14 | B36: 10 | C36: 10 | D36: 681 | E36: Лукьянов Артем | F36: ДЮСШ "АКВАТИКС" | G36: 0.0051273148 | H36: =CONCATENATE("(",RANK(G36,$G$27:$G$51,1),")") -> (20) | I36: =K36-G36 -> 0.0059837963 | J36: =CONCATENATE("(",RANK(I36,$I$27:$I$51,1),")") -> (8) | K36: 0.011111111 | L36: +02:04
A37: М14 | B37: 11 | C37: 11 | D37: 55 | E37: Диденко Александр | F37: ГБОУ ДО МАСП | G37: 0.0044791667 | H37: =CONCATENATE("(",RANK(G37,$G$27:$G$51,1),")") -> (5) | I37: =K37-G37 -> 0.0066898148 | J37: =CONCATENATE("(",RANK(I37,$I$27:$I$51,1),")") -> (16) | K37: 0.011168981 | L37: +02:09
A38: М14 | B38: 12 | C38: 12 | D38: 58 | E38: Ершов Антон | F38: ГБОУ ДО МАСП | G38: 0.0047569444 | H38: =CONCATENATE("(",RANK(G38,$G$27:$G$51,1),")") -> (9) | I38: =K38-G38 -> 0.0064351852 | J38: =CONCATENATE("(",RANK(I38,$I$27:$I$51,1),")") -> (15) | K38: 0.01119213 | L38: +02:11
... A51: М14 | B51: 25 | C51: 25 | D51: 651 | E51: Минажетдинов Руслан | F51: ГБОУ ДО МАСП | G51: 0.0064351852 | H51: =CONCATENATE("(",RANK(G51,$G$27:$G$51,1),")") -> (25) | I51: =K51-G51 -> 0.0069444444 | J51: =CONCATENATE("(",RANK(I51,$I$27:$I$51,1),")") -> (23) | K51: 0.01337963 | L51: +05:20
A52: М17 | B52: 1 | C52: 1 | D52: 80 | E52: Арстамян Глеб | F52: МССУОР№2 | G52: 0.003912037 | H52: =CONCATENATE("(",RANK(G52,$G$52:$G$80,1),")") -> (2) | I52: =K52-G52 -> 0.0053935185 | J52: =CONCATENATE("(",RANK(I52,$I$52:$I$80,1),")") -> (5) | K52: 0.0093055556 | L52: +00:00
A53: М17 | B53: 2 в/к | C53: 2 в/к | D53: 90 | E53: Задаура Дмитрий | F53: Нижний Новгород, лично | G53: 0.0041087963 | H53: =CONCATENATE("(",RANK(G53,$G$52:$G$80,1),")") -> (3) | I53: =K53-G53 -> 0.0053240741 | J53: =CONCATENATE("(",RANK(I53,$I$52:$I$80,1),")") -> (2) | K53: 0.0094328704 | L53: +00:11
A54: М17 | B54: 2 | C54: 2 | D54: 94 | E54: Кузин Василий | F54: ГБОУ ДО МАСП | G54: 0.0041666667 | H54: =CONCATENATE("(",RANK(G54,$G$52:$G$80,1),")") -> (6) | I54: =K54-G54 -> 0.0053356481 | J54: =CONCATENATE("(",RANK(I54,$I$52:$I$80,1),")") -> (3) | K54: 0.0095023148 | L54: +00:17
A55: М17 | B55: 3 | C55: 3 | D55: 97 | E55: Мельничук Георгий | F55: ГБОУ ДО МАСП | G55: 0.003900463 | H55: =CONCATENATE("(",RANK(G55,$G$52:$G$80,1),")") -> (1) | I55: =K55-G55 -> 0.0056944444 | J55: =CONCATENATE("(",RANK(I55,$I$52:$I$80,1),")") -> (13) | K55: 0.0095949074 | L55: +00:25
A56: М17 | B56: 3 | C56: 3 | D56: 98 | E56: Михайлов Никита | F56: МССУОР№2 | G56: 0.0041782407 | H56: =CONCATENATE("(",RANK(G56,$G$52:$G$80,1),")") -> (7) | I56: =K56-G56 -> 0.0054166667 | J56: =CONCATENATE("(",RANK(I56,$I$52:$I$80,1),")") -> (6) | K56: 0.0095949074 | L56: +00:25
A57: М17 | B57: 4 | C57: 4 | D57: 86 | E57: Гришин Артём | F57: ГБОУ ДО МАСП | G57: 0.004224537 | H57: =CONCATENATE("(",RANK(G57,$G$52:$G$80,1),")") -> (11) | I57: =K57-G57 -> 0.005474537 | J57: =CONCATENATE("(",RANK(I57,$I$52:$I$80,1),")") -> (8) | K57: 0.0096990741 | L57: +00:34
A58: М17 | B58: 5 | C58: 5 | D58: 93 | E58: Коротких Матвей | F58: МССУОР№2 | G58: 0.0041898148 | H58: =CONCATENATE("(",RANK(G58,$G$52:$G$80,1),")") -> (9) | I58: =K58-G58 -> 0.0055902778 | J58: =CONCATENATE("(",RANK(I58,$I$52:$I$80,1),")") -> (9) | K58: 0.0097800926 | L58: +00:41
A59: М17 | B59: 6 | C59: 6 | D59: 84 | E59: Галиуллин Руслан | F59: ГБОУ ДО "МАСП" | G59: 0.0045486111 | H59: =CONCATENATE("(",RANK(G59,$G$52:$G$80,1),")") -> (17) | I59: =K59-G59 -> 0.0052777778 | J59: =CONCATENATE("(",RANK(I59,$I$52:$I$80,1),")") -> (1) | K59: 0.0098263889 | L59: +00:45
A60: М17 | B60: 7 | C60: 7 | D60: 108 | E60: Тагаров Михаил | F60: ГБОУ ДО "МАСП" | G60: 0.0042013889 | H60: =CONCATENATE("(",RANK(G60,$G$52:$G$80,1),")") -> (10) | I60: =K60-G60 -> 0.0056712963 | J60: =CONCATENATE("(",RANK(I60,$I$52:$I$80,1),")") -> (12) | K60: 0.0098726852 | L60: +00:49
A61: М17 | B61: 8 | C61: 8 | D61: 79 | E61: Аржаных Макар | F61: ГБОУ ДО МАСП | G61: 0.0042592593 | H61: =CONCATENATE("(",RANK(G61,$G$52:$G$80,1),")") -> (12) | I61: =K61-G61 -> 0.005625 | J61: =CONCATENATE("(",RANK(I61,$I$52:$I$80,1),")") -> (10) | K61: 0.0098842593 | L61: +00:50
A62: М17 | B62: 9 | C62: 9 | D62: 103 | E62: Пушкин Сергей | F62: ГБОУ ДО МАСП | G62: 0.0045717593 | H62: =CONCATENATE("(",RANK(G62,$G$52:$G$80,1),")") -> (20) | I62: =K62-G62 -> 0.0053356481 | J62: =CONCATENATE("(",RANK(I62,$I$52:$I$80,1),")") -> (4) | K62: 0.0099074074 | L62: +00:52
A63: М17 | B63: 10 | C63: 10 | D63: 109 | E63: Тишков Георгий | F63: МССУОР№2 | G63: 0.0041782407 | H63: =CONCATENATE("(",RANK(G63,$G$52:$G$80,1),")") -> (7) | I63: =K63-G63 -> 0.0057523148 | J63: =CONCATENATE("(",RANK(I63,$I$52:$I$80,1),")") -> (14) | K63: 0.0099305556 | L63: +00:54
A64: М17 | B64: 11 | C64: 11 | D64: 92 | E64: Качко Артемий | F64: МССУОР№2 | G64: 0.0046064815 | H64: =CONCATENATE("(",RANK(G64,$G$52:$G$80,1),")") -> (21) | I64: =K64-G64 -> 0.0054513889 | J64: =CONCATENATE("(",RANK(I64,$I$52:$I$80,1),")") -> (7) | K64: 0.01005787 | L64: +01:05
A65: М17 | B65: 12 | C65: 12 | D65: 107 | E65: Султанов Илья | F65: МССУОР№2 | G65: 0.0041435185 | H65: =CONCATENATE("(",RANK(G65,$G$52:$G$80,1),")") -> (5) | I65: =K65-G65 -> 0.0059375 | J65: =CONCATENATE("(",RANK(I65,$I$52:$I$80,1),")") -> (16) | K65: 0.010081019 | L65: +01:07
... A76: М17 | B76: 23 | C76: 23 | D76: 91 | E76: Иванов Фёдор | F76: МССУОР№2 | G76: 0.0061458333 | H76: =CONCATENATE("(",RANK(G76,$G$52:$G$80,1),")") -> (29) | I76: =K76-G76 -> 0.0062847222 | J76: =CONCATENATE("(",RANK(I76,$I$52:$I$80,1),")") -> (21) | K76: 0.012430556 | L76: +04:30
A77: М17 | B77: 24 | D77: 110 | E77: Щипачев Дмитрий | F77: Богданович, лично | G77: 0.0045486111 | H77: =CONCATENATE("(",RANK(G77,$G$52:$G$80,1),")") -> (17) | I77: снят | K77: н/ф
A78: М17 | B78: 25 | D78: 101 | E78: Новиков Николай | F78: МССУОР№2 | G78: 0.0045023148 | H78: =CONCATENATE("(",RANK(G78,$G$52:$G$80,1),")") -> (15) | I78: сошел | K78: н/ф
A79: М17 | B79: 26 | D79: 106 | E79: Стемасов Богдан | F79: МССУОР№2 | G79: 0.004537037 | H79: =CONCATENATE("(",RANK(G79,$G$52:$G$80,1),")") -> (16) | I79: сошел | K79: н/ф
A80: М17 | B80: 27 | D80: 102 | E80: Овсянников Сергей | F80: МССУОР№2 | G80: 0.005162037 | H80: =CONCATENATE("(",RANK(G80,$G$52:$G$80,1),")") -> (27) | I80: сошел | K80: н/ф
A81: Д19 | B81: 1 | C81: 1 | D81: 37 | E81: Берладир Ярослава | F81: МССУОР№2 | G81: 0.009375 | H81: =CONCATENATE("(",RANK(G81,$G$81:$G$89,1),")") -> (2) | I81: =K81-G81 -> 0.012974537 | J81: =CONCATENATE("(",RANK(I81,$I$81:$I$89,1),")") -> (1) | K81: 0.022349537 | L81: +00:00
A82: Д19 | B82: 2 | C82: 2 | D82: 39 | E82: Городова Кристина | F82: ГБОУ ДО МАСП | G82: 0.0096527778 | H82: =CONCATENATE("(",RANK(G82,$G$81:$G$89,1),")") -> (4) | I82: =K82-G82 -> 0.013298611 | J82: =CONCATENATE("(",RANK(I82,$I$81:$I$89,1),")") -> (2) | K82: 0.022951389 | L82: +00:52
A83: Д19 | B83: 3 | C83: 3 | D83: 40 | E83: Ковалева Виктория | F83: МССУОР№2 | G83: 0.0095949074 | H83: =CONCATENATE("(",RANK(G83,$G$81:$G$89,1),")") -> (3) | I83: =K83-G83 -> 0.013645833 | J83: =CONCATENATE("(",RANK(I83,$I$81:$I$89,1),")") -> (3) | K83: 0.023240741 | L83: +01:17
A84: Д19 | B84: 4 | C84: 4 | D84: 42 | E84: Масленникова Елизавета | F84: ГБОУ ДО "МАСП" | G84: 0.0103125 | H84: =CONCATENATE("(",RANK(G84,$G$81:$G$89,1),")") -> (8) | I84: =K84-G84 -> 0.014097222 | J84: =CONCATENATE("(",RANK(I84,$I$81:$I$89,1),")") -> (4) | K84: 0.024409722 | L84: +02:58
A85: Д19 | B85: 5 | C85: 5 | D85: 35 | E85: Бакалкина Маргарита | F85: ГБОУ ДО МАСП | G85: 0.0089467593 | H85: =CONCATENATE("(",RANK(G85,$G$81:$G$89,1),")") -> (1) | I85: =K85-G85 -> 0.016018519 | J85: =CONCATENATE("(",RANK(I85,$I$81:$I$89,1),")") -> (6) | K85: 0.024965278 | L85: +03:46
A86: Д19 | B86: 6 | C86: 6 | D86: 43 | E86: Павлова Анастасия | F86: МССУОР№2 | G86: 0.010081019 | H86: =CONCATENATE("(",RANK(G86,$G$81:$G$89,1),")") -> (7) | I86: =K86-G86 -> 0.0153125 | J86: =CONCATENATE("(",RANK(I86,$I$81:$I$89,1),")") -> (5) | K86: 0.025393519 | L86: +04:23
A87: Д19 | B87: 7 | D87: 41 | E87: Левданская Мария | F87: МССУОР№2 | G87: 0.0097337963 | H87: =CONCATENATE("(",RANK(G87,$G$81:$G$89,1),")") -> (5) | I87: сошел | K87: н/ф
A88: Д19 | B88: 9 | D88: 44 | E88: Щербакова Екатерина | F88: ГБОУ ДО "МАСП" | G88: 0.010069444 | H88: =CONCATENATE("(",RANK(G88,$G$81:$G$89,1),")") -> (6) | I88: сошел | K88: н/ф
A89: Д19 | B89: 8 | D89: 34 | E89: Аниканова Станислава | F89: ГБОУ ДО МАСП | G89: снят | K89: н/ф
A90: Д23 | B90: 1 | C90: 1 | D90: 45 | E90: Алиева Дана | F90: МССУОР№2 | G90: 0.0094791667 | H90: =CONCATENATE("(",RANK(G90,$G$90:$G$93,1),")") -> (3) | I90: =K90-G90 -> 0.012731481 | J90: =CONCATENATE("(",RANK(I90,$I$90:$I$93,1),")") -> (1) | K90: 0.022210648 | L90: +00:00
A91: Д23 | B91: 2 | C91: 2 | D91: 47 | E91: Жирютина Мария | F91: МССУОР№2 | G91: 0.008599537 | H91: =CONCATENATE("(",RANK(G91,$G$90:$G$93,1),")") -> (1) | I91: =K91-G91 -> 0.013958333 | J91: =CONCATENATE("(",RANK(I91,$I$90:$I$93,1),")") -> (4) | K91: 0.02255787 | L91: +00:30
A92: Д23 | B92: 3 | C92: 3 | D92: 49 | E92: Филатова Полина | F92: МССУОР№2 | G92: 0.0092939815 | H92: =CONCATENATE("(",RANK(G92,$G$90:$G$93,1),")") -> (2) | I92: =K92-G92 -> 0.013564815 | J92: =CONCATENATE("(",RANK(I92,$I$90:$I$93,1),")") -> (2) | K92: 0.022858796 | L92: +00:56
A93: Д23 | B93: 4 | C93: 4 | D93: 46 | E93: Галушкина Анна | F93: ГБОУ ДО МАСП | G93: 0.0096759259 | H93: =CONCATENATE("(",RANK(G93,$G$90:$G$93,1),")") -> (4) | I93: =K93-G93 -> 0.013923611 | J93: =CONCATENATE("(",RANK(I93,$I$90:$I$93,1),")") -> (3) | K93: 0.023599537 | L93: +02:00
A94: М19 | B94: 1 | C94: 1 | D94: 114 | E94: Выборнов Тимофей | F94: ГБОУ ДО МАСП | G94: 0.0078125 | H94: =CONCATENATE("(",RANK(G94,$G$94:$G$109,1),")") -> (1) | I94: =K94-G94 -> 0.010983796 | J94: =CONCATENATE("(",RANK(I94,$I$94:$I$109,1),")") -> (4) | K94: 0.018796296 | L94: +00:00
A95: М19 | B95: 2 | C95: 2 | D95: 129 | E95: Филин Константин | F95: ГБОУ ДО "МАСП" | G95: 0.0084606481 | H95: =CONCATENATE("(",RANK(G95,$G$94:$G$109,1),")") -> (6) | I95: =K95-G95 -> 0.01056713 | J95: =CONCATENATE("(",RANK(I95,$I$94:$I$109,1),")") -> (1) | K95: 0.019027778 | L95: +00:20
A96: М19 | B96: 3 | C96: 3 | D96: 113 | E96: Волознев Василий | F96: МССУОР№2 | G96: 0.0081018519 | H96: =CONCATENATE("(",RANK(G96,$G$94:$G$109,1),")") -> (2) | I96: =K96-G96 -> 0.010972222 | J96: =CONCATENATE("(",RANK(I96,$I$94:$I$109,1),")") -> (3) | K96: 0.019074074 | L96: +00:24
A97: М19 | B97: 4 | C97: 4 | D97: 125 | E97: Романов Василий | F97: ГБОУ ДО МАСП | G97: 0.0082175926 | H97: =CONCATENATE("(",RANK(G97,$G$94:$G$109,1),")") -> (4) | I97: =K97-G97 -> 0.010949074 | J97: =CONCATENATE("(",RANK(I97,$I$94:$I$109,1),")") -> (2) | K97: 0.019166667 | L97: +00:32
A98: М19 | B98: 5 | C98: 5 | D98: 124 | E98: Померанцев Али | F98: ГБОУ ДО МАСП | G98: 0.0081018519 | H98: =CONCATENATE("(",RANK(G98,$G$94:$G$109,1),")") -> (2) | I98: =K98-G98 -> 0.011481481 | J98: =CONCATENATE("(",RANK(I98,$I$94:$I$109,1),")") -> (5) | K98: 0.019583333 | L98: +01:08
A99: М19 | B99: 6 | C99: 6 | D99: 112 | E99: Берладир Никита | F99: МССУОР№2 | G99: 0.0087731481 | H99: =CONCATENATE("(",RANK(G99,$G$94:$G$109,1),")") -> (9) | I99: =K99-G99 -> 0.011736111 | J99: =CONCATENATE("(",RANK(I99,$I$94:$I$109,1),")") -> (6) | K99: 0.020509259 | L99: +02:28
A100: М19 | B100: 7 | C100: 7 | D100: 127 | E100: Сироткин Арсений | F100: ГБОУ ДО МАСП | G100: 0.0085763889 | H100: =CONCATENATE("(",RANK(G100,$G$94:$G$109,1),")") -> (7) | I100: =K100-G100 -> 0.012118056 | J100: =CONCATENATE("(",RANK(I100,$I$94:$I$109,1),")") -> (7) | K100: 0.020694444 | L100: +02:44
A101: М19 | B101: 8 | C101: 8 | D101: 118 | E101: Кононов Данил | F101: МССУОР№2 | G101: 0.0090046296 | H101: =CONCATENATE("(",RANK(G101,$G$94:$G$109,1),")") -> (10) | I101: =K101-G101 -> 0.012592593 | J101: =CONCATENATE("(",RANK(I101,$I$94:$I$109,1),")") -> (8) | K101: 0.021597222 | L101: +04:02
A102: М19 | B102: 9 | C102: 9 | D102: 119 | E102: Кочетов Артур | F102: МССУОР№2 | G102: 0.0087268519 | H102: =CONCATENATE("(",RANK(G102,$G$94:$G$109,1),")") -> (8) | I102: =K102-G102 -> 0.013101852 | J102: =CONCATENATE("(",RANK(I102,$I$94:$I$109,1),")") -> (9) | K102: 0.021828704 | L102: +04:22
A103: М19 | B103: 10 | C103: 10 | D103: 121 | E103: Малашин Симеон | F103: ДЮСШ АКВАТИКС | G103: 0.010706019 | H103: =CONCATENATE("(",RANK(G103,$G$94:$G$109,1),")") -> (12) | I103: =K103-G103 -> 0.013356481 | J103: =CONCATENATE("(",RANK(I103,$I$94:$I$109,1),")") -> (11) | K103: 0.0240625 | L103: +07:35
A104: М19 | B104: 11 | C104: 11 | D104: 120 | E104: Лебедев Антон | F104: ГБОУ ДО МАСП | G104: 0.011203704 | H104: =CONCATENATE("(",RANK(G104,$G$94:$G$109,1),")") -> (13) | I104: =K104-G104 -> 0.013310185 | J104: =CONCATENATE("(",RANK(I104,$I$94:$I$109,1),")") -> (10) | K104: 0.024513889 | L104: +08:14
A105: М19 | B105: 12 | D105: 122 | E105: Новиков Василий | F105: МССУОР№2 | G105: 0.0090046296 | H105: =CONCATENATE("(",RANK(G105,$G$94:$G$109,1),")") -> (10) | I105: сошел | K105: н/ф
A106: М19 | B106: 13 | D106: 128 | E106: Узиков Алексей | F106: ГБПОУ "МССУОР №2" | G106: 0.0083796296 | H106: =CONCATENATE("(",RANK(G106,$G$94:$G$109,1),")") -> (5) | I106: снят | K106: н/ф
A107: М19 | B107: 14 | D107: 123 | E107: Овсянников Владимир | F107: МССУОР№2 | G107: сошел | K107: н/ф
A108: М19 | B108: 15 | D108: 116 | E108: Жаринов Олег | F108: МССУОР№2 | G108: сошел | K108: н/ф
A109: М19 | B109: 16 | D109: 131 | E109: Цыплаков Егор | F109: ГБОУ ДО МАСП | G109: снят | K109: н/ф
A110: М23 | B110: 1 | C110: 1 | D110: 138 | E110: Крыловской Михаил | F110: ГБОУ ДО МАСП | G110: 0.0076736111 | H110: =CONCATENATE("(",RANK(G110,$G$110:$G$119,1),")") -> (1) | I110: =K110-G110 -> 0.010763889 | J110: =CONCATENATE("(",RANK(I110,$I$110:$I$119,1),")") -> (3) | K110: 0.0184375 | L110: +00:00
A111: М23 | B111: 2 | C111: 2 | D111: 133 | E111: Арапко Кирилл | F111: ГБОУ ДО МАСП | G111: 0.0081365741 | H111: =CONCATENATE("(",RANK(G111,$G$110:$G$119,1),")") -> (3) | I111: =K111-G111 -> 0.010659722 | J111: =CONCATENATE("(",RANK(I111,$I$110:$I$119,1),")") -> (1) | K111: 0.018796296 | L111: +00:31
A112: М23 | B112: 3 | C112: 3 | D112: 140 | E112: Пуганов Ярослав | F112: МССУОР№2 | G112: 0.008287037 | H112: =CONCATENATE("(",RANK(G112,$G$110:$G$119,1),")") -> (6) | I112: =K112-G112 -> 0.010729167 | J112: =CONCATENATE("(",RANK(I112,$I$110:$I$119,1),")") -> (2) | K112: 0.019016204 | L112: +00:50
A113: М23 | B113: 4 | C113: 4 | D113: 134 | E113: Аржаных Тимофей | F113: ГБОУ ДО МАСП | G113: 0.0081018519 | H113: =CONCATENATE("(",RANK(G113,$G$110:$G$119,1),")") -> (2) | I113: =K113-G113 -> 0.011180556 | J113: =CONCATENATE("(",RANK(I113,$I$110:$I$119,1),")") -> (4) | K113: 0.019282407 | L113: +01:13
A114: М23 | B114: 5 | C114: 5 | D114: 144 | E114: Яшков Роман | F114: МССУОР№2 | G114: 0.0082175926 | H114: =CONCATENATE("(",RANK(G114,$G$110:$G$119,1),")") -> (5) | I114: =K114-G114 -> 0.011631944 | J114: =CONCATENATE("(",RANK(I114,$I$110:$I$119,1),")") -> (5) | K114: 0.019849537 | L114: +02:02
A115: М23 | B115: 6 | C115: 6 | D115: 137 | E115: Кисленко Богдан | F115: ГБОУ ДО МАСП | G115: 0.008287037 | H115: =CONCATENATE("(",RANK(G115,$G$110:$G$119,1),")") -> (6) | I115: =K115-G115 -> 0.012048611 | J115: =CONCATENATE("(",RANK(I115,$I$110:$I$119,1),")") -> (7) | K115: 0.020335648 | L115: +02:44
A116: М23 | B116: 7 | C116: 7 | D116: 126 | E116: Русаков Дмитрий | F116: МССУОР№2 | G116: 0.0081828704 | H116: =CONCATENATE("(",RANK(G116,$G$110:$G$119,1),")") -> (4) | I116: =K116-G116 -> 0.012453704 | J116: =CONCATENATE("(",RANK(I116,$I$110:$I$119,1),")") -> (8) | K116: 0.020636574 | L116: +03:10
A117: М23 | B117: 8 | C117: 8 | D117: 139 | E117: Новинский Сергей | F117: МССУОР№2 | G117: 0.0093055556 | H117: =CONCATENATE("(",RANK(G117,$G$110:$G$119,1),")") -> (10) | I117: =K117-G117 -> 0.011678241 | J117: =CONCATENATE("(",RANK(I117,$I$110:$I$119,1),")") -> (6) | K117: 0.020983796 | L117: +03:40
A118: М23 | B118: 9 | C118: 9 | D118: 143 | E118: Хошин Марк | F118: МССУОР№2 | G118: 0.0083680556 | H118: =CONCATENATE("(",RANK(G118,$G$110:$G$119,1),")") -> (8) | I118: =K118-G118 -> 0.015046296 | J118: =CONCATENATE("(",RANK(I118,$I$110:$I$119,1),")") -> (9) | K118: 0.023414352 | L118: +07:10
A119: М23 | B119: 10 | D119: 136 | E119: Бутов Тихон | F119: ГБПОУ "МССУОР №2" | G119: 0.0086921296 | H119: =CONCATENATE("(",RANK(G119,$G$110:$G$119,1),")") -> (9) | I119: сошел | K119: н/ф

Sheet Оргео
A1: Группа | B1: Пол | C1: Фамилия | D1: Имя | E1: Отчество | F1: ФИ | G1: Команда | H1: Код | I1: Регион | J1: Квал. SFR | K1: Квал. | L1: Дата рожд. | M1: ГР | N1: Примечания | O1: Кем подана | P1: Телефон | Q1: E-mail | R1: Номер заявки | S1: Время подачи | T1: Вошел по ссылке
A2: Д14 | B2: Ж | C2: Буханова | D2: Диана | E2: Дмитриевна | F2: Буханова Диана | G2: ГБОУ ДО МАСП | H2: 77 | I2: Москва | J2: 1ю | K2: Iю | L2: 41282 | M2: 2013 | N2: 1,3 06:20,0 | O2: Багазеев Александр | P2: 79776219848 | Q2: bagazeev2000@mail.ru | R2: 1777882 | S2: 46056.626 | T2: https://orgeo.ru/event/info/49610
A3: Д14 | B3: Ж | C3: Гордон | D3: Екатерина | E3: Андреевна | F3: Гордон Екатерина | G3: ГБОУ ДО МАСП | H3: 77 | I3: Москва | J3: 2ю | K3: IIю | L3: 41187 | M3: 2012 | N3: 1,3 6.25 в/к | O3: Багазеев Александр | P3: 79776219848 | Q3: bagazeev2000@mail.ru | R3: 1798705 | S3: 46073.683 | T3: https://orgeo.ru/event/index/type/triathlon/region/moscow/no_national/1?search=
A4: Д14 | B4: Ж | C4: Давыдова | D4: Екатерина | E4: Витальевна | F4: Давыдова Екатерина | G4: ГБОУ ДО МАСП | H4: 77 | I4: Москва | J4: кмс | K4: КМС | L4: 41151 | M4: 2012 | N4: 1,3 07:10,0 | O4: Багазеев Александр | P4: 79776219848 | Q4: bagazeev2000@mail.ru | R4: 1777882 | S4: 46056.626 | T4: https://orgeo.ru/event/info/49610
A5: Д14 | B5: Ж | C5: Жаринова | D5: Анна | E5: Владимировна | F5: Жаринова Анна | G5: МССУОР№2 | H5: 77 | I5: Москва | J5: 1ю | K5: Iю | L5: 41557 | M5: 2013 | N5: 1,3 08:30,4 | O5: Москвы Федерация Триатлона | P5: 79851480905 | Q5: tri@butkova.ru | R5: 1777766 | S5: 46056.584 | T5: https://orgeo.ru/event/update/49610/step/information/tab/info
A6: Д14 | B6: Ж | C6: Жевагина | D6: Виктория | E6: Михайловна | F6: Жевагина Виктория | G6: МССУОР№2 | H6: 77 | I6: Москва | J6: 2р | K6: II | L6: 41135 | M6: 2012 | N6: 1,3 07:30 | O6: Москвы Федерация Триатлона | P6: 79851480905 | Q6: tri@butkova.ru | R6: 1777766 | S6: 46056.584 | T6: https://orgeo.ru/event/update/49610/step/information/tab/info
A7: Д14 | B7: Ж | C7: Константинова | D7: Кристина | E7: Антоновна | F7: Константинова Кристина | G7: ГБПОУ 'МССУОР №2' | H7: 77 | I7: Москва | J7: 1ю | K7: Iю | L7: 41595 | M7: 2013 | N7: 06:50,0 | O7: Константинов Антон | P7: 79871372471 | Q7: antonkonstantinov@yandex.ru | R7: 1777599 | S7: 46056.523 | T7: https://orgeo.ru/event/info/49610
A8: Д14 | B8: Ж | C8: Ланцова | D8: Мария | E8: Андреевна | F8: Ланцова Мария | G8: Акватикс | H8: 77 | I8: Москва | J8: 1р | K8: I | L8: 41583 | M8: 2013 | N8: 1.3 | O8: Ланцова Мария | P8: 79150811129 | Q8: nataly280874N@yandex.ru | R8: 1783738 | S8: 46059.662 | T8: https://www.google.com
A9: Д14 | B9: Ж | C9: Петрова | D9: Полина | E9: Сергеевна | F9: Петрова Полина | G9: ГБОУ ДО МАСП | H9: 77 | I9: Москва | J9: 2р | K9: II | L9: 41175 | M9: 2012 | O9: Vasilyev Ivan | P9: 79012768676 | Q9: vantej_tri2000@mail.ru | R9: 1782466 | S9: 46058.837 | T9: https://orgeo.ru/event/info/49610
A10: Д14 | B10: Ж | C10: Петровская | D10: Анастасия | E10: Романовна | F10: Петровская Анастасия | G10: ГБОУ ДО МАСП | H10: 77 | I10: Москва | J10: 1р | K10: I | L10: 41541 | M10: 2013 | O10: Vasilyev Ivan | P10: 79012768676 | Q10: vantej_tri2000@mail.ru | R10: 1782466 | S10: 46058.837 | T10: https://orgeo.ru/event/info/49610
A11: Д14 | B11: Ж | C11: Рогожина | D11: Дарья | E11: Антоновна | F11: Рогожина Дарья | G11: МССУОР№2 | H11: 77 | I11: Москва | J11: 1р | K11: I | L11: 41323 | M11: 2013 | N11: 1,3 06:50,0 | O11: Москвы Федерация Триатлона | P11: 79851480905 | Q11: tri@butkova.ru | R11: 1777766 | S11: 46056.584 | T11: https://orgeo.ru/event/update/49610/step/information/tab/info
A12: Д14 | B12: Ж | C12: Рубченко | D12: Виктория | E12: Владимировна | F12: Рубченко Виктория | G12: СШОР ТЕМП | H12: 76 | I12: Ярославская обл. | J12: 1р | K12: I | L12: 41601 | M12: 2013 | N12: 1,3 06:15,0 в/к | O12: Алиева Мария | P12: 79206505071 | Q12: rybinskbassein@yandex.ru | R12: 1778460 | S12: 46056.896 | T12: https://orgeo.ru/event/index?search=%D0%B0%D0%BA%D0%B2%D0%B0%D1%82%D0%BB%D0%BE%D0%BD
A13: Д14 | B13: Ж | C13: Сомова | D13: Алиса | E13: Евгеньевна | F13: Сомова Алиса | G13: ДЮСШ 'АКВАТИКС' | H13: 77 | I13: Москва | J13: 1р | K13: I | L13: 41617 | M13: 2013 | N13: 1,3 08:12,0 | O13: Сомова Алиса | P13: 79175876973 | Q13: Katerinav5@yandex.ru | R13: 1777336 | S13: 46056.429 | T13: https://orgeo.ru/event/49610
A14: Д14 | B14: Ж | C14: Украинцева | D14: Софья | E14: Романовна | F14: Украинцева Софья | G14: Акватикс | H14: 77 | I14: Москва | J14: 2р | K14: II | L14: 41525 | M14: 2013 | N14: 1.3 | O14: Ланцова Мария | P14: 79150811129 | Q14: nataly280874N@yandex.ru | R14: 1783738 | S14: 46059.662 | T14: https://www.google.com
A15: Д17 | B15: Ж | C15: Дащенко | D15: Элина | E15: Андреевна | F15: Дащенко Элина | G15: МССУОР№2 | H15: 77 | I15: Москва | J15: кмс | K15: КМС | L15: 40240 | M15: 2010 | N15: 1,3 06:40,0 | O15: Москвы Федерация Триатлона | P15: 79851480905 | Q15: tri@butkova.ru | R15: 1777766 | S15: 46056.584 | T15: https://orgeo.ru/event/update/49610/step/information/tab/info
A16: Д17 | B16: Ж | C16: Длютрова | D16: Ульяна | E16: Юрьевна | F16: Длютрова Ульяна | G16: МССУОР№2 | H16: 77 | I16: Москва | J16: кмс | K16: КМС | L16: 40717 | M16: 2011 | N16: 1,3 07:01,1 | O16: Москвы Федерация Триатлона | P16: 79851480905 | Q16: tri@butkova.ru | R16: 1777766 | S16: 46056.584 | T16: https://orgeo.ru/event/update/49610/step/information/tab/info
A17: Д17 | B17: Ж | C17: Зовская | D17: Софья | E17: Дмитриевна | F17: Зовская Софья | G17: ГБОУ ДО 'МАСП' | H17: 77 | I17: Москва | J17: кмс | K17: КМС | L17: 40079 | M17: 2009 | N17: 1,3 06:45,0 | O17: Анисимова Нина | P17: 79268301834 | Q17: planeta7373@yandex.ru | R17: 1777615 | S17: 46056.527 | T17: https://orgeo.ru/event/index/region/moscow/no_national/1?search=
A18: Д17 | B18: Ж | C18: Игошина | D18: Дарина | E18: Алексеевна | F18: Игошина Дарина | G18: МССУОР№2 | H18: 77 | I18: Москва | J18: 1р | K18: I | L18: 40375 | M18: 2010 | N18: 1,3 08:12,7 | O18: Москвы Федерация Триатлона | P18: 79851480905 | Q18: tri@butkova.ru | R18: 1777766 | S18: 46056.584 | T18: https://orgeo.ru/event/update/49610/step/information/tab/info
A19: Д17 | B19: Ж | C19: Ключарёва | D19: Иоанна | E19: Олеговна | F19: Ключарёва Иоанна | G19: ГБОУ ДО МАСП | H19: 77 | I19: Москва | J19: кмс | K19: КМС | L19: 40717 | M19: 2011 | N19: 1,3 06:15,0 | O19: Багазеев Александр | P19: 79776219848 | Q19: bagazeev2000@mail.ru | R19: 1777882 | S19: 46056.626 | T19: https://orgeo.ru/event/info/49610
A20: Д17 | B20: Ж | C20: Корюкалова | D20: Ева | E20: Станиславовна | F20: Корюкалова Ева | G20: МССУОР№2 | H20: 77 | I20: Москва | J20: кмс | K20: КМС | L20: 39837 | M20: 2009 | N20: 1,3 06:45,0 | O20: Москвы Федерация Триатлона | P20: 79851480905 | Q20: tri@butkova.ru | R20: 1777766 | S20: 46056.584 | T20: https://orgeo.ru/event/update/49610/step/information/tab/info
A21: Д17 | B21: Ж | C21: Куфман | D21: Варвара | E21: Ильинична | F21: Куфман Варвара | G21: ГБПОУ 'МССУОР №2' | H21: 77 | I21: Москва | J21: кмс | K21: КМС | L21: 40223 | M21: 2010 | N21: 06:50,0 | O21: Оля Оля | P21: 79379178587 | Q21: olgaravaeva@yandex.ru | R21: 1778231 | S21: 46056.804 | T21: https://orgeo.ru/event/index/type/triathlon?search=
A22: Д17 | B22: Ж | C22: Лабанюк | D22: Анна | E22: Денисовна | F22: Лабанюк Анна | G22: ДЮСШ 'АКВАТИКС' | H22: 77 | I22: Москва | J22: 1р | K22: I | L22: 40445 | M22: 2010 | N22: 08:33,4 | O22: Labaniuc Natalia | P22: 79647298765 | Q22: Labaniucn@mail.ru | R22: 1777786 | S22: 46056.592 | T22: https://orgeo.ru/event/49610
A23: Д17 | B23: Ж | C23: Маркина | D23: Дарья | E23: Владимировна | F23: Маркина Дарья | G23: ГБОУ ДО МАСП | H23: 77 | I23: Москва | J23: 1р | K23: I | L23: 40687 | M23: 2011 | O23: Vasilyev Ivan | P23: 79012768676 | Q23: vantej_tri2000@mail.ru | R23: 1782466 | S23: 46058.837 | T23: https://orgeo.ru/event/info/49610
A24: Д17 | B24: Ж | C24: Морданова | D24: Софья | E24: Михайловна | F24: Морданова Софья | G24: ГБОУ ДО 'МАСП' | H24: 77 | I24: Москва | J24: кмс | K24: КМС | L24: 39991 | M24: 2009 | N24: 1,3 06:38,5 | O24: Анисимова Нина | P24: 79268301834 | Q24: planeta7373@yandex.ru | R24: 1777615 | S24: 46056.527 | T24: https://orgeo.ru/event/index/region/moscow/no_national/1?search=
A25: Д17 | B25: Ж | C25: Овчинникова | D25: Виктория | E25: Николаевна | F25: Овчинникова Виктория | G25: ДЮСШ 'АКВАТИКС' | H25: 77 | I25: Москва | J25: кмс | K25: КМС | L25: 40353 | M25: 2010 | N25: 07:00,0 | O25: Овчинникова Виктория | P25: 79202782345 | Q25: o.l.volodina@mail.ru | R25: 1777438 | S25: 46056.466 | T25: https://orgeo.ru/event/49610
A26: Д17 | B26: Ж | C26: Покрамович | D26: Мария | E26: Дмитриевна | F26: Покрамович Мария | G26: ДЮСШ 'Акватикс' | H26: 77 | I26: Москва | J26: кмс | K26: КМС | L26: 40249 | M26: 2010 | O26: Покрамович Дмитрий | P26: 79268886363 | Q26: Linch911@gmail.com | R26: 1786822 | S26: 46062.927 | T26: https://orgeo.ru/user/auth?back=https%3A%2F%2Forgeo.ru%2Fevent%2F49610
A27: Д17 | B27: Ж | C27: Пронюк | D27: Анастасия | E27: Вячеславовна | F27: Пронюк Анастасия | G27: ГБОУ ДО 'МАСП' | H27: 77 | I27: Москва | J27: кмс | K27: КМС | L27: 40183 | M27: 2010 | N27: 1,3 06:47,0 | O27: Анисимова Нина | P27: 79268301834 | Q27: planeta7373@yandex.ru | R27: 1777615 | S27: 46056.527 | T27: https://orgeo.ru/event/index/region/moscow/no_national/1?search=
A28: Д17 | B28: Ж | C28: Семенова | D28: Юлия | E28: Олеговна | F28: Семенова Юлия | G28: ГБОУ ДО МАСП | H28: 77 | I28: Москва | J28: кмс | K28: КМС | L28: 40725 | M28: 2011 | N28: 1,3 06:25,0 | O28: Багазеев Александр | P28: 79776219848 | Q28: bagazeev2000@mail.ru | R28: 1777882 | S28: 46056.626 | T28: https://orgeo.ru/event/info/49610
A29: Д17 | B29: Ж | C29: Силантьева | D29: София | E29: Сергеевна | F29: Силантьева София | G29: МССУОР№2 | H29: 77 | I29: Москва | J29: кмс | K29: КМС | L29: 40039 | M29: 2009 | N29: 1,3 06:50,0 | O29: Москвы Федерация Триатлона | P29: 79851480905 | Q29: tri@butkova.ru | R29: 1777766 | S29: 46056.584 | T29: https://orgeo.ru/event/update/49610/step/information/tab/info
A30: Д17 | B30: Ж | C30: Силина | D30: Кира | E30: Олеговна | F30: Силина Кира | G30: МССУОР№2 | H30: 77 | I30: Москва | J30: 1р | K30: I | L30: 40667 | M30: 2011 | N30: 1,3 06:54,7 | O30: Москвы Федерация Триатлона | P30: 79851480905 | Q30: tri@butkova.ru | R30: 1777766 | S30: 46056.584 | T30: https://orgeo.ru/event/update/49610/step/information/tab/info
A31: Д17 | B31: Ж | C31: Сяйлева | D31: Елизавета | E31: Вячеславовна | F31: Сяйлева Елизавета | G31: ГБПОУ 'МССУОР №2' | H31: 77 | I31: Москва | J31: кмс | K31: КМС | L31: 40046 | M31: 2009 | N31: 06:36,0 | O31: Оля Оля | P31: 79379178587 | Q31: olgaravaeva@yandex.ru | R31: 1778231 | S31: 46056.804 | T31: https://orgeo.ru/event/index/type/triathlon?search=
A32: Д17 | B32: Ж | C32: Типалова | D32: Ева | E32: Максимовна | F32: Типалова Ева | G32: МССУОР№2 | H32: 77 | I32: Москва | J32: 1р | K32: I | L32: 40607 | M32: 2011 | N32: 1,3 07:00,0 | O32: Москвы Федерация Триатлона | P32: 79851480905 | Q32: tri@butkova.ru | R32: 1777766 | S32: 46056.584 | T32: https://orgeo.ru/event/update/49610/step/information/tab/info
A33: Д17 | B33: Ж | C33: Титова | D33: Алина | E33: Павловна | F33: Титова Алина | G33: ГБОУ ДО МАСП | H33: 77 | I33: Москва | J33: кмс | K33: КМС | L33: 40701 | M33: 2011 | N33: 1,3 06:20,0 | O33: Багазеев Александр | P33: 79776219848 | Q33: bagazeev2000@mail.ru | R33: 1777882 | S33: 46056.626 | T33: https://orgeo.ru/event/info/49610
A34: Д17 | B34: Ж | C34: Филина | D34: Анна | E34: Дмитриевна | F34: Филина Анна | G34: ГБОУ ДО МАСП | H34: 77 | I34: Москва | J34: кмс | K34: КМС | L34: 40675 | M34: 2011 | O34: Vasilyev Ivan | P34: 79012768676 | Q34: vantej_tri2000@mail.ru | R34: 1782466 | S34: 46058.837 | T34: https://orgeo.ru/event/info/49610
A35: Д19 | B35: Ж | C35: Аниканова | D35: Станислава | E35: Игоревна | F35: Аниканова Станислава | G35: ГБОУ ДО МАСП | H35: 77 | I35: Москва | J35: 1р | K35: I | L35: 40140 | M35: 2009 | O35: Vasilyev Ivan | P35: 79012768676 | Q35: vantej_tri2000@mail.ru | R35: 1782466 | S35: 46058.837 | T35: https://orgeo.ru/event/info/49610
A36: Д19 | B36: Ж | C36: Бакалкина | D36: Маргарита | E36: Евгеньевна | F36: Бакалкина Маргарита | G36: ГБОУ ДО МАСП | H36: 77 | I36: Москва | J36: кмс | K36: КМС | L36: 39409 | M36: 2007 | N36: 2,4 12:45,0 | O36: Багазеев Александр | P36: 79776219848 | Q36: bagazeev2000@mail.ru | R36: 1777882 | S36: 46056.626 | T36: https://orgeo.ru/event/info/49610
A37: Д19 | B37: Ж | C37: Бальзовская | D37: Елизавета | E37: Максимовна | F37: Бальзовская Елизавета | G37: МССУОР№2 | H37: 77 | I37: Москва | J37: кмс | K37: КМС | L37: 39803 | M37: 2008 | N37: 2,4 15:10,0 | O37: Москвы Федерация Триатлона | P37: 79851480905 | Q37: tri@butkova.ru | R37: 1777766 | S37: 46056.584 | T37: https://orgeo.ru/event/update/49610/step/information/tab/info
A38: Д19 | B38: Ж | C38: Берладир | D38: Ярослава | E38: Игоревна | F38: Берладир Ярослава | G38: МССУОР№2 | H38: 77 | I38: Москва | J38: кмс | K38: КМС | L38: 39308 | M38: 2007 | N38: 2,4 13:00,0 | O38: Москвы Федерация Триатлона | P38: 79851480905 | Q38: tri@butkova.ru | R38: 1777766 | S38: 46056.584 | T38: https://orgeo.ru/event/update/49610/step/information/tab/info
A39: Д19 | B39: Ж | C39: Буданок | D39: Екатерина | E39: Кирилловна | F39: Буданок Екатерина | G39: ГБПОУ 'МССУОР №2' | H39: 77 | I39: Москва | J39: кмс | K39: КМС | L39: 39791 | M39: 2008 | N39: 12:50,0 | O39: Оля Оля | P39: 79379178587 | Q39: olgaravaeva@yandex.ru | R39: 1778231 | S39: 46056.804 | T39: https://orgeo.ru/event/index/type/triathlon?search=
A40: Д19 | B40: Ж | C40: Городова | D40: Кристина | E40: Вячеславовна | F40: Городова Кристина | G40: ГБОУ ДО МАСП | H40: 77 | I40: Москва | J40: кмс | K40: КМС | L40: 39785 | M40: 2008 | N40: 2,4 13:20,0 | O40: Багазеев Александр | P40: 79776219848 | Q40: bagazeev2000@mail.ru | R40: 1777882 | S40: 46056.626 | T40: https://orgeo.ru/event/info/49610
A41: Д19 | B41: Ж | C41: Ковалева | D41: Виктория | E41: Евгеньевна | F41: Ковалева Виктория | G41: МССУОР№2 | H41: 77 | I41: Москва | J41: кмс | K41: КМС | L41: 39780 | M41: 2008 | N41: 2,4 13:15,0 | O41: Москвы Федерация Триатлона | P41: 79851480905 | Q41: tri@butkova.ru | R41: 1777766 | S41: 46056.584 | T41: https://orgeo.ru/event/update/49610/step/information/tab/info
A42: Д19 | B42: Ж | C42: Левданская | D42: Мария | E42: Сергеевна | F42: Левданская Мария | G42: МССУОР№2 | H42: 77 | I42: Москва | J42: кмс | K42: КМС | L42: 39729 | M42: 2008 | N42: 2,4 12:50,0 | O42: Москвы Федерация Триатлона | P42: 79851480905 | Q42: tri@butkova.ru | R42: 1777766 | S42: 46056.584 | T42: https://orgeo.ru/event/update/49610/step/information/tab/info
A43: Д19 | B43: Ж | C43: Масленникова | D43: Елизавета | E43: Вячеславовна | F43: Масленникова Елизавета | G43: ГБОУ ДО 'МАСП' | H43: 77 | I43: Москва | J43: кмс | K43: КМС | L43: 39575 | M43: 2008 | N43: 2,4 14:20,0 | O43: Анисимова Нина | P43: 79268301834 | Q43: planeta7373@yandex.ru | R43: 1777615 | S43: 46056.527 | T43: https://orgeo.ru/event/index/region/moscow/no_national/1?search=
A44: Д19 | B44: Ж | C44: Павлова | D44: Анастасия | E44: Артемовна | F44: Павлова Анастасия | G44: МССУОР№2 | H44: 77 | I44: Москва | J44: кмс | K44: КМС | L44: 39200 | M44: 2007 | N44: 2,4 13:20,0 | O44: Москвы Федерация Триатлона | P44: 79851480905 | Q44: tri@butkova.ru | R44: 1777766 | S44: 46056.584 | T44: https://orgeo.ru/event/update/49610/step/information/tab/info
A45: Д19 | B45: Ж | C45: Щербакова | D45: Екатерина | E45: Константиновна | F45: Щербакова Екатерина | G45: ГБОУ ДО 'МАСП' | H45: 77 | I45: Москва | J45: 1р | K45: I | L45: 39974 | M45: 2009 | N45: 14:30,0 | O45: Анисимова Нина | P45: 79268301834 | Q45: planeta7373@yandex.ru | R45: 1778984 | S45: 46057.406 | T45: https://orgeo.ru/event/index/region/moscow/no_national/1?search=
A46: Д23 | B46: Ж | C46: Алиева | D46: Дана | E46: Рафиковна | F46: Алиева Дана | G46: МССУОР№2 | H46: 77 | I46: Москва | J46: 2р | K46: II | L46: 38100 | M46: 2004 | N46: 2,4 13:00,0 | O46: Москвы Федерация Триатлона | P46: 79851480905 | Q46: tri@butkova.ru | R46: 1777766 | S46: 46056.584 | T46: https://orgeo.ru/event/update/49610/step/information/tab/info
A47: Д23 | B47: Ж | C47: Галушкина | D47: Анна | E47: Андреевна | F47: Галушкина Анна | G47: ГБОУ ДО МАСП | H47: 77 | I47: Москва | J47: мс | K47: МС | L47: 38407 | M47: 2005 | N47: 2,4 13:20,0 | O47: Багазеев Александр | P47: 79776219848 | Q47: bagazeev2000@mail.ru | R47: 1777882 | S47: 46056.626 | T47: https://orgeo.ru/event/info/49610
... A53: М14 | B53: М | C53: Бобков | D53: Игорь | E53: Кирилович | F53: Бобков Игорь | G53: ГБОУ ДО МАСП | H53: 77 | I53: Москва | J53: 1р | K53: I | L53: 41351 | M53: 2013 | N53: 1,3 06:10,0 | O53: Багазеев Александр | P53: 79776219848 | Q53: bagazeev2000@mail.ru | R53: 1777882 | S53: 46056.626 | T53: https://orgeo.ru/event/info/49610
A54: М14 | B54: М | C54: Воловик | D54: Степан | E54: Арсеньевич | F54: Воловик Степан | G54: ГБОУ ДО МАСП | H54: 77 | I54: Москва | J54: 1р | K54: I | L54: 41061 | M54: 2012 | O54: Vasilyev Ivan | P54: 79012768676 | Q54: vantej_tri2000@mail.ru | R54: 1782466 | S54: 46058.837 | T54: https://orgeo.ru/event/info/49610
A55: М14 | B55: М | C55: Горохов | D55: Евгений | E55: Дмитриевич | F55: Горохов Евгений | G55: МССУОР№2 | H55: 77 | I55: Москва | J55: 1р | K55: I | L55: 41456 | M55: 2013 | N55: 1,3 07:00,0 | O55: Москвы Федерация Триатлона | P55: 79851480905 | Q55: tri@butkova.ru | R55: 1777766 | S55: 46056.584 | T55: https://orgeo.ru/event/update/49610/step/information/tab/info
A56: М14 | B56: М | C56: Дёмин | D56: Максим | E56: Александрович | F56: Дёмин Максим | G56: РСОО 'МФТ' | H56: 77 | I56: Москва | J56: 2р | K56: II | L56: 41332 | M56: 2013 | N56: 06:55,0 | O56: Москвы Федерация Триатлона | P56: 79851480905 | Q56: tri@butkova.ru | R56: 1777981 | S56: 46056.673 | T56: https://orgeo.ru/event/update/49610/step/information/tab/info
A57: М14 | B57: М | C57: Диденко | D57: Александр | E57: Денисович | F57: Диденко Александр | G57: ГБОУ ДО МАСП | H57: 77 | I57: Москва | J57: 1р | K57: I | L57: 41056 | M57: 2012 | N57: 1,3 06:25,0 | O57: Багазеев Александр | P57: 79776219848 | Q57: bagazeev2000@mail.ru | R57: 1777882 | S57: 46056.626 | T57: https://orgeo.ru/event/info/49610
A58: М14 | B58: М | C58: Дюжий | D58: Михаил | E58: Сергеевич | F58: Дюжий Михаил | G58: ДЮСШ 'АКВАТИКС' | H58: 77 | I58: Москва | J58: 1ю | K58: Iю | L58: 41100 | M58: 2012 | N58: 07:50,0 | O58: Дюжий Михаил | P58: 79852784099 | Q58: Evgen-82-d@mail.ru | R58: 1777334 | S58: 46056.428 | T58: https://orgeo.ru/event/49610
A59: М14 | B59: М | C59: Ершов | D59: Антон | E59: Александрович | F59: Ершов Антон | G59: ГБОУ ДО МАСП | H59: 77 | I59: Москва | J59: 1р | K59: I | L59: 41245 | M59: 2012 | N59: 1,3 06:20,0 | O59: Багазеев Александр | P59: 79776219848 | Q59: bagazeev2000@mail.ru | R59: 1777882 | S59: 46056.626 | T59: https://orgeo.ru/event/info/49610
A60: М14 | B60: М | C60: Зволинский | D60: Владислав | E60: Никитич | F60: Зволинский Владислав | G60: ДЮСШ 'АКВАТИКС' | H60: 77 | I60: Москва | J60: 2р | K60: II | L60: 41522 | M60: 2013 | N60: 08:10,0 | O60: Зволинская Екатерина | P60: 79096366003 | Q60: Shushina@yandex.ru | R60: 1777328 | S60: 46056.426 | T60: https://orgeo.ru/event/49610
A61: М14 | B61: М | C61: Капранов | D61: Филипп | E61: Ильич | F61: Капранов Филипп | G61: ДЮСШ 'АКВАТИКС' | H61: 77 | I61: Москва | J61: 2р | K61: II | L61: 41035 | M61: 2012 | N61: 07:50,0 | O61: Капранова Дарья | P61: 79255093322 | Q61: daria.kapranova@gmail.com | R61: 1777995 | S61: 46056.682 | T61: https://orgeo.ru/event/49610
A62: М14 | B62: М | C62: Комлик | D62: Тимофей | E62: Дмитриевич | F62: Комлик Тимофей | G62: МССУОР№2 | H62: 77 | I62: Москва | J62: 2р | K62: II | L62: 41042 | M62: 2012 | N62: 1,3 07:15,0 | O62: Москвы Федерация Триатлона | P62: 79851480905 | Q62: tri@butkova.ru | R62: 1777766 | S62: 46056.584 | T62: https://orgeo.ru/event/update/49610/step/information/tab/info
A63: М14 | B63: М | C63: Косов | D63: Даниил | E63: Алексеевич | F63: Косов Даниил | G63: ГБПОУ 'МССУОР №2' | H63: 77 | I63: Москва | J63: 2р | K63: II | L63: 41372 | M63: 2013 | N63: 08:00,0 | O63: Косов Даниил | P63: 79263041886 | Q63: 3041886@mail.ru | R63: 1777329 | S63: 46056.426 | T63: https://orgeo.ru/event/49610
A64: М14 | B64: М | C64: Красников | D64: Лев | E64: Павлович | F64: Красников Лев | G64: ДЮСШ 'АКВАТИКС' | H64: 77 | I64: Москва | J64: 1р | K64: I | L64: 41007 | M64: 2012 | N64: 07:05,0 | O64: Шестакова Екатерина | P64: 79035179630 | Q64: murmyau05@mail.ru | R64: 1778338 | S64: 46056.852 | T64: https://orgeo.ru/event/49610
A65: М14 | B65: М | C65: Кухарев | D65: Даниил | E65: Михайлович | F65: Кухарев Даниил | G65: МССУОР№2 | H65: 77 | I65: Москва | J65: 2р | K65: II | L65: 41318 | M65: 2013 | N65: 1,3 06:37,0 | O65: Москвы Федерация Триатлона | P65: 79851480905 | Q65: tri@butkova.ru | R65: 1777766 | S65: 46056.584 | T65: https://orgeo.ru/event/update/49610/step/information/tab/info
A66: М14 | B66: М | C66: Литвинов | D66: Дмитрий | E66: Романович | F66: Литвинов Дмитрий | G66: ДЮСШ 'АКВАТИКС' | H66: 77 | I66: Москва | J66: 1р | K66: I | L66: 40998 | M66: 2012 | N66: 07:05,0 | O66: Литвинова Юлия | P66: 9166505327 | Q66: litvinova-m@bk.ru | R66: 1777333 | S66: 46056.428 | T66: https://orgeo.ru/user/auth/oauth?by=vk&code=e7faa63e845536976a&state=SDBFR0V4OVo4elJTQmozelVKV1JWaWp0RU12S3FOTWhvf0eqUhCtkVVPaLFFpsk80a-17O74wm_IEEX1IG3ZQQ==
... A71: М14 | B71: М | C71: Мельников | D71: Иван | E71: Андреевич | F71: Мельников Иван | G71: Сочи, лично | H71: 23 | I71: Краснодарский край | J71: 2р | K71: II | L71: 41047 | M71: 2012 | N71: 1,3 06:30,0 в/к | O71: Москвы Федерация Триатлона | P71: 79851480905 | Q71: tri@butkova.ru | R71: 1783596 | S71: 46059.575 | T71: https://orgeo.ru/event/update/49610/step/information/tab/info
A72: М14 | B72: М | C72: Минажетдинов | D72: Руслан | E72: Тахирович | F72: Минажетдинов Руслан | G72: ГБОУ ДО МАСП | H72: 77 | I72: Москва | J72: 2р | K72: II | L72: 41263 | M72: 2012 | O72: Vasilyev Ivan | P72: 79012768676 | Q72: vantej_tri2000@mail.ru | R72: 1782466 | S72: 46058.837 | T72: https://orgeo.ru/event/info/49610
A73: М14 | B73: М | C73: Петров | D73: Артемий | E73: Владимирович | F73: Петров Артемий | G73: МССУОР№2 | H73: 77 | I73: Москва | J73: 2р | K73: II | L73: 41563 | M73: 2013 | N73: 1,3 07:43,1 | O73: Москвы Федерация Триатлона | P73: 79851480905 | Q73: tri@butkova.ru | R73: 1777766 | S73: 46056.584 | T73: https://orgeo.ru/event/update/49610/step/information/tab/info
A74: М14 | B74: М | C74: Рогожин | D74: Дмитрий | E74: Антонович | F74: Рогожин Дмитрий | G74: МССУОР№2 | H74: 77 | I74: Москва | J74: 1р | K74: I | L74: 41323 | M74: 2013 | N74: 1,3 06:47,0 | O74: Москвы Федерация Триатлона | P74: 79851480905 | Q74: tri@butkova.ru | R74: 1777766 | S74: 46056.584 | T74: https://orgeo.ru/event/update/49610/step/information/tab/info
A75: М14 | B75: М | C75: Семенов | D75: Алексей | E75: Владимирович | F75: Семенов Алексей | G75: Rullezteam | H75: 77 | I75: Москва | J75: 1ю | K75: Iю | L75: 41026 | M75: 2012 | O75: Семенова Екатерина | P75: 79262493268 | Q75: Ekaterina.s.semenova@mail.ru | R75: 1778340 | S75: 46056.852 | T75: https://orgeo.ru/event/index/date/2026-03/region/moscow+mosobl/no_national/true?search=
A76: М14 | B76: М | C76: Симоненко | D76: Даниил | E76: Романович | F76: Симоненко Даниил | G76: МССУОР№2 | H76: 77 | I76: Москва | J76: кмс | K76: КМС | L76: 41124 | M76: 2012 | N76: 1,3 06:50,0 | O76: Москвы Федерация Триатлона | P76: 79851480905 | Q76: tri@butkova.ru | R76: 1777766 | S76: 46056.584 | T76: https://orgeo.ru/event/update/49610/step/information/tab/info
A77: М14 | B77: М | C77: Торбеев | D77: Тимофей | E77: Романович | F77: Торбеев Тимофей | G77: Акватикс | H77: 77 | I77: Москва | J77: 1ю | K77: Iю | L77: 41408 | M77: 2013 | N77: 07:50,0 | O77: Торбеев Тимофей | P77: 79629160479 | Q77: maznuk@yandex.ru | R77: 1778064 | S77: 46056.716 | T77: https://orgeo.ru/event/49610
A78: М14 | B78: М | C78: Харин | D78: Тимур | E78: Александрович | F78: Харин Тимур | G78: ГБОУ ДО МАСП | H78: 77 | I78: Москва | J78: 1р | K78: I | L78: 41516 | M78: 2013 | N78: 1,3 06:10,0 | O78: Багазеев Александр | P78: 79776219848 | Q78: bagazeev2000@mail.ru | R78: 1777882 | S78: 46056.626 | T78: https://orgeo.ru/event/info/49610
A79: М14 | B79: М | C79: Шевяков | D79: Артем | E79: Денисович | F79: Шевяков Артем | G79: ДЮСШ 'АКВАТИКС' | H79: 77 | I79: Москва | J79: 1р | K79: I | L79: 41187 | M79: 2012 | N79: 07:45,0 | O79: Шевякова Ирина | P79: 79035161002 | Q79: iriska530@yandex.ru | R79: 1777335 | S79: 46056.429 | T79: https://orgeo.ru/event/49610
A80: М17 | B80: М | C80: Аржаных | D80: Макар | E80: Сергеевич | F80: Аржаных Макар | G80: ГБОУ ДО МАСП | H80: 77 | I80: Москва | J80: кмс | K80: КМС | L80: 40714 | M80: 2011 | N80: 1,3 06:10,0 | O80: Багазеев Александр | P80: 79776219848 | Q80: bagazeev2000@mail.ru | R80: 1777882 | S80: 46056.626 | T80: https://orgeo.ru/event/info/49610
A81: М17 | B81: М | C81: Арстамян | D81: Глеб | E81: Дмитриевич | F81: Арстамян Глеб | G81: МССУОР№2 | H81: 77 | I81: Москва | J81: кмс | K81: КМС | L81: 40361 | M81: 2010 | N81: 1,3 05:49,0 | O81: Москвы Федерация Триатлона | P81: 79851480905 | Q81: tri@butkova.ru | R81: 1777766 | S81: 46056.584 | T81: https://orgeo.ru/event/update/49610/step/information/tab/info
A82: М17 | B82: М | C82: Бутов | D82: Михаил | E82: Евгеньевич | F82: Бутов Михаил | G82: МССУОР№2 | H82: 77 | I82: Москва | J82: кмс | K82: КМС | L82: 40200 | M82: 2010 | N82: 1,3 05:59,1 | O82: Москвы Федерация Триатлона | P82: 79851480905 | Q82: tri@butkova.ru | R82: 1777766 | S82: 46056.584 | T82: https://orgeo.ru/event/update/49610/step/information/tab/info
A83: М17 | B83: М | C83: Ващенко | D83: Марк | E83: Антонович | F83: Ващенко Марк | G83: ДЮСШ 'АКВАТИКС' | H83: 77 | I83: Москва | J83: кмс | K83: КМС | L83: 40786 | M83: 2011 | N83: 06:50,0 | O83: Ващенко Марк | P83: 79645521337 | Q83: mariaign@mail.ru | R83: 1777331 | S83: 46056.427 | T83: https://orgeo.ru/event/index/type/triathlon?redirected
A84: М17 | B84: М | C84: Волков | D84: Артём | E84: Антонович | F84: Волков Артём | G84: МССУОР№2 | H84: 77 | I84: Москва | J84: 3р | K84: III | L84: 40744 | M84: 2011 | N84: 1,3 08:02,5 | O84: Москвы Федерация Триатлона | P84: 79851480905 | Q84: tri@butkova.ru | R84: 1777766 | S84: 46056.584 | T84: https://orgeo.ru/event/update/49610/step/information/tab/info
A85: М17 | B85: М | C85: Галиуллин | D85: Руслан | E85: Тальгатович | F85: Галиуллин Руслан | G85: ГБОУ ДО 'МАСП' | H85: 77 | I85: Москва | J85: кмс | K85: КМС | L85: 40099 | M85: 2009 | N85: 1,3 06:20,0 | O85: Анисимова Нина | P85: 79268301834 | Q85: planeta7373@yandex.ru | R85: 1777615 | S85: 46056.527 | T85: https://orgeo.ru/event/index/region/moscow/no_national/1?search=
A86: М17 | B86: М | C86: Грицков | D86: Даниил | E86: Алексеевич | F86: Грицков Даниил | G86: МССУОР№2 | H86: 77 | I86: Москва | J86: 2р | K86: II | L86: 40742 | M86: 2011 | N86: 1,3 08:36,4 | O86: Москвы Федерация Триатлона | P86: 79851480905 | Q86: tri@butkova.ru | R86: 1777766 | S86: 46056.584 | T86: https://orgeo.ru/event/update/49610/step/information/tab/info
A87: М17 | B87: М | C87: Гришин | D87: Артём | E87: Спартакович | F87: Гришин Артём | G87: ГБОУ ДО МАСП | H87: 77 | I87: Москва | J87: кмс | K87: КМС | L87: 40042 | M87: 2009 | N87: 1,3 06:00,0 | O87: Багазеев Александр | P87: 79776219848 | Q87: bagazeev2000@mail.ru | R87: 1777882 | S87: 46056.626 | T87: https://orgeo.ru/event/info/49610
... A95: М17 | B95: М | C95: Кузин | D95: Василий | E95: Александрович | F95: Кузин Василий | G95: ГБОУ ДО МАСП | H95: 77 | I95: Москва | J95: кмс | K95: КМС | L95: 39978 | M95: 2009 | N95: 1,3 05:50,0 | O95: Багазеев Александр | P95: 79776219848 | Q95: bagazeev2000@mail.ru | R95: 1777882 | S95: 46056.626 | T95: https://orgeo.ru/event/info/49610
A96: М17 | B96: М | C96: Маргарян | D96: Артур | E96: Давидович | F96: Маргарян Артур | G96: ГБОУ ДО МАСП | H96: 77 | I96: Москва | J96: кмс | K96: КМС | L96: 40330 | M96: 2010 | O96: Vasilyev Ivan | P96: 79012768676 | Q96: vantej_tri2000@mail.ru | R96: 1782466 | S96: 46058.837 | T96: https://orgeo.ru/event/info/49610
A97: М17 | B97: М | C97: Масленников | D97: Михаил | E97: Вячеславович | F97: Масленников Михаил | G97: ГБОУ ДО МАСП | H97: 77 | I97: Москва | J97: 2р | K97: II | L97: 40549 | M97: 2011 | O97: Vasilyev Ivan | P97: 79012768676 | Q97: vantej_tri2000@mail.ru | R97: 1782466 | S97: 46058.837 | T97: https://orgeo.ru/event/info/49610
A98: М17 | B98: М | C98: Мельничук | D98: Георгий | E98: Николаевич | F98: Мельничук Георгий | G98: ГБОУ ДО МАСП | H98: 77 | I98: Москва | J98: кмс | K98: КМС | L98: 39938 | M98: 2009 | N98: 1,3 05:40,0 | O98: Багазеев Александр | P98: 79776219848 | Q98: bagazeev2000@mail.ru | R98: 1777882 | S98: 46056.626 | T98: https://orgeo.ru/event/info/49610
A99: М17 | B99: М | C99: Михайлов | D99: Никита | E99: Сергеевич | F99: Михайлов Никита | G99: МССУОР№2 | H99: 77 | I99: Москва | J99: кмс | K99: КМС | L99: 40116 | M99: 2009 | N99: 1,3 06:04,0 | O99: Москвы Федерация Триатлона | P99: 79851480905 | Q99: tri@butkova.ru | R99: 1777766 | S99: 46056.584 | T99: https://orgeo.ru/event/update/49610/step/information/tab/info
A100: М17 | B100: М | C100: Московский | D100: Александр | E100: Вячеславович | F100: Московский Александр | G100: МССУОР№2 | H100: 77 | I100: Москва | J100: кмс | K100: КМС | L100: 39866 | M100: 2009 | N100: 1,3 06:30,0 | O100: Москвы Федерация Триатлона | P100: 79851480905 | Q100: tri@butkova.ru | R100: 1777766 | S100: 46056.584 | T100: https://orgeo.ru/event/update/49610/step/information/tab/info
A101: М17 | B101: М | C101: Нехожин | D101: Дмитрий | E101: Михайлович | F101: Нехожин Дмитрий | G101: МССУОР№2 | H101: 77 | I101: Москва | J101: кмс | K101: КМС | L101: 40591 | M101: 2011 | N101: 1,3 06:00,0 | O101: Москвы Федерация Триатлона | P101: 79851480905 | Q101: tri@butkova.ru | R101: 1777766 | S101: 46056.584 | T101: https://orgeo.ru/event/update/49610/step/information/tab/info
A102: М17 | B102: М | C102: Новиков | D102: Николай | E102: Николаевич | F102: Новиков Николай | G102: МССУОР№2 | H102: 77 | I102: Москва | J102: 1р | K102: I | L102: 40904 | M102: 2011 | N102: 1,3 06:20,0 | O102: Москвы Федерация Триатлона | P102: 79851480905 | Q102: tri@butkova.ru | R102: 1777766 | S102: 46056.584 | T102: https://orgeo.ru/event/update/49610/step/information/tab/info
A103: М17 | B103: М | C103: Овсянников | D103: Сергей | E103: Александрович | F103: Овсянников Сергей | G103: МССУОР№2 | H103: 77 | I103: Москва | J103: 1р | K103: I | L103: 40150 | M103: 2009 | N103: 1,3 07:00,0 | O103: Москвы Федерация Триатлона | P103: 79851480905 | Q103: tri@butkova.ru | R103: 1777766 | S103: 46056.584 | T103: https://orgeo.ru/event/update/49610/step/information/tab/info
A104: М17 | B104: М | C104: Пушкин | D104: Сергей | E104: Сергеевич | F104: Пушкин Сергей | G104: ГБОУ ДО МАСП | H104: 77 | I104: Москва | J104: 1р | K104: I | L104: 40876 | M104: 2011 | N104: 1,3 06:25,0 | O104: Багазеев Александр | P104: 79776219848 | Q104: bagazeev2000@mail.ru | R104: 1777882 | S104: 46056.626 | T104: https://orgeo.ru/event/info/49610
A105: М17 | B105: М | C105: Рубченко | D105: Андрей | E105: Владимирович | F105: Рубченко Андрей | G105: СШОР ТЕМП | H105: 76 | I105: Ярославская обл. | J105: кмс | K105: КМС | L105: 40292 | M105: 2010 | N105: 1,3 05:45,0 в/к | O105: Алиева Мария | P105: 79206505071 | Q105: rybinskbassein@yandex.ru | R105: 1778460 | S105: 46056.896 | T105: https://orgeo.ru/event/index?search=%D0%B0%D0%BA%D0%B2%D0%B0%D1%82%D0%BB%D0%BE%D0%BD
A106: М17 | B106: М | C106: Румянцев | D106: Пётр | E106: Алексеевич | F106: Румянцев Пётр | G106: МССУОР№2 | H106: 77 | I106: Москва | J106: 2р | K106: II | L106: 40189 | M106: 2010 | N106: 1,3 07:29,1 | O106: Москвы Федерация Триатлона | P106: 79851480905 | Q106: tri@butkova.ru | R106: 1777766 | S106: 46056.584 | T106: https://orgeo.ru/event/update/49610/step/information/tab/info
A107: М17 | B107: М | C107: Стемасов | D107: Богдан | E107: Ильич | F107: Стемасов Богдан | G107: МССУОР№2 | H107: 77 | I107: Москва | J107: 2р | K107: II | L107: 40758 | M107: 2011 | N107: 1,3 06:40,0 | O107: Москвы Федерация Триатлона | P107: 79851480905 | Q107: tri@butkova.ru | R107: 1777766 | S107: 46056.584 | T107: https://orgeo.ru/event/update/49610/step/information/tab/info
A108: М17 | B108: М | C108: Султанов | D108: Илья | E108: Русланович | F108: Султанов Илья | G108: МССУОР№2 | H108: 77 | I108: Москва | J108: кмс | K108: КМС | L108: 40157 | M108: 2009 | N108: 1,3 06:01,0 | O108: Москвы Федерация Триатлона | P108: 79851480905 | Q108: tri@butkova.ru | R108: 1777766 | S108: 46056.584 | T108: https://orgeo.ru/event/update/49610/step/information/tab/info
A109: М17 | B109: М | C109: Тагаров | D109: Михаил | E109: Алексеевич | F109: Тагаров Михаил | G109: ГБОУ ДО 'МАСП' | H109: 77 | I109: Москва | J109: кмс | K109: КМС | L109: 40175 | M109: 2009 | N109: 1,3 05:52,0 | O109: Анисимова Нина | P109: 79268301834 | Q109: planeta7373@yandex.ru | R109: 1777615 | S109: 46056.527 | T109: https://orgeo.ru/event/index/region/moscow/no_national/1?search=
... A115: М19 | B115: М | C115: Выборнов | D115: Тимофей | E115: Сергеевич | F115: Выборнов Тимофей | G115: ГБОУ ДО МАСП | H115: 77 | I115: Москва | J115: кмс | K115: КМС | L115: 39320 | M115: 2007 | N115: 2,4 11:20,0 | O115: Багазеев Александр | P115: 79776219848 | Q115: bagazeev2000@mail.ru | R115: 1777882 | S115: 46056.626 | T115: https://orgeo.ru/event/info/49610
A116: М19 | B116: М | C116: Двужилов | D116: Михаил | E116: Вячеславович | F116: Двужилов Михаил | G116: ГБОУ ДО МАСП | H116: 77 | I116: Москва | J116: 1р | K116: I | L116: 40522 | M116: 2010 | O116: Vasilyev Ivan | P116: 79012768676 | Q116: vantej_tri2000@mail.ru | R116: 1782466 | S116: 46058.837 | T116: https://orgeo.ru/event/info/49610
A117: М19 | B117: М | C117: Жаринов | D117: Олег | E117: Владимирович | F117: Жаринов Олег | G117: МССУОР№2 | H117: 77 | I117: Москва | J117: 1р | K117: I | L117: 40164 | M117: 2009 | N117: 2,4 14:30,0 | O117: Москвы Федерация Триатлона | P117: 79851480905 | Q117: tri@butkova.ru | R117: 1777766 | S117: 46056.584 | T117: https://orgeo.ru/event/update/49610/step/information/tab/info
A118: М19 | B118: М | C118: Карпинский | D118: Егор | E118: Никитич | F118: Карпинский Егор | G118: ГБОУ ДО МАСП | H118: 77 | I118: Москва | J118: 2р | K118: II | L118: 40523 | M118: 2010 | O118: Vasilyev Ivan | P118: 79012768676 | Q118: vantej_tri2000@mail.ru | R118: 1782466 | S118: 46058.837 | T118: https://orgeo.ru/event/info/49610
A119: М19 | B119: М | C119: Кононов | D119: Данил | E119: Сергеевич | F119: Кононов Данил | G119: МССУОР№2 | H119: 77 | I119: Москва | J119: 1р | K119: I | L119: 40099 | M119: 2009 | N119: 2,4 13:00,0 | O119: Москвы Федерация Триатлона | P119: 79851480905 | Q119: tri@butkova.ru | R119: 1777766 | S119: 46056.584 | T119: https://orgeo.ru/event/update/49610/step/information/tab/info
A120: М19 | B120: М | C120: Кочетов | D120: Артур | E120: Максимович | F120: Кочетов Артур | G120: МССУОР№2 | H120: 77 | I120: Москва | J120: 1р | K120: I | L120: 40181 | M120: 2010 | N120: 2,4 12:00,0 | O120: Москвы Федерация Триатлона | P120: 79851480905 | Q120: tri@butkova.ru | R120: 1777766 | S120: 46056.584 | T120: https://orgeo.ru/event/update/49610/step/information/tab/info
A121: М19 | B121: М | C121: Лебедев | D121: Антон | E121: Германович | F121: Лебедев Антон | G121: ГБОУ ДО МАСП | H121: 77 | I121: Москва | J121: 1р | K121: I | L121: 40235 | M121: 2010 | O121: Vasilyev Ivan | P121: 79012768676 | Q121: vantej_tri2000@mail.ru | R121: 1782466 | S121: 46058.837 | T121: https://orgeo.ru/event/info/49610
...

Sheet мандатка
A1: Старт | B1: Заплыв | C1: Дорожка | D1: Группа | E1: Пол | F1: Спортсмен | G1: Предъявить | H1: ГодРожд | I1: Квал. | J1: Команда | K1: Плав | L1: Бег | M1: Примечания | N1: Допуск | O1: ИАС | P1: Страховка_Школа | Q1: ФТР | R1: Паспорт | S1: Разряд | T1: СНИЛС | U1: Полис | V1: Допуск2 | W1: Страховка | X1: РУСАДА | Y1: Разряд3 | Z1: Школа | AA1: Тренер1 | AB1: Тренер2
A2: 13:30 16:00 | B2: Заплыв 1 Забег 1 | C2: 1лев
C3: 1пр
C4: 2лев | D4: Д14 | E4: Ж | F4: Сомова Алиса | H4: 2013 | I4: 1р | J4: АКВАТИКС | M4: 0.0056944444 | N4: 46093 | O4: 1189795 | Q4: 310 | Y4: =INDEX(ИАС!P:P,MATCH(F4,ИАС!E:E,0)) -> 1 спортивный разряд | Z4: АНО «ДЮСШ «Акватикс» | AA4: Борисов Евгений Валерьевич | AB4: Самсонов Иван Александрович | AC4: =IF(AB4="",AA4,CONCATENATE(AA4,", ",AB4)) -> Борисов Евгений Валерьевич, Самсонов Иван Александрович
C5: 2пр | D5: Д14 | E5: Ж | F5: Петрова Полина | H5: 2012 | I5: 1р | J5: МАСП | M5: 0.0051273148 | N5: 11.03.2026 | O5: 1038936 | P5: + | Y5: =INDEX(ИАС!P:P,MATCH(F5,ИАС!E:E,0)) -> 1 спортивный разряд | Z5: ГБУ ДО «Московская академия современного пятиборья» | AA5: Васильев Иван Михайлович | AC5: =IF(AB5="",AA5,CONCATENATE(AA5,", ",AB5)) -> Васильев Иван Михайлович
C6: 3лев | D6: Д14 | E6: Ж | F6: Жевагина Виктория | H6: 2012 | I6: 2р | J6: УОР№2 | M6: 0.0052083333 | N6: 13.01.2027 | O6: 1647658 | P6: + | Y6: =INDEX(ИАС!P:P,MATCH(F6,ИАС!E:E,0)) -> 2 спортивный разряд | Z6: ГБПОУ «МССУОР № 2» Москомспорта | AA6: Семиволос Алексей Юрьевич | AC6: =IF(AB6="",AA6,CONCATENATE(AA6,", ",AB6)) -> Семиволос Алексей Юрьевич
C7: 3пр | D7: Д14 | E7: Ж | F7: Давыдова Екатерина | H7: 2012 | I7: кмс | J7: МАСП | M7: 0.0049768519 | N7: 01.02.2027 | O7: 1036688 | Q7: 325 | Y7: =INDEX(ИАС!P:P,MATCH(F7,ИАС!E:E,0)) -> Кандидат в мастера спорта | Z7: ГБУ ДО «Московская академия современного пятиборья» | AA7: Багазеев Александр Константинович | AC7: =IF(AB7="",AA7,CONCATENATE(AA7,", ",AB7)) -> Багазеев Александр Константинович
C8: 5пр | D8: Д14 | E8: Ж | F8: Ланцова Мария | H8: 2013 | I8: 1р | J8: АКВАТИКС | M8: 0.0054398148 | N8: 46349 | O8: 1589588 | Y8: =INDEX(ИАС!P:P,MATCH(F8,ИАС!E:E,0)) -> 1 спортивный разряд | Z8: АНО «ДЮСШ «Акватикс» | AA8: Борисов Евгений Валерьевич | AB8: Самсонов Иван Александрович | AC8: =IF(AB8="",AA8,CONCATENATE(AA8,", ",AB8)) -> Борисов Евгений Валерьевич, Самсонов Иван Александрович
C9: 4пр | D9: Д14 | E9: Ж | F9: Рогожина Дарья | H9: 2013 | I9: 1р | J9: УОР№2 | M9: 0.0047453704 | N9: 22.06.2026 | O9: 1190379 | Q9: 299 | W9: + | Y9: =INDEX(ИАС!P:P,MATCH(F9,ИАС!E:E,0)) -> 1 спортивный разряд | Z9: ГБПОУ «МССУОР № 2» Москомспорта | AA9: Пахомова Марина Сергеевна | AC9: =IF(AB9="",AA9,CONCATENATE(AA9,", ",AB9)) -> Пахомова Марина Сергеевна
C10: 5лев | D10: Д14 | E10: Ж | F10: Петровская Анастасия | H10: 2013 | I10: 1р | J10: МАСП | M10: 0.0052083333 | N10: 16.09.2026 | O10: 1382436 | Q10: 328 | Y10: =INDEX(ИАС!P:P,MATCH(F10,ИАС!E:E,0)) -> 1 спортивный разряд | Z10: ГБУ ДО «Московская академия современного пятиборья» | AA10: Васильев Иван Михайлович | AC10: =IF(AB10="",AA10,CONCATENATE(AA10,", ",AB10)) -> Васильев Иван Михайлович
C11: 6пр | D11: Д14 | E11: Ж | F11: Украинцева Софья | H11: 2013 | I11: 3р | J11: АКВАТИКС | N11: 46111 | O11: 1189858 | Y11: =INDEX(ИАС!P:P,MATCH(F11,ИАС!E:E,0)) -> 3 спортивный разряд | Z11: АНО «ДЮСШ «Акватикс» | AA11: Трифанкин Степан Николаевич | AB11: Борисов Евгений Валерьевич | AC11: =IF(AB11="",AA11,CONCATENATE(AA11,", ",AB11)) -> Трифанкин Степан Николаевич, Борисов Евгений Валерьевич
C12: 6лев | D12: Д14 | E12: Ж | F12: Жаринова Анна | H12: 2013 | I12: 2р | J12: УОР№2 | M12: 0.0059074074 | N12: 24.09.2026 | O12: 1530637 | P12: + | Y12: =INDEX(ИАС!P:P,MATCH(F12,ИАС!E:E,0)) -> 2 спортивный разряд | Z12: ГБПОУ «МССУОР № 2» Москомспорта | AA12: Семиволос Алексей Юрьевич | AC12: =IF(AB12="",AA12,CONCATENATE(AA12,", ",AB12)) -> Семиволос Алексей Юрьевич
C13: 3пр | D13: М14 | E13: М | F13: Лукьянов Артем | H13: 2013 | I13: 1ю | J13: АКВАТИКС | M13: 0.0056712963 | O13: 1397120 | Y13: б/р | Z13: АНО «ДЮСШ «Акватикс» | AA13: Трифанкин Степан Николаевич | AB13: Борисов Евгений Валерьевич | AC13: =IF(AB13="",AA13,CONCATENATE(AA13,", ",AB13)) -> Трифанкин Степан Николаевич, Борисов Евгений Валерьевич
C14: 7лев | AC14: =IF(AB14="",AA14,CONCATENATE(AA14,", ",AB14)) -> 0
C15: 7пр | AC15: =IF(AB15="",AA15,CONCATENATE(AA15,", ",AB15)) -> 0
C16: 8лев | AC16: =IF(AB16="",AA16,CONCATENATE(AA16,", ",AB16)) -> 0
C17: 8пр | AC17: =IF(AB17="",AA17,CONCATENATE(AA17,", ",AB17)) -> 0
A18: 13:40 16:15 | B18: Заплыв 2 Забег 2 | C18: 1лев | D18: Д17 | E18: Ж | F18: Покрамович Мария | H18: 2010 | I18: кмс | J18: АКВАТИКС | M18: 0.0050115741 | N18: 46107 | O18: 748107 | Q18: 290 | Y18: =INDEX(ИАС!P:P,MATCH(F18,ИАС!E:E,0)) -> Кандидат в мастера спорта | Z18: АНО «ДЮСШ «Акватикс» | AA18: Кумин Егор Сергеевич | AB18: Борисов Евгений Валерьевич | AC18: =IF(AB18="",AA18,CONCATENATE(AA18,", ",AB18)) -> Кумин Егор Сергеевич, Борисов Евгений Валерьевич
C19: 1пр | D19: Д17 | E19: Ж | F19: Пронюк Анастасия | H19: 2010 | I19: кмс | J19: МАСП | M19: 0.0047106481 | N19: 01.09.2026 | O19: 1052090 | Q19: 295 | Y19: Кандидат в мастера спорта | Z19: ГБУ ДО «Московская академия современного пятиборья» | AA19: Анисимова Нина Валентиновна | AC19: =IF(AB19="",AA19,CONCATENATE(AA19,", ",AB19)) -> Анисимова Нина Валентиновна
C20: 2лев | D20: Д17 | E20: Ж | F20: Филина Анна | H20: 2011 | I20: кмс | J20: МАСП | M20: 0.0049768519 | N20: 03.04.2026 | O20: 1338522 | Q20: 329 | Y20: Кандидат в мастера спорта | Z20: ГБУ ДО «Московская академия современного пятиборья» | AA20: Васильев Иван Михайлович | AC20: =IF(AB20="",AA20,CONCATENATE(AA20,", ",AB20)) -> Васильев Иван Михайлович
C21: 2пр | D21: Д17 | E21: Ж | F21: Корюкалова Ева | H21: 2009 | I21: кмс | J21: УОР№2 | M21: 0.0046875 | N21: 11.08.2026 | O21: 2185734 | Q21: 270 | W21: + | Y21: Кандидат в мастера спорта | Z21: ГБПОУ «МССУОР № 2» Москомспорта | AA21: Антошина Ирина Николаевна | AC21: =IF(AB21="",AA21,CONCATENATE(AA21,", ",AB21)) -> Антошина Ирина Николаевна
C22: 3лев | D22: Д17 | E22: Ж | F22: Силина Кира | H22: 2011 | I22: 1р | J22: УОР№2 | M22: 0.0047997685 | N22: 04.05.2026 | O22: 864523 | P22: + | Y22: 1 спортивный разряд | Z22: ГБПОУ «МССУОР № 2» Москомспорта | AA22: Семиволос Алексей Юрьевич | AC22: =IF(AB22="",AA22,CONCATENATE(AA22,", ",AB22)) -> Семиволос Алексей Юрьевич
C23: 3пр | D23: Д17 | E23: Ж | F23: Морданова Софья | H23: 2009 | I23: кмс | J23: МАСП | M23: 0.0046122685 | N23: 11.03.2026 | O23: 973691 | P23: + | Y23: Кандидат в мастера спорта | Z23: ГБУ ДО «Московская академия современного пятиборья» | AA23: Анисимова Нина Валентиновна | AC23: =IF(AB23="",AA23,CONCATENATE(AA23,", ",AB23)) -> Анисимова Нина Валентиновна
C24: 4лев | D24: Д17 | E24: Ж | F24: Маркина Дарья | H24: 2011 | I24: 1р | J24: МАСП | M24: 0.0047569444 | N24: 20.03.2026 | O24: 1042904 | P24: + | Y24: =INDEX(ИАС!P:P,MATCH(F24,ИАС!E:E,0)) -> 1 спортивный разряд | Z24: ГБУ ДО «Московская академия современного пятиборья» | AA24: Васильев Иван Михайлович | AC24: =IF(AB24="",AA24,CONCATENATE(AA24,", ",AB24)) -> Васильев Иван Михайлович
C25: 4пр | D25: Д17 | E25: Ж | F25: Семенова Юлия | H25: 2011 | I25: кмс | J25: МАСП | M25: 0.0044560185 | N25: 24.12.2026 | O25: 858889 | Q25: 306 | Y25: Кандидат в мастера спорта | Z25: ГБУ ДО «Московская академия современного пятиборья» | AA25: Багазеев Александр Константинович | AC25: =IF(AB25="",AA25,CONCATENATE(AA25,", ",AB25)) -> Багазеев Александр Константинович
C26: 5лев | D26: Д17 | E26: Ж | F26: Куфман Варвара | H26: 2010 | I26: кмс | J26: УОР№2 | M26: 0.0047453704 | N26: 31.08.2026 | O26: 1062040 | Q26: 275 | Y26: Кандидат в мастера спорта | Z26: ГБПОУ «МССУОР № 2» Москомспорта | AA26: Эсаулова Ольга Олеговна | AC26: =IF(AB26="",AA26,CONCATENATE(AA26,", ",AB26)) -> Эсаулова Ольга Олеговна
C27: 5пр | D27: Д17 | E27: Ж | F27: Ключарёва Иоанна | H27: 2011 | I27: кмс | J27: МАСП | M27: 0.0043402778 | N27: 24.12.2026 | O27: 858872 | Q27: 265 | Y27: Кандидат в мастера спорта | Z27: ГБУ ДО «Московская академия современного пятиборья» | AA27: Багазеев Александр Константинович | AC27: =IF(AB27="",AA27,CONCATENATE(AA27,", ",AB27)) -> Багазеев Александр Константинович
C28: 6лев | D28: Д17 | E28: Ж | F28: Дащенко Элина | H28: 2010 | I28: кмс | J28: УОР№2 | M28: 0.0046296296 | N28: 10.09.2026 | O28: 1940590 | Q28: 254 | Y28: Кандидат в мастера спорта | Z28: ГБПОУ «МССУОР № 2» Москомспорта | AA28: Семиволос Алексей Юрьевич | AC28: =IF(AB28="",AA28,CONCATENATE(AA28,", ",AB28)) -> Семиволос Алексей Юрьевич
C29: 6пр | D29: Д17 | E29: Ж | F29: Титова Алина | H29: 2011 | I29: кмс | J29: МАСП | M29: 0.0043981481 | N29: 01.09.2026 | O29: 932959 | Q29: 315 | Y29: Кандидат в мастера спорта | Z29: ГБУ ДО «Московская академия современного пятиборья» | AA29: Багазеев Александр Константинович | AC29: =IF(AB29="",AA29,CONCATENATE(AA29,", ",AB29)) -> Багазеев Александр Константинович
C30: 7лев | D30: Д17 | E30: Ж | F30: Длютрова Ульяна | H30: 2011 | I30: кмс | J30: УОР№2 | M30: 0.0048738426 | N30: 12.01.2027 | O30: 891722 | Q30: 256 | W30: + | Y30: Кандидат в мастера спорта | Z30: ГБПОУ «МССУОР № 2» Москомспорта | AA30: Антошина Ирина Николаевна | AC30: =IF(AB30="",AA30,CONCATENATE(AA30,", ",AB30)) -> Антошина Ирина Николаевна
C31: 7пр | D31: Д17 | E31: Ж | F31: Зовская Софья | H31: 2009 | I31: кмс | J31: МАСП | M31: 0.0046875 | N31: 15.08.2026 | O31: 1186899 | Q31: 259 | Y31: Кандидат в мастера спорта | Z31: ГБУ ДО «Московская академия современного пятиборья» | AA31: Анисимова Нина Валентиновна | AC31: =IF(AB31="",AA31,CONCATENATE(AA31,", ",AB31)) -> Анисимова Нина Валентиновна
C32: 8лев | D32: Д17 | E32: Ж | F32: Лабанюк Анна | H32: 2010 | I32: 1р | J32: АКВАТИКС | M32: 0.0059421296 | N32: 46106 | O32: 1334876 | Q32: 276 | Y32: =INDEX(ИАС!P:P,MATCH(F32,ИАС!E:E,0)) -> 1 спортивный разряд | Z32: АНО «ДЮСШ «Акватикс» | AA32: Борисов Евгений Валерьевич | AB32: Самсонов Иван Александрович | AC32: =IF(AB32="",AA32,CONCATENATE(AA32,", ",AB32)) -> Борисов Евгений Валерьевич, Самсонов Иван Александрович
C33: 8пр | D33: Д17 | E33: Ж | F33: Игошина Дарина | H33: 2010 | I33: 1р | J33: УОР№2 | M33: 0.0057025463 | N33: 11.12.2026 | O33: 2426494 | Q33: 260 | W33: + | Y33: =INDEX(ИАС!P:P,MATCH(F33,ИАС!E:E,0)) -> 1 спортивный разряд | Z33: ГБПОУ «МССУОР № 2» Москомспорта | AA33: Антошина Ирина Николаевна | AC33: =IF(AB33="",AA33,CONCATENATE(AA33,", ",AB33)) -> Антошина Ирина Николаевна
A34: 13:50 16:30 | B34: Заплыв 3 Забег 3 | C34: 1лев | AC34: =IF(AB34="",AA34,CONCATENATE(AA34,", ",AB34)) -> 0
C35: 1пр | AC35: =IF(AB35="",AA35,CONCATENATE(AA35,", ",AB35)) -> 0
C36: 5пр | D36: М14 | E36: М | F36: Дюжий Михаил | H36: 2012 | I36: 3р | J36: АКВАТИКС | M36: 0.0054398148 | N36: 46311 | O36: 1190110 | Y36: 3 спортивный разряд | Z36: АНО «ДЮСШ «Акватикс» | AA36: Кумин Егор Сергеевич | AB36: Кулик Евгений Юрьевич | AC36: =IF(AB36="",AA36,CONCATENATE(AA36,", ",AB36)) -> Кумин Егор Сергеевич, Кулик Евгений Юрьевич
C37: 2пр | D37: М14 | E37: М | F37: Косов Даниил | H37: 2013 | I37: 2р | J37: УОР№2 | M37: 0.0055555556 | N37: 25.09..2026 Щелково | O37: 2248867 | P37: + | Y37: 2 спортивный разряд | Z37: ГБПОУ «МССУОР № 2» Москомспорта | AA37: Никульшин Александр Викторович | AC37: =IF(AB37="",AA37,CONCATENATE(AA37,", ",AB37)) -> Никульшин Александр Викторович
C38: 3лев | D38: М14 | E38: М | F38: Петров Артемий | H38: 2013 | I38: 2р | J38: УОР№2 | M38: 0.0053599537 | N38: 29.05.2026 | O38: 1208477 | Y38: 2 спортивный разряд | Z38: ГБПОУ «МССУОР № 2» Москомспорта | AA38: Семиволос Алексей Юрьевич | AC38: =IF(AB38="",AA38,CONCATENATE(AA38,", ",AB38)) -> Семиволос Алексей Юрьевич
C39: 7лев | D39: М14 | E39: М | F39: Зволинский Владислав | H39: 2013 | I39: 2р | J39: АКВАТИКС | M39: 0.0056712963 | N39: 46164 | O39: 1299110 | Y39: 2 спортивный разряд | Z39: АНО «ДЮСШ «Акватикс» | AA39: Трифанкин Степан Николаевич | AB39: Борисов Евгений Валерьевич | AC39: =IF(AB39="",AA39,CONCATENATE(AA39,", ",AB39)) -> Трифанкин Степан Николаевич, Борисов Евгений Валерьевич
C40: 4лев | D40: М14 | E40: М | F40: Воловик Степан | H40: 2012 | I40: 1р | J40: МАСП | M40: 0.0050810185 | N40: 18.06.2026 | O40: 1702539 | P40: + | Y40: 1 спортивный разряд | Z40: ГБУ ДО «Московская академия современного пятиборья» | AA40: Багазеев Александр Константинович | AC40: =IF(AB40="",AA40,CONCATENATE(AA40,", ",AB40)) -> Багазеев Александр Константинович
C41: 4пр | D41: М14 | E41: М | F41: Капранов Филипп | H41: 2012 | I41: 2р | J41: АКВАТИКС | M41: 0.0054398148 | N41: 46433 | O41: 2364841 | P41: + | R41: + | V41: + | W41: + | Y41: 2 спортивный разряд | Z41: АНО «ДЮСШ «Акватикс» | AA41: Кумин Егор Сергеевич | AB41: Кулик Евгений Юрьевич | AC41: =IF(AB41="",AA41,CONCATENATE(AA41,", ",AB41)) -> Кумин Егор Сергеевич, Кулик Евгений Юрьевич
C42: 5лев | D42: М14 | E42: М | F42: Комлик Тимофей | H42: 2012 | I42: 2р | J42: УОР№2 | M42: 0.0050347222 | N42: 13.11.2026 | O42: 1006561 | P42: + | Y42: 2 спортивный разряд | Z42: ГБПОУ «МССУОР № 2» Москомспорта | AA42: Пахомова Марина Сергеевна | AC42: =IF(AB42="",AA42,CONCATENATE(AA42,", ",AB42)) -> Пахомова Марина Сергеевна
C43: 5пр | D43: М17 | E43: М | F43: Ващенко Марк | H43: 2011 | I43: кмс | J43: АКВАТИКС | M43: 0.0047453704 | O43: 1061652 | Q43: 244 | R43: + | T43: + | U43: + | W43: + | X43: + | Y43: Кандидат в мастера спорта | Z43: АНО «ДЮСШ «Акватикс» | AA43: Борисов Евгений Валерьевич | AB43: Самсонов Иван Александрович | AC43: =IF(AB43="",AA43,CONCATENATE(AA43,", ",AB43)) -> Борисов Евгений Валерьевич, Самсонов Иван Александрович
C44: 6лев | D44: М14 | E44: М | F44: Марчишин Макар | H44: 2012 | I44: 2р | J44: УОР№2 | M44: 0.0050925926 | N44: 12.01.2027 | O44: 1647653 | P44: + | Y44: 2 спортивный разряд | Z44: ГБПОУ «МССУОР № 2» Москомспорта | AA44: Семиволос Алексей Юрьевич | AC44: =IF(AB44="",AA44,CONCATENATE(AA44,", ",AB44)) -> Семиволос Алексей Юрьевич
C45: 6пр | D45: М14 | E45: М | F45: Шевяков Артем | H45: 2012 | I45: 1р | J45: АКВАТИКС | M45: 0.0053819444 | N45: 46379 | O45: 1190073 | Q45: 322 | W45: + | Y45: 1 спортивный разряд | Z45: АНО «ДЮСШ «Акватикс» | AA45: Трифанкин Степан Николаевич | AB45: Борисов Евгений Валерьевич | AC45: =IF(AB45="",AA45,CONCATENATE(AA45,", ",AB45)) -> Трифанкин Степан Николаевич, Борисов Евгений Валерьевич
D46: М19 | E46: М | F46: Малашин Симеон | H46: 2008 | I46: 1р | J46: АКВАТИКС | M46: 0.010416667 | O46: 2325804 | P46: + | Y46: 1 спортивный разряд | Z46: АНО «ДЮСШ «Акватикс» | AA46: Кумин Егор Сергеевич | AB46: Самсонов Иван Александрович | AC46: =IF(AB46="",AA46,CONCATENATE(AA46,", ",AB46)) -> Кумин Егор Сергеевич, Самсонов Иван Александрович
C47: 7пр | D47: М14 | E47: М | F47: Минажетдинов Руслан | H47: 2012 | I47: 3р | J47: МАСП | M47: 0.006099537 | N47: 14.10.2026 | O47: 1405497 | P47: + | Y47: 3 спортивный разряд | Z47: ГБУ ДО «Московская академия современного пятиборья» | AA47: Васильев Иван Михайлович | AC47: =IF(AB47="",AA47,CONCATENATE(AA47,", ",AB47)) -> Васильев Иван Михайлович
C48: 8лев | AC48: =IF(AB48="",AA48,CONCATENATE(AA48,", ",AB48)) -> 0
C49: 8пр | AC49: =IF(AB49="",AA49,CONCATENATE(AA49,", ",AB49)) -> 0
A50: 14:00 16:45 | B50: Заплыв 4 Забег 4 | C50: 1лев | AC50: =IF(AB50="",AA50,CONCATENATE(AA50,", ",AB50)) -> 0
C51: 1пр | D51: М14 | E51: М | F51: Красников Лев | H51: 2012 | I51: 1р | J51: АКВАТИКС | M51: 0.0049189815 | N51: 46308 | O51: 1595482 | P51: + | Y51: 1 спортивный разряд | Z51: АНО «ДЮСШ «Акватикс» | AA51: Кумин Егор Сергеевич | AB51: Кулик Евгений Юрьевич | AC51: =IF(AB51="",AA51,CONCATENATE(AA51,", ",AB51)) -> Кумин Егор Сергеевич, Кулик Евгений Юрьевич
C52: 2лев | D52: М14 | E52: М | F52: Горохов Евгений | H52: 2013 | I52: 1р | J52: УОР№2 | M52: 0.0048611111 | N52: 02.10.2026 | O52: 1595480 | Q52: 252 | W52: + | Y52: 1 спортивный разряд | Z52: ГБПОУ «МССУОР № 2» Москомспорта | AA52: Никульшин Александр Викторович | AC52: =IF(AB52="",AA52,CONCATENATE(AA52,", ",AB52)) -> Никульшин Александр Викторович
C53: 2пр | D53: М14 | E53: М | F53: Ершов Антон | H53: 2012 | I53: 1р | J53: МАСП | M53: 0.0043981481 | N53: 04.05.2026 | O53: 1036724 | P53: + | Y53: 1 спортивный разряд | Z53: ГБУ ДО «Московская академия современного пятиборья» | AA53: Багазеев Александр Константинович | AC53: =IF(AB53="",AA53,CONCATENATE(AA53,", ",AB53)) -> Багазеев Александр Константинович
C54: 3лев | D54: М14 | E54: М | F54: Рогожин Дмитрий | H54: 2013 | I54: 1р | J54: УОР№2 | M54: 0.0047106481 | N54: 22.06.2026 | O54: 1930304 | Q54: 298 | W54: + | Y54: 1 спортивный разряд | Z54: ГБПОУ «МССУОР № 2» Москомспорта | AA54: Пахомова Марина Сергеевна | AC54: =IF(AB54="",AA54,CONCATENATE(AA54,", ",AB54)) -> Пахомова Марина Сергеевна
C55: 3пр | D55: М14 | E55: М | F55: Бобков Игорь | H55: 2013 | I55: 1р | J55: МАСП | M55: 0.0042824074 | N55: 09.03.2026 | O55: 1108796 | Q55: 238 | Y55: 1 спортивный разряд | Z55: ГБУ ДО «Московская академия современного пятиборья» | AA55: Багазеев Александр Константинович | AC55: =IF(AB55="",AA55,CONCATENATE(AA55,", ",AB55)) -> Багазеев Александр Константинович
C56: 4лев | D56: М14 | E56: М | F56: Диденко Александр | H56: 2012 | I56: 1р | J56: МАСП | M56: 0.0044560185 | N56: 12.02.2027 | O56: 1036675 | P56: + | Y56: 1 спортивный разряд | Z56: ГБУ ДО «Московская академия современного пятиборья» | AA56: Багазеев Александр Константинович | AC56: =IF(AB56="",AA56,CONCATENATE(AA56,", ",AB56)) -> Багазеев Александр Константинович
C57: 4пр | D57: М14 | E57: М | F57: Медведев Антон | H57: 2012 | I57: 1р | J57: УОР№2 | M57: 0.0040509259 | N57: 12.03.2026 | O57: 740981 | Q57: 279 | Y57: 1 спортивный разряд | Z57: ГБПОУ «МССУОР № 2» Москомспорта | AA57: Эсаулова Ольга Олеговна | AC57: =IF(AB57="",AA57,CONCATENATE(AA57,", ",AB57)) -> Эсаулова Ольга Олеговна
C58: 5лев | D58: М14 | E58: М | F58: Кухарев Даниил | H58: 2013 | I58: 2р | J58: УОР№2 | M58: 0.0045949074 | N58: 03.03.2026 | O58: 1688492 | P58: + | Y58: 2 спортивный разряд | Z58: ГБПОУ «МССУОР № 2» Москомспорта | AA58: Пахомова Марина Сергеевна | AC58: =IF(AB58="",AA58,CONCATENATE(AA58,", ",AB58)) -> Пахомова Марина Сергеевна
C59: 5пр | D59: М14 | E59: М | F59: Акиньшин Платон | H59: 2012 | I59: кмс | J59: МАСП | M59: 0.0041666667 | N59: 23.04.2026 | O59: 1036722 | Q59: 226 | Y59: Кандидат в мастера спорта | Z59: ГБУ ДО «Московская академия современного пятиборья» | AA59: Багазеев Александр Константинович | AC59: =IF(AB59="",AA59,CONCATENATE(AA59,", ",AB59)) -> Багазеев Александр Константинович
C60: 6лев | D60: М14 | E60: М | F60: Литвинов Марк | H60: 2012 | I60: 1р | J60: АКВАТИКС | M60: 0.0046296296 | N60: 46311 | O60: 957614 | P60: + | Y60: 1 спортивный разряд | Z60: АНО «ДЮСШ «Акватикс» | AA60: Кумин Егор Сергеевич | AB60: Кулик Евгений Юрьевич | AC60: =IF(AB60="",AA60,CONCATENATE(AA60,", ",AB60)) -> Кумин Егор Сергеевич, Кулик Евгений Юрьевич
C61: 6пр | D61: М14 | E61: М | F61: Харин Тимур | H61: 2013 | I61: 1р | J61: МАСП | M61: 0.0042824074 | N61: 02.02.2027 | O61: 2388476 | Q61: 319 | Y61: 1 спортивный разряд | Z61: ГБУ ДО «Московская академия современного пятиборья» | AA61: Васильев Иван Михайлович | AC61: =IF(AB61="",AA61,CONCATENATE(AA61,", ",AB61)) -> Васильев Иван Михайлович
C62: 7лев | D62: М14 | E62: М | F62: Литвинов Дмитрий | H62: 2012 | I62: 1р | J62: АКВАТИКС | M62: 0.0049189815 | N62: 46311 | O62: 957613 | P62: + | Y62: 1 спортивный разряд | Z62: АНО «ДЮСШ «Акватикс» | AA62: Кумин Егор Сергеевич | AB62: Кулик Евгений Юрьевич | AC62: =IF(AB62="",AA62,CONCATENATE(AA62,", ",AB62)) -> Кумин Егор Сергеевич, Кулик Евгений Юрьевич
C63: 7пр | D63: М14 | E63: М | F63: Дёмин Максим | H63: 2013 | I63: 2р | J63: МФТ | M63: 0.0048032407 | N63: 31.08.2026, плав | O63: 1729722 | P63: сам | V63: + | Y63: 2 спортивный разряд | Z63: РСОО «Федерация триатлона города Москвы» | AA63: Семиволос Алексей Юрьевич | AC63: =IF(AB63="",AA63,CONCATENATE(AA63,", ",AB63)) -> Семиволос Алексей Юрьевич
C64: 8лев | AC64: =IF(AB64="",AA64,CONCATENATE(AA64,", ",AB64)) -> 0
C65: 8пр | AC65: =IF(AB65="",AA65,CONCATENATE(AA65,", ",AB65)) -> 0
A66: 14:10 17:00 | B66: Заплыв 5 Забег 5 | C66: 1лев | D66: М17 | E66: М | F66: Иванов Фёдор | H66: 2010 | I66: 2р | J66: УОР№2 | M66: 0.0061041667 | N66: 09.10.2026 | O66: 770455 | Y66: 2 спортивный разряд | Z66: ГБПОУ «МССУОР № 2» Москомспорта | AA66: Семиволос Алексей Юрьевич | AC66: =IF(AB66="",AA66,CONCATENATE(AA66,", ",AB66)) -> Семиволос Алексей Юрьевич
C67: 1пр | D67: М17 | E67: М | F67: Волков Артём | H67: 2011 | I67: 2р | J67: УОР№2 | M67: 0.0055844907 | N67: 09.10.2026 | O67: 2548588 | P67: сам | Y67: 2 спортивный разряд | Z67: ГБПОУ «МССУОР № 2» Москомспорта | AA67: Семиволос Алексей Юрьевич | AC67: =IF(AB67="",AA67,CONCATENATE(AA67,", ",AB67)) -> Семиволос Алексей Юрьевич
C68: 2лев | D68: М17 | E68: М | F68: Грицков Даниил | H68: 2011 | I68: 2р | J68: УОР№2 | M68: 0.0059768519 | N68: 04.02.2027 | O68: 2557387 | Y68: 2 спортивный разряд | Z68: ГБПОУ «МССУОР № 2» Москомспорта | AA68: Семиволос Алексей Юрьевич | AC68: =IF(AB68="",AA68,CONCATENATE(AA68,", ",AB68)) -> Семиволос Алексей Юрьевич
D69: М23в/к | E69: М | F69: Соленый Антон | G69: страховка, допуск, разряд | H69: 2006 | I69: кмс | J69: ЛНР, лично | AC69: =IF(AB69="",AA69,CONCATENATE(AA69,", ",AB69)) -> 0
C70: 3лев | D70: М17 | E70: М | F70: Стемасов Богдан | H70: 2011 | I70: 2р | J70: УОР№2 | M70: 0.0046296296 | N70: 20.03.2026 | O70: 1850755 | P70: + | Y70: 2 спортивный разряд | Z70: ГБПОУ «МССУОР № 2» Москомспорта | AA70: Семиволос Алексей Юрьевич | AC70: =IF(AB70="",AA70,CONCATENATE(AA70,", ",AB70)) -> Семиволос Алексей Юрьевич
C71: 3пр | D71: М17 | E71: М | F71: Овсянников Сергей | H71: 2009 | I71: 1р | J71: УОР№2 | M71: 0.0048611111 | O71: 1411652 | P71: + | R71: + | S71: + | U71: + | Y71: 1 спортивный разряд | Z71: ГБПОУ «МССУОР № 2» Москомспорта | AA71: Пахомова Марина Сергеевна | AC71: =IF(AB71="",AA71,CONCATENATE(AA71,", ",AB71)) -> Пахомова Марина Сергеевна
C72: 4лев | D72: М17в/к | E72: М | F72: Щипачев Дмитрий | H72: 2011 | I72: 2р | J72: Свердловская обл. | M72: 0.0045486111 | N72: 19.12.2026 Екатеринбург | Y72: #N/A | Z72: #N/A | AA72: #N/A | AB72: #N/A | AC72: =IF(AB72="",AA72,CONCATENATE(AA72,", ",AB72)) -> #N/A
C73: 4пр | D73: М17 | E73: М | F73: Жаров Елисей | H73: 2009 | I73: кмс | J73: УОР№2 | M73: 0.0048611111 | N73: 12.03.2026 | O73: 963108 | P73: + | R73: + | S73: + | T73: + | U73: + | Y73: Кандидат в мастера спорта | Z73: ГБПОУ «МССУОР № 2» Москомспорта | AA73: Пахомова Марина Сергеевна | AC73: =IF(AB73="",AA73,CONCATENATE(AA73,", ",AB73)) -> Пахомова Марина Сергеевна
C74: 5лев | D74: М17 | E74: М | F74: Московский Александр | H74: 2009 | I74: кмс | J74: УОР№2 | M74: 0.0045138889 | N74: 14.01.2027 | O74: 1026739 | Q74: 282 | R74: + | U74: + | W74: + | Y74: Кандидат в мастера спорта | Z74: ГБПОУ «МССУОР № 2» Москомспорта | AA74: Никульшин Александр Викторович | AC74: =IF(AB74="",AA74,CONCATENATE(AA74,", ",AB74)) -> Никульшин Александр Викторович
C75: 4лев | D75: Д14 | E75: Ж | F75: Буханова Диана | H75: 2013 | I75: 1ю | J75: МАСП | M75: 0.0043981481 | N75: 46251 | O75: 2634105 | S75: + | V75: + | Y75: 1ю | Z75: ГБУ ДО «Московская академия современного пятиборья» | AA75: Васильев Иван Михайлович | AC75: =IF(AB75="",AA75,CONCATENATE(AA75,", ",AB75)) -> Васильев Иван Михайлович
C76: 6лев | D76: М17 | E76: М | F76: Пушкин Сергей | H76: 2011 | I76: 1р | J76: МАСП | M76: 0.0044560185 | N76: 24.03.2026 | O76: 858918 | Q76: 297 | Y76: 1 спортивный разряд | Z76: ГБУ ДО «Московская академия современного пятиборья» | AA76: Багазеев Александр Константинович | AC76: =IF(AB76="",AA76,CONCATENATE(AA76,", ",AB76)) -> Багазеев Александр Константинович
C77: 6пр | D77: М17 | E77: М | F77: Маргарян Артур | H77: 2010 | I77: кмс | J77: МАСП | M77: 0.0050115741 | N77: 20.03.2026 | O77: 1163205 | Q77: 326 | Y77: Кандидат в мастера спорта | Z77: ГБУ ДО «Московская академия современного пятиборья» | AA77: Васильев Иван Михайлович | AC77: =IF(AB77="",AA77,CONCATENATE(AA77,", ",AB77)) -> Васильев Иван Михайлович
C78: 7лев | D78: М17 | E78: М | F78: Новиков Николай | H78: 2011 | I78: 1р | J78: УОР№2 | M78: 0.0043981481 | N78: 19.05.2026 | O78: 1092831 | Q78: 284 | Y78: 1 спортивный разряд | Z78: ГБПОУ «МССУОР № 2» Москомспорта | AA78: Семиволос Алексей Юрьевич | AC78: =IF(AB78="",AA78,CONCATENATE(AA78,", ",AB78)) -> Семиволос Алексей Юрьевич
C79: 7пр | D79: М17 | E79: М | F79: Румянцев Пётр | H79: 2010 | I79: 2р | J79: УОР№2 | M79: 0.0051979167 | N79: 15.01.2027 | O79: 670068 | P79: + | Y79: 2 спортивный разряд | Z79: ГБПОУ «МССУОР № 2» Москомспорта | AA79: Семиволос Алексей Юрьевич | AC79: =IF(AB79="",AA79,CONCATENATE(AA79,", ",AB79)) -> Семиволос Алексей Юрьевич
C80: 8лев | D80: М17 | E80: М | F80: Качко Артемий | H80: 2010 | I80: кмс | J80: УОР№2 | M80: 0.0046493056 | N80: 31.08.2026 | O80: 2185673 | Q80: 262 | Y80: Кандидат в мастера спорта | Z80: ГБПОУ «МССУОР № 2» Москомспорта | AA80: Мещерякова Валентина Николаевна | AC80: =IF(AB80="",AA80,CONCATENATE(AA80,", ",AB80)) -> Мещерякова Валентина Николаевна
C81: 8пр | AC81: =IF(AB81="",AA81,CONCATENATE(AA81,", ",AB81)) -> 0
A82: 14:20 17:15 | B82: Заплыв 6 Забег 6 | C82: 1лев | D82: М17 | E82: М | F82: Галиуллин Руслан | H82: 2009 | I82: кмс | J82: МАСП | M82: 0.0043981481 | N82: 11.03.2026 | O82: 997820 | Q82: 248 | Y82: Кандидат в мастера спорта | Z82: ГБУ ДО «Московская академия современного пятиборья» | AA82: Анисимова Нина Валентиновна | AC82: =IF(AB82="",AA82,CONCATENATE(AA82,", ",AB82)) -> Анисимова Нина Валентиновна
C83: 1пр | D83: М17в/к | E83: М | F83: Задаура Дмитрий | H83: 2011 | I83: 1р | J83: Нижегородская обл. | M83: 0.0041666667 | N83: 25.04.2026 Нновгород | P83: сам | AB83: #N/A | AC83: =IF(AB83="",AA83,CONCATENATE(AA83,", ",AB83)) -> #N/A
C84: 2лев | D84: М17 | E84: М | F84: Султанов Илья | H84: 2009 | I84: кмс | J84: УОР№2 | M84: 0.0041782407 | N84: 27.04.2026 | O84: 772879 | P84: + | Y84: Кандидат в мастера спорта | Z84: ГБПОУ «МССУОР № 2» Москомспорта | AA84: Пахомова Марина Сергеевна | AC84: =IF(AB84="",AA84,CONCATENATE(AA84,", ",AB84)) -> Пахомова Марина Сергеевна
C85: 2пр | D85: М17 | E85: М | F85: Тагаров Михаил | H85: 2009 | I85: кмс | J85: МАСП | M85: 0.0040740741 | N85: 15.08.2026 | O85: 961754 | Q85: 313 | Y85: Кандидат в мастера спорта | Z85: ГБУ ДО «Московская академия современного пятиборья» | AA85: Анисимова Нина Валентиновна | AC85: =IF(AB85="",AA85,CONCATENATE(AA85,", ",AB85)) -> Анисимова Нина Валентиновна
C86: 3лев | D86: М17 | E86: М | F86: Гришин Артём | H86: 2009 | I86: кмс | J86: МАСП | M86: 0.0041666667 | N86: 10.03.2026 | O86: 1038050 | Q86: 253 | Y86: Кандидат в мастера спорта | Z86: ГБУ ДО «Московская академия современного пятиборья» | AA86: Выборнов Сергей Сергеевич | AB86: Пушкин Дмитрий Сергеевич | AC86: =IF(AB86="",AA86,CONCATENATE(AA86,", ",AB86)) -> Выборнов Сергей Сергеевич, Пушкин Дмитрий Сергеевич
C87: 3пр | D87: М17 | E87: М | F87: Тишков Георгий | H87: 2009 | I87: кмс | J87: УОР№2 | M87: 0.0039930556 | N87: 12.01.2027 | O87: 862403 | P87: + | Y87: Кандидат в мастера спорта | Z87: ГБПОУ «МССУОР № 2» Москомспорта | AA87: Антошина Ирина Николаевна | AC87: =IF(AB87="",AA87,CONCATENATE(AA87,", ",AB87)) -> Антошина Ирина Николаевна
C88: 4лев | D88: М17 | E88: М | F88: Бутов Михаил | H88: 2010 | I88: кмс | J88: УОР№2 | M88: 0.00415625 | N88: 31.08.2026 | O88: 1940592 | Q88: 241 | Y88: Кандидат в мастера спорта | Z88: ГБПОУ «МССУОР № 2» Москомспорта | AA88: Мещерякова Валентина Николаевна | AC88: =IF(AB88="",AA88,CONCATENATE(AA88,", ",AB88)) -> Мещерякова Валентина Николаевна
C89: 4пр | D89: М17 | E89: М | F89: Мельничук Георгий | H89: 2009 | I89: кмс | J89: МАСП | M89: 0.0039351852 | N89: 26.03.2026 | O89: 981588 | Q89: 280 | Y89: Кандидат в мастера спорта | Z89: ГБУ ДО «Московская академия современного пятиборья» | AA89: Выборнов Сергей Сергеевич | AB89: Пушкин Дмитрий Сергеевич | AC89: =IF(AB89="",AA89,CONCATENATE(AA89,", ",AB89)) -> Выборнов Сергей Сергеевич, Пушкин Дмитрий Сергеевич
C90: 5лев | D90: М17 | E90: М | F90: Коротких Матвей | H90: 2009 | I90: кмс | J90: УОР№2 | M90: 0.0042025463 | N90: 21.03.2026 | O90: 1940595 | P90: + | Y90: Кандидат в мастера спорта | Z90: ГБПОУ «МССУОР № 2» Москомспорта | AA90: Мещерякова Валентина Николаевна | AC90: =IF(AB90="",AA90,CONCATENATE(AA90,", ",AB90)) -> Мещерякова Валентина Николаевна
C91: 5пр | D91: М17 | E91: М | F91: Арстамян Глеб | H91: 2010 | I91: кмс | J91: УОР№2 | M91: 0.0039583333 | N91: 24.09.2026 | O91: 1940591 | Q91: 233 | Y91: Кандидат в мастера спорта | Z91: ГБПОУ «МССУОР № 2» Москомспорта | AA91: Мещерякова Валентина Николаевна | AC91: =IF(AB91="",AA91,CONCATENATE(AA91,", ",AB91)) -> Мещерякова Валентина Николаевна
C92: 6лев | D92: М17 | E92: М | F92: Михайлов Никита | H92: 2009 | I92: кмс | J92: УОР№2 | M92: 0.004212963 | N92: 21.03.2026 | O92: 1940594 | Q92: 281 | Y92: Кандидат в мастера спорта | Z92: ГБПОУ «МССУОР № 2» Москомспорта | AA92: Мещерякова Валентина Николаевна | AC92: =IF(AB92="",AA92,CONCATENATE(AA92,", ",AB92)) -> Мещерякова Валентина Николаевна
C93: 6пр | D93: М17 | E93: М | F93: Кузин Василий | H93: 2009 | I93: кмс | J93: МАСП | M93: 0.0040509259 | N93: 17.06.2026 Рыбинск | O93: 2514158 | Q93: 274 | Y93: Кандидат в мастера спорта | Z93: ГБУ ДО «Московская академия современного пятиборья» | AA93: Выборнов Сергей Сергеевич | AB93: Пушкин Дмитрий Сергеевич | AC93: =IF(AB93="",AA93,CONCATENATE(AA93,", ",AB93)) -> Выборнов Сергей Сергеевич, Пушкин Дмитрий Сергеевич
C94: 7лев | D94: М17 | E94: М | F94: Добролюбов Игорь | H94: 2011 | I94: кмс | J94: УОР№2 | M94: 0.0041666667 | N94: 21.04.2026 | O94: 1285203 | Q94: 257 | Y94: Кандидат в мастера спорта | Z94: ГБПОУ «МССУОР № 2» Москомспорта | AA94: Мещерякова Валентина Николаевна | AC94: =IF(AB94="",AA94,CONCATENATE(AA94,", ",AB94)) -> Мещерякова Валентина Николаевна
C95: 7пр | D95: М17 | E95: М | F95: Аржаных Макар | H95: 2011 | I95: кмс | J95: МАСП | M95: 0.0042824074 | N95: 01.09.2026 | O95: 1558527 | Q95: 231 | Y95: Кандидат в мастера спорта | Z95: ГБУ ДО «Московская академия современного пятиборья» | AA95: Багазеев Александр Константинович | AC95: =IF(AB95="",AA95,CONCATENATE(AA95,", ",AB95)) -> Багазеев Александр Константинович
C96: 8лев | D96: М17 | E96: М | F96: Нехожин Дмитрий | H96: 2011 | I96: кмс | J96: УОР№2 | M96: 0.0041666667 | N96: 12.02.2027 | O96: 763297 | Q96: 283 | Y96: Кандидат в мастера спорта | Z96: ГБПОУ «МССУОР № 2» Москомспорта | AA96: Семиволос Алексей Юрьевич | AC96: =IF(AB96="",AA96,CONCATENATE(AA96,", ",AB96)) -> Семиволос Алексей Юрьевич
C97: 8пр | AC97: =IF(AB97="",AA97,CONCATENATE(AA97,", ",AB97)) -> 0
A98: 15:00 17:30 | B98: Заплыв 7 Забег 7 | D98: М19 | E98: М | F98: Лебедев Антон | H98: 2010 | I98: 2р | J98: МАСП | N98: 20.11.2026 | O98: 1749776 | Y98: 2 спортивный разряд | Z98: ГБУ ДО «Московская академия современного пятиборья» | AA98: Васильев Иван Михайлович | AC98: =IF(AB98="",AA98,CONCATENATE(AA98,", ",AB98)) -> Васильев Иван Михайлович
C99: 1пр | D99: Д19 | E99: Ж | F99: Аниканова Станислава | H99: 2009 | I99: 1р | J99: МАСП | M99: 0.011111111 | N99: 11.05.2026 | O99: 1340363 | P99: + | Y99: 1 спортивный разряд | Z99: ГБУ ДО «Московская академия современного пятиборья» | AA99: Васильев Иван Михайлович | AC99: =IF(AB99="",AA99,CONCATENATE(AA99,", ",AB99)) -> Васильев Иван Михайлович
C100: 2лев | D100: Д19 | E100: Ж | F100: Щербакова Екатерина | H100: 2009 | I100: 1р | J100: МАСП | M100: 0.010069444 | N100: 11.03.2026 | O100: 1370635 | P100: + | Y100: 1 спортивный разряд | Z100: ГБУ ДО «Московская академия современного пятиборья» | AA100: Анисимова Нина Валентиновна | AC100: =IF(AB100="",AA100,CONCATENATE(AA100,", ",AB100)) -> Анисимова Нина Валентиновна
...

Sheet доп.сб.Мос
A2: 1 | B2: Петровская Анастасия | C2: ГБОУ ДО МАСП | D2: 0.63125
A3: 2 | B3: Давыдова Екатерина | C3: ГБОУ ДО МАСП | D3: 0.69444444
A4: 3 | B4: Буханова Диана | C4: ГБОУ ДО МАСП | D4: 0.70208333
A5: 4 | B5: Рогожина Дарья | C5: МССУОР№2 | D5: 0.70763889
A6: 5 | B6: Петрова Полина | C6: ГБОУ ДО МАСП | D6: 0.72708333
A7: 6 | B7: Сомова Алиса | C7: ДЮСШ "АКВАТИКС" | D7: 0.73125
A8: 1 | B8: Ключарева Иоанна | C8: ГБОУ ДО МАСП | D8: 0.63819444
A9: 2 | B9: Титова Алина | C9: ГБОУ ДО МАСП | D9: 0.65416667
A10: 3 | B10: Длютрова Ульяна | C10: МССУОР№2 | D10: 0.65763889
A11: 4 | B11: Корюкалова Ева | C11: МССУОР№2 | D11: 0.67013889
A12: 5 | B12: Семенова Юлия | C12: ГБОУ ДО МАСП | D12: 0.67361111
A13: 6 | B13: Куфман Варвара | C13: ГБПОУ "МССУОР №2" | D13: 0.68055556
... A47: 6 | B47: Кисленко Богдан | C47: ГБОУ ДО МАСП | D47: 1.2201389
A48: РТС | B48: Хошин Марк | C48: МССУОР№2 | D48: РТС

Sheet старт
A1: Старт | B1: Заплыв | C1: Дорожка | D1: Группа | E1: Пол | F1: Спортсмен | G1: ГодРожд | H1: Квал. | I1: Команда | J1: Плав | K1: Бег | L1: Примечания | M1: Допуск | N1: ИАС | O1: Страховка_Школа | P1: ФТР | Q1: Паспорт | R1: Разряд | S1: СНИЛС | T1: Полис | U1: Допуск2 | V1: Страховка | W1: РУСАДА | X1: Разряд3 | Y1: Школа | Z1: Тренер1 | AA1: Тренер2
A2: 13:30 16:00 | B2: Заплыв 1 Забег 1 | C2: 1лев
C3: 1пр
C4: 2лев | D4: Д14 | E4: Ж | F4: Сомова Алиса | G4: 2013 | H4: 1р | I4: АКВАТИКС | L4: 0.0056944444 | M4: 46093 | N4: 1189795 | P4: 310 | X4: =INDEX(ИАС!P:P,MATCH(F4,ИАС!E:E,0)) -> 1 спортивный разряд | Y4: АНО «ДЮСШ «Акватикс» | Z4: Борисов Евгений Валерьевич | AA4: Самсонов Иван Александрович
C5: 2пр | D5: Д14 | E5: Ж | F5: Петрова Полина | G5: 2012 | H5: 1р | I5: МАСП | L5: 0.0051273148 | M5: 11.03.2026 | N5: 1038936 | O5: + | X5: =INDEX(ИАС!P:P,MATCH(F5,ИАС!E:E,0)) -> 1 спортивный разряд | Y5: ГБУ ДО «Московская академия современного пятиборья» | Z5: Васильев Иван Михайлович
C6: 3лев | D6: Д14 | E6: Ж | F6: Жевагина Виктория | G6: 2012 | H6: 2р | I6: УОР№2 | L6: 0.0052083333 | M6: 13.01.2027 | N6: 1647658 | O6: + | X6: =INDEX(ИАС!P:P,MATCH(F6,ИАС!E:E,0)) -> 2 спортивный разряд | Y6: ГБПОУ «МССУОР № 2» Москомспорта | Z6: Семиволос Алексей Юрьевич
C7: 3пр | D7: Д14 | E7: Ж | F7: Давыдова Екатерина | G7: 2012 | H7: кмс | I7: МАСП | L7: 0.0049768519 | M7: 01.02.2027 | N7: 1036688 | P7: 325 | X7: =INDEX(ИАС!P:P,MATCH(F7,ИАС!E:E,0)) -> Кандидат в мастера спорта | Y7: ГБУ ДО «Московская академия современного пятиборья» | Z7: Багазеев Александр Константинович
C8: 4лев | D8: Д14 | E8: Ж | F8: Буханова Диана | G8: 2013 | H8: 1ю | I8: МАСП | L8: 0.0043981481 | M8: 46251 | N8: 2634105 | R8: + | U8: + | X8: 1ю | Y8: ГБУ ДО «Московская академия современного пятиборья» | Z8: Васильев Иван Михайлович
C9: 4пр | D9: Д14 | E9: Ж | F9: Рогожина Дарья | G9: 2013 | H9: 1р | I9: УОР№2 | L9: 0.0047453704 | M9: 22.06.2026 | N9: 1190379 | P9: 299 | V9: + | X9: =INDEX(ИАС!P:P,MATCH(F9,ИАС!E:E,0)) -> 1 спортивный разряд | Y9: ГБПОУ «МССУОР № 2» Москомспорта | Z9: Пахомова Марина Сергеевна
C10: 5лев | D10: Д14 | E10: Ж | F10: Петровская Анастасия | G10: 2013 | H10: 1р | I10: МАСП | L10: 0.0052083333 | M10: 16.09.2026 | N10: 1382436 | P10: 328 | X10: =INDEX(ИАС!P:P,MATCH(F10,ИАС!E:E,0)) -> 1 спортивный разряд | Y10: ГБУ ДО «Московская академия современного пятиборья» | Z10: Васильев Иван Михайлович
C11: 5пр | D11: Д14 | E11: Ж | F11: Ланцова Мария | G11: 2013 | H11: 1р | I11: АКВАТИКС | L11: 0.0054398148 | M11: 46349 | N11: 1589588 | X11: =INDEX(ИАС!P:P,MATCH(F11,ИАС!E:E,0)) -> 1 спортивный разряд | Y11: АНО «ДЮСШ «Акватикс» | Z11: Борисов Евгений Валерьевич | AA11: Самсонов Иван Александрович
C12: 6лев | D12: Д14 | E12: Ж | F12: Жаринова Анна | G12: 2013 | H12: 2р | I12: УОР№2 | L12: 0.0059074074 | M12: 24.09.2026 | N12: 1530637 | O12: + | X12: =INDEX(ИАС!P:P,MATCH(F12,ИАС!E:E,0)) -> 2 спортивный разряд | Y12: ГБПОУ «МССУОР № 2» Москомспорта | Z12: Семиволос Алексей Юрьевич
C13: 6пр | D13: Д14 | E13: Ж | F13: Украинцева Софья | G13: 2013 | H13: 3р | I13: АКВАТИКС | M13: 46111 | N13: 1189858 | X13: =INDEX(ИАС!P:P,MATCH(F13,ИАС!E:E,0)) -> 3 спортивный разряд | Y13: АНО «ДЮСШ «Акватикс» | Z13: Трифанкин Степан Николаевич | AA13: Борисов Евгений Валерьевич
C14: 7лев
C15: 7пр
C16: 8лев
C17: 8пр
A18: 13:40 16:15 | B18: Заплыв 2 Забег 2 | C18: 1лев | D18: Д17 | E18: Ж | F18: Покрамович Мария | G18: 2010 | H18: кмс | I18: АКВАТИКС | L18: 0.0050115741 | M18: 46107 | N18: 748107 | P18: 290 | X18: =INDEX(ИАС!P:P,MATCH(F18,ИАС!E:E,0)) -> Кандидат в мастера спорта | Y18: АНО «ДЮСШ «Акватикс» | Z18: Кумин Егор Сергеевич | AA18: Борисов Евгений Валерьевич
C19: 1пр | D19: Д17 | E19: Ж | F19: Пронюк Анастасия | G19: 2010 | H19: кмс | I19: МАСП | L19: 0.0047106481 | M19: 01.09.2026 | N19: 1052090 | P19: 295 | X19: Кандидат в мастера спорта | Y19: ГБУ ДО «Московская академия современного пятиборья» | Z19: Анисимова Нина Валентиновна
C20: 2лев | D20: Д17 | E20: Ж | F20: Филина Анна | G20: 2011 | H20: кмс | I20: МАСП | L20: 0.0049768519 | M20: 03.04.2026 | N20: 1338522 | P20: 329 | X20: Кандидат в мастера спорта | Y20: ГБУ ДО «Московская академия современного пятиборья» | Z20: Васильев Иван Михайлович
C21: 2пр | D21: Д17 | E21: Ж | F21: Корюкалова Ева | G21: 2009 | H21: кмс | I21: УОР№2 | L21: 0.0046875 | M21: 11.08.2026 | N21: 2185734 | P21: 270 | V21: + | X21: Кандидат в мастера спорта | Y21: ГБПОУ «МССУОР № 2» Москомспорта | Z21: Антошина Ирина Николаевна
C22: 3лев | D22: Д17 | E22: Ж | F22: Силина Кира | G22: 2011 | H22: 1р | I22: УОР№2 | L22: 0.0047997685 | M22: 04.05.2026 | N22: 864523 | O22: + | X22: 1 спортивный разряд | Y22: ГБПОУ «МССУОР № 2» Москомспорта | Z22: Семиволос Алексей Юрьевич
C23: 3пр | D23: Д17 | E23: Ж | F23: Морданова Софья | G23: 2009 | H23: кмс | I23: МАСП | L23: 0.0046122685 | M23: 11.03.2026 | N23: 973691 | O23: + | X23: Кандидат в мастера спорта | Y23: ГБУ ДО «Московская академия современного пятиборья» | Z23: Анисимова Нина Валентиновна
C24: 4лев | D24: Д17 | E24: Ж | F24: Маркина Дарья | G24: 2011 | H24: 1р | I24: МАСП | L24: 0.0047569444 | M24: 20.03.2026 | N24: 1042904 | O24: + | X24: =INDEX(ИАС!P:P,MATCH(F24,ИАС!E:E,0)) -> 1 спортивный разряд | Y24: ГБУ ДО «Московская академия современного пятиборья» | Z24: Васильев Иван Михайлович
C25: 4пр | D25: Д17 | E25: Ж | F25: Семенова Юлия | G25: 2011 | H25: кмс | I25: МАСП | L25: 0.0044560185 | M25: 24.12.2026 | N25: 858889 | P25: 306 | X25: Кандидат в мастера спорта | Y25: ГБУ ДО «Московская академия современного пятиборья» | Z25: Багазеев Александр Константинович
C26: 5лев | D26: Д17 | E26: Ж | F26: Куфман Варвара | G26: 2010 | H26: кмс | I26: УОР№2 | L26: 0.0047453704 | M26: 31.08.2026 | N26: 1062040 | P26: 275 | X26: Кандидат в мастера спорта | Y26: ГБПОУ «МССУОР № 2» Москомспорта | Z26: Эсаулова Ольга Олеговна
C27: 5пр | D27: Д17 | E27: Ж | F27: Ключарёва Иоанна | G27: 2011 | H27: кмс | I27: МАСП | L27: 0.0043402778 | M27: 24.12.2026 | N27: 858872 | P27: 265 | X27: Кандидат в мастера спорта | Y27: ГБУ ДО «Московская академия современного пятиборья» | Z27: Багазеев Александр Константинович
C28: 6лев | D28: Д17 | E28: Ж | F28: Дащенко Элина | G28: 2010 | H28: кмс | I28: УОР№2 | L28: 0.0046296296 | M28: 10.09.2026 | N28: 1940590 | P28: 254 | X28: Кандидат в мастера спорта | Y28: ГБПОУ «МССУОР № 2» Москомспорта | Z28: Семиволос Алексей Юрьевич
C29: 6пр | D29: Д17 | E29: Ж | F29: Титова Алина | G29: 2011 | H29: кмс | I29: МАСП | L29: 0.0043981481 | M29: 01.09.2026 | N29: 932959 | P29: 315 | X29: Кандидат в мастера спорта | Y29: ГБУ ДО «Московская академия современного пятиборья» | Z29: Багазеев Александр Константинович
C30: 7лев | D30: Д17 | E30: Ж | F30: Длютрова Ульяна | G30: 2011 | H30: кмс | I30: УОР№2 | L30: 0.0048738426 | M30: 12.01.2027 | N30: 891722 | P30: 256 | V30: + | X30: Кандидат в мастера спорта | Y30: ГБПОУ «МССУОР № 2» Москомспорта | Z30: Антошина Ирина Николаевна
C31: 7пр | D31: Д17 | E31: Ж | F31: Зовская Софья | G31: 2009 | H31: кмс | I31: МАСП | L31: 0.0046875 | M31: 15.08.2026 | N31: 1186899 | P31: 259 | X31: Кандидат в мастера спорта | Y31: ГБУ ДО «Московская академия современного пятиборья» | Z31: Анисимова Нина Валентиновна
C32: 8лев | D32: Д17 | E32: Ж | F32: Лабанюк Анна | G32: 2010 | H32: 1р | I32: АКВАТИКС | L32: 0.0059421296 | M32: 46106 | N32: 1334876 | P32: 276 | X32: =INDEX(ИАС!P:P,MATCH(F32,ИАС!E:E,0)) -> 1 спортивный разряд | Y32: АНО «ДЮСШ «Акватикс» | Z32: Борисов Евгений Валерьевич | AA32: Самсонов Иван Александрович
C33: 8пр | D33: Д17 | E33: Ж | F33: Игошина Дарина | G33: 2010 | H33: 1р | I33: УОР№2 | L33: 0.0057025463 | M33: 11.12.2026 | N33: 2426494 | P33: 260 | V33: + | X33: =INDEX(ИАС!P:P,MATCH(F33,ИАС!E:E,0)) -> 1 спортивный разряд | Y33: ГБПОУ «МССУОР № 2» Москомспорта | Z33: Антошина Ирина Николаевна
A34: 13:50 16:30 | B34: Заплыв 3 Забег 3 | C34: 1лев
C35: 1пр
C36: 2лев | D36: М14 | E36: М | F36: Семенов Алексей | G36: 2012 | H36: 1ю | I36: РССО "МФТ"
C37: 2пр | D37: М14 | E37: М | F37: Косов Даниил | G37: 2013 | H37: 2р | I37: УОР№2 | L37: 0.0055555556 | M37: 25.09..2026 Щелково | N37: 2248867 | O37: + | X37: 2 спортивный разряд | Y37: ГБПОУ «МССУОР № 2» Москомспорта | Z37: Никульшин Александр Викторович
C38: 3лев | D38: М14 | E38: М | F38: Петров Артемий | G38: 2013 | H38: 2р | I38: УОР№2 | L38: 0.0053599537 | M38: 29.05.2026 | N38: 1208477 | X38: 2 спортивный разряд | Y38: ГБПОУ «МССУОР № 2» Москомспорта | Z38: Семиволос Алексей Юрьевич
C39: 3пр | D39: М14 | E39: М | F39: Лукьянов Артем | G39: 2013 | H39: 1ю | I39: АКВАТИКС | L39: 0.0056712963 | N39: 1397120 | X39: б/р | Y39: АНО «ДЮСШ «Акватикс» | Z39: Трифанкин Степан Николаевич | AA39: Борисов Евгений Валерьевич
C40: 4лев | D40: М14 | E40: М | F40: Воловик Степан | G40: 2012 | H40: 1р | I40: МАСП | L40: 0.0050810185 | M40: 18.06.2026 | N40: 1702539 | O40: + | X40: 1 спортивный разряд | Y40: ГБУ ДО «Московская академия современного пятиборья» | Z40: Багазеев Александр Константинович
C41: 4пр | D41: М14 | E41: М | F41: Капранов Филипп | G41: 2012 | H41: 2р | I41: АКВАТИКС | L41: 0.0054398148 | M41: 46433 | N41: 2364841 | O41: + | Q41: + | U41: + | V41: + | X41: 2 спортивный разряд | Y41: АНО «ДЮСШ «Акватикс» | Z41: Кумин Егор Сергеевич | AA41: Кулик Евгений Юрьевич
C42: 5лев | D42: М14 | E42: М | F42: Комлик Тимофей | G42: 2012 | H42: 2р | I42: УОР№2 | L42: 0.0050347222 | M42: 13.11.2026 | N42: 1006561 | O42: + | X42: 2 спортивный разряд | Y42: ГБПОУ «МССУОР № 2» Москомспорта | Z42: Пахомова Марина Сергеевна
C43: 5пр | D43: М14 | E43: М | F43: Дюжий Михаил | G43: 2012 | H43: 3р | I43: АКВАТИКС | L43: 0.0054398148 | M43: 46311 | N43: 1190110 | X43: 3 спортивный разряд | Y43: АНО «ДЮСШ «Акватикс»
C44: 6лев | D44: М14 | E44: М | F44: Марчишин Макар | G44: 2012 | H44: 2р | I44: УОР№2 | L44: 0.0050925926 | M44: 12.01.2027 | N44: 1647653 | O44: + | X44: 2 спортивный разряд | Y44: ГБПОУ «МССУОР № 2» Москомспорта | Z44: Семиволос Алексей Юрьевич
C45: 6пр | D45: М14 | E45: М | F45: Шевяков Артем | G45: 2012 | H45: 1р | I45: АКВАТИКС | L45: 0.0053819444 | M45: 46379 | N45: 1190073 | P45: 322 | V45: + | X45: 1 спортивный разряд | Y45: АНО «ДЮСШ «Акватикс» | Z45: Трифанкин Степан Николаевич | AA45: Борисов Евгений Валерьевич
C46: 7лев | D46: М14 | E46: М | F46: Зволинский Владислав | G46: 2013 | H46: 2р | I46: АКВАТИКС | L46: 0.0056712963 | M46: 46164 | N46: 1299110 | X46: 2 спортивный разряд | Y46: АНО «ДЮСШ «Акватикс» | Z46: Трифанкин Степан Николаевич | AA46: Борисов Евгений Валерьевич
C47: 7пр | D47: М14 | E47: М | F47: Минажетдинов Руслан | G47: 2012 | H47: 3р | I47: МАСП | L47: 0.006099537 | M47: 14.10.2026 | N47: 1405497 | O47: + | X47: 3 спортивный разряд | Y47: ГБУ ДО «Московская академия современного пятиборья» | Z47: Васильев Иван Михайлович
C48: 8лев
C49: 8пр
A50: 14:00 16:45 | B50: Заплыв 4 Забег 4 | C50: 1лев
C51: 1пр | D51: М14 | E51: М | F51: Красников Лев | G51: 2012 | H51: 1р | I51: АКВАТИКС | L51: 0.0049189815 | M51: 46308 | N51: 1595482 | O51: + | X51: 1 спортивный разряд | Y51: АНО «ДЮСШ «Акватикс» | Z51: Кумин Егор Сергеевич | AA51: Кулик Евгений Юрьевич
C52: 2лев | D52: М14 | E52: М | F52: Горохов Евгений | G52: 2013 | H52: 1р | I52: УОР№2 | L52: 0.0048611111 | M52: 02.10.2026 | N52: 1595480 | P52: 252 | V52: + | X52: 1 спортивный разряд | Y52: ГБПОУ «МССУОР № 2» Москомспорта | Z52: Никульшин Александр Викторович
C53: 2пр | D53: М14 | E53: М | F53: Ершов Антон | G53: 2012 | H53: 1р | I53: МАСП | L53: 0.0043981481 | M53: 04.05.2026 | N53: 1036724 | O53: + | X53: 1 спортивный разряд | Y53: ГБУ ДО «Московская академия современного пятиборья» | Z53: Багазеев Александр Константинович
C54: 3лев | D54: М14 | E54: М | F54: Рогожин Дмитрий | G54: 2013 | H54: 1р | I54: УОР№2 | L54: 0.0047106481 | M54: 22.06.2026 | N54: 1930304 | P54: 298 | V54: + | X54: 1 спортивный разряд | Y54: ГБПОУ «МССУОР № 2» Москомспорта | Z54: Пахомова Марина Сергеевна
C55: 3пр | D55: М14 | E55: М | F55: Бобков Игорь | G55: 2013 | H55: 1р | I55: МАСП | L55: 0.0042824074 | M55: 09.03.2026 | N55: 1108796 | P55: 238 | X55: 1 спортивный разряд | Y55: ГБУ ДО «Московская академия современного пятиборья» | Z55: Багазеев Александр Константинович
C56: 4лев | D56: М14 | E56: М | F56: Диденко Александр | G56: 2012 | H56: 1р | I56: МАСП | L56: 0.0044560185 | M56: 12.02.2027 | N56: 1036675 | O56: + | X56: 1 спортивный разряд | Y56: ГБУ ДО «Московская академия современного пятиборья» | Z56: Багазеев Александр Константинович
C57: 4пр | D57: М14 | E57: М | F57: Медведев Антон | G57: 2012 | H57: 1р | I57: УОР№2 | L57: 0.0040509259 | M57: 12.03.2026 | N57: 740981 | P57: 279 | X57: 1 спортивный разряд | Y57: ГБПОУ «МССУОР № 2» Москомспорта | Z57: Эсаулова Ольга Олеговна
C58: 5лев | D58: М14 | E58: М | F58: Кухарев Даниил | G58: 2013 | H58: 2р | I58: УОР№2 | L58: 0.0045949074 | M58: 03.03.2026 | N58: 1688492 | O58: + | X58: 2 спортивный разряд | Y58: ГБПОУ «МССУОР № 2» Москомспорта | Z58: Пахомова Марина Сергеевна
C59: 5пр | D59: М14 | E59: М | F59: Акиньшин Платон | G59: 2012 | H59: кмс | I59: МАСП | L59: 0.0041666667 | M59: 23.04.2026 | N59: 1036722 | P59: 226 | X59: Кандидат в мастера спорта | Y59: ГБУ ДО «Московская академия современного пятиборья» | Z59: Багазеев Александр Константинович
C60: 6лев | D60: М14 | E60: М | F60: Литвинов Марк | G60: 2012 | H60: 1р | I60: АКВАТИКС | L60: 0.0046296296 | M60: 46311 | N60: 957614 | O60: + | X60: 1 спортивный разряд | Y60: АНО «ДЮСШ «Акватикс» | Z60: Кумин Егор Сергеевич | AA60: Кулик Евгений Юрьевич
C61: 6пр | D61: М14 | E61: М | F61: Харин Тимур | G61: 2013 | H61: 1р | I61: МАСП | L61: 0.0042824074 | M61: 02.02.2027 | N61: 2388476 | P61: 319 | X61: 1 спортивный разряд | Y61: ГБУ ДО «Московская академия современного пятиборья» | Z61: Васильев Иван Михайлович
C62: 7лев | D62: М14 | E62: М | F62: Литвинов Дмитрий | G62: 2012 | H62: 1р | I62: АКВАТИКС | L62: 0.0049189815 | M62: 46311 | N62: 957613 | O62: + | X62: 1 спортивный разряд | Y62: АНО «ДЮСШ «Акватикс» | Z62: Кумин Егор Сергеевич | AA62: Кулик Евгений Юрьевич
C63: 7пр | D63: М14 | E63: М | F63: Дёмин Максим | G63: 2013 | H63: 2р | I63: МФТ | L63: 0.0048032407 | M63: 31.08.2026, плав | N63: 1729722 | O63: сам | U63: + | X63: 2 спортивный разряд | Y63: РСОО «Федерация триатлона города Москвы» | Z63: Семиволос Алексей Юрьевич
C64: 8лев
C65: 8пр
A66: 14:10 17:00 | B66: Заплыв 5 Забег 5 | C66: 1лев | D66: М17 | E66: М | F66: Иванов Фёдор | G66: 2010 | H66: 2р | I66: УОР№2 | L66: 0.0061041667 | M66: 09.10.2026 | N66: 770455 | X66: 2 спортивный разряд | Y66: ГБПОУ «МССУОР № 2» Москомспорта | Z66: Семиволос Алексей Юрьевич
C67: 1пр | D67: М17 | E67: М | F67: Волков Артём | G67: 2011 | H67: 2р | I67: УОР№2 | L67: 0.0055844907 | M67: 09.10.2026 | N67: 2548588 | O67: сам | X67: 2 спортивный разряд | Y67: ГБПОУ «МССУОР № 2» Москомспорта | Z67: Семиволос Алексей Юрьевич
C68: 2лев | D68: М17 | E68: М | F68: Грицков Даниил | G68: 2011 | H68: 2р | I68: УОР№2 | L68: 0.0059768519 | M68: 04.02.2027 | N68: 2557387 | X68: 2 спортивный разряд | Y68: ГБПОУ «МССУОР № 2» Москомспорта | Z68: Семиволос Алексей Юрьевич
C69: 2пр | D69: М17 | E69: М | F69: Масленников Михаил | G69: 2011 | H69: 2р | I69: МФТ | L69: 0.0053472222 | M69: 05.06.2025 плав | N69: 1042929 | X69: 2 спортивный разряд | Y69: РСОО «Федерация триатлона города Москвы» | Z69: Васильев Иван Михайлович
C70: 3лев | D70: М17 | E70: М | F70: Стемасов Богдан | G70: 2011 | H70: 2р | I70: УОР№2 | L70: 0.0046296296 | M70: 20.03.2026 | N70: 1850755 | O70: + | X70: 2 спортивный разряд | Y70: ГБПОУ «МССУОР № 2» Москомспорта | Z70: Семиволос Алексей Юрьевич
C71: 3пр | D71: М17 | E71: М | F71: Овсянников Сергей | G71: 2009 | H71: 1р | I71: УОР№2 | L71: 0.0048611111 | N71: 1411652 | O71: + | Q71: + | R71: + | T71: + | X71: 1 спортивный разряд | Y71: ГБПОУ «МССУОР № 2» Москомспорта | Z71: Пахомова Марина Сергеевна
C72: 4лев | D72: М17в/к | E72: М | F72: Щипачев Дмитрий | G72: 2011 | H72: 2р | I72: Свердл.обл., лично | L72: 0.0045486111 | M72: 19.12.2026 Екатеринбург | X72: #N/A | Y72: #N/A | Z72: #N/A | AA72: #N/A
C73: 4пр | D73: М17 | E73: М | F73: Жаров Елисей | G73: 2009 | H73: кмс | I73: УОР№2 | L73: 0.0048611111 | M73: 12.03.2026 | N73: 963108 | O73: + | Q73: + | R73: + | S73: + | T73: + | X73: Кандидат в мастера спорта | Y73: ГБПОУ «МССУОР № 2» Москомспорта | Z73: Пахомова Марина Сергеевна
C74: 5лев | D74: М17 | E74: М | F74: Московский Александр | G74: 2009 | H74: кмс | I74: УОР№2 | L74: 0.0045138889 | M74: 14.01.2027 | N74: 1026739 | P74: 282 | Q74: + | T74: + | V74: + | X74: Кандидат в мастера спорта | Y74: ГБПОУ «МССУОР № 2» Москомспорта | Z74: Никульшин Александр Викторович
C75: 5пр | D75: М17 | E75: М | F75: Ващенко Марк | G75: 2011 | H75: кмс | I75: АКВАТИКС | L75: 0.0047453704 | N75: 1061652 | P75: 244 | Q75: + | S75: + | T75: + | V75: + | W75: + | X75: Кандидат в мастера спорта | Y75: АНО «ДЮСШ «Акватикс» | Z75: Борисов Евгений Валерьевич | AA75: Самсонов Иван Александрович
C76: 6лев | D76: М17 | E76: М | F76: Пушкин Сергей | G76: 2011 | H76: 1р | I76: МАСП | L76: 0.0044560185 | M76: 24.03.2026 | N76: 858918 | P76: 297 | X76: 1 спортивный разряд | Y76: ГБУ ДО «Московская академия современного пятиборья» | Z76: Багазеев Александр Константинович
C77: 6пр | D77: М17 | E77: М | F77: Маргарян Артур | G77: 2010 | H77: кмс | I77: МАСП | L77: 0.0050115741 | M77: 20.03.2026 | N77: 1163205 | P77: 326 | X77: Кандидат в мастера спорта | Y77: ГБУ ДО «Московская академия современного пятиборья» | Z77: Васильев Иван Михайлович
C78: 7лев | D78: М17 | E78: М | F78: Новиков Николай | G78: 2011 | H78: 1р | I78: УОР№2 | L78: 0.0043981481 | M78: 19.05.2026 | N78: 1092831 | P78: 284 | X78: 1 спортивный разряд | Y78: ГБПОУ «МССУОР № 2» Москомспорта | Z78: Семиволос Алексей Юрьевич
C79: 7пр | D79: М17 | E79: М | F79: Румянцев Пётр | G79: 2010 | H79: 2р | I79: УОР№2 | L79: 0.0051979167 | M79: 15.01.2027 | N79: 670068 | O79: + | X79: 2 спортивный разряд | Y79: ГБПОУ «МССУОР № 2» Москомспорта | Z79: Семиволос Алексей Юрьевич
C80: 8лев | D80: М17 | E80: М | F80: Качко Артемий | G80: 2010 | H80: кмс | I80: УОР№2 | L80: 0.0046493056 | M80: 31.08.2026 | N80: 2185673 | P80: 262 | X80: Кандидат в мастера спорта | Y80: ГБПОУ «МССУОР № 2» Москомспорта | Z80: Мещерякова Валентина Николаевна
C81: 8пр
A82: 14:20 17:15 | B82: Заплыв 6 Забег 6 | C82: 1лев | D82: М17 | E82: М | F82: Галиуллин Руслан | G82: 2009 | H82: кмс | I82: МАСП | L82: 0.0043981481 | M82: 11.03.2026 | N82: 997820 | P82: 248 | X82: Кандидат в мастера спорта | Y82: ГБУ ДО «Московская академия современного пятиборья» | Z82: Анисимова Нина Валентиновна
C83: 1пр | D83: М17в/к | E83: М | F83: Задаура Дмитрий | G83: 2011 | H83: 1р | I83: Нижегор.обл., лично | L83: 0.0041666667 | M83: 25.04.2026 Нновгород | O83: сам | AA83: #N/A
C84: 2лев | D84: М17 | E84: М | F84: Султанов Илья | G84: 2009 | H84: кмс | I84: УОР№2 | L84: 0.0041782407 | M84: 27.04.2026 | N84: 772879 | O84: + | X84: Кандидат в мастера спорта | Y84: ГБПОУ «МССУОР № 2» Москомспорта | Z84: Пахомова Марина Сергеевна
C85: 2пр | D85: М17 | E85: М | F85: Тагаров Михаил | G85: 2009 | H85: кмс | I85: МАСП | L85: 0.0040740741 | M85: 15.08.2026 | N85: 961754 | P85: 313 | X85: Кандидат в мастера спорта | Y85: ГБУ ДО «Московская академия современного пятиборья» | Z85: Анисимова Нина Валентиновна
C86: 3лев | D86: М17 | E86: М | F86: Гришин Артём | G86: 2009 | H86: кмс | I86: МАСП | L86: 0.0041666667 | M86: 10.03.2026 | N86: 1038050 | P86: 253 | X86: Кандидат в мастера спорта | Y86: ГБУ ДО «Московская академия современного пятиборья» | Z86: Выборнов Сергей Сергеевич | AA86: Пушкин Дмитрий Сергеевич
C87: 3пр | D87: М17 | E87: М | F87: Тишков Георгий | G87: 2009 | H87: кмс | I87: УОР№2 | L87: 0.0039930556 | M87: 12.01.2027 | N87: 862403 | O87: + | X87: Кандидат в мастера спорта | Y87: ГБПОУ «МССУОР № 2» Москомспорта | Z87: Антошина Ирина Николаевна
C88: 4лев | D88: М17 | E88: М | F88: Бутов Михаил | G88: 2010 | H88: кмс | I88: УОР№2 | L88: 0.00415625 | M88: 31.08.2026 | N88: 1940592 | P88: 241 | X88: Кандидат в мастера спорта | Y88: ГБПОУ «МССУОР № 2» Москомспорта | Z88: Мещерякова Валентина Николаевна
C89: 4пр | D89: М17 | E89: М | F89: Мельничук Георгий | G89: 2009 | H89: кмс | I89: МАСП | L89: 0.0039351852 | M89: 26.03.2026 | N89: 981588 | P89: 280 | X89: Кандидат в мастера спорта | Y89: ГБУ ДО «Московская академия современного пятиборья» | Z89: Выборнов Сергей Сергеевич | AA89: Пушкин Дмитрий Сергеевич
C90: 5лев | D90: М17 | E90: М | F90: Коротких Матвей | G90: 2009 | H90: кмс | I90: УОР№2 | L90: 0.0042025463 | M90: 21.03.2026 | N90: 1940595 | O90: + | X90: Кандидат в мастера спорта | Y90: ГБПОУ «МССУОР № 2» Москомспорта | Z90: Мещерякова Валентина Николаевна
C91: 5пр | D91: М17 | E91: М | F91: Арстамян Глеб | G91: 2010 | H91: кмс | I91: УОР№2 | L91: 0.0039583333 | M91: 24.09.2026 | N91: 1940591 | P91: 233 | X91: Кандидат в мастера спорта | Y91: ГБПОУ «МССУОР № 2» Москомспорта | Z91: Мещерякова Валентина Николаевна
C92: 6лев | D92: М17 | E92: М | F92: Михайлов Никита | G92: 2009 | H92: кмс | I92: УОР№2 | L92: 0.004212963 | M92: 21.03.2026 | N92: 1940594 | P92: 281 | X92: Кандидат в мастера спорта | Y92: ГБПОУ «МССУОР № 2» Москомспорта | Z92: Мещерякова Валентина Николаевна
C93: 6пр | D93: М17 | E93: М | F93: Кузин Василий | G93: 2009 | H93: кмс | I93: МАСП | L93: 0.0040509259 | M93: 17.06.2026 Рыбинск | N93: 2514158 | P93: 274 | X93: Кандидат в мастера спорта | Y93: ГБУ ДО «Московская академия современного пятиборья» | Z93: Выборнов Сергей Сергеевич | AA93: Пушкин Дмитрий Сергеевич
C94: 7лев | D94: М17 | E94: М | F94: Добролюбов Игорь | G94: 2011 | H94: кмс | I94: УОР№2 | L94: 0.0041666667 | M94: 21.04.2026 | N94: 1285203 | P94: 257 | X94: Кандидат в мастера спорта | Y94: ГБПОУ «МССУОР № 2» Москомспорта | Z94: Мещерякова Валентина Николаевна
C95: 7пр | D95: М17 | E95: М | F95: Аржаных Макар | G95: 2011 | H95: кмс | I95: МАСП | L95: 0.0042824074 | M95: 01.09.2026 | N95: 1558527 | P95: 231 | X95: Кандидат в мастера спорта | Y95: ГБУ ДО «Московская академия современного пятиборья» | Z95: Багазеев Александр Константинович
C96: 8лев | D96: М17 | E96: М | F96: Нехожин Дмитрий | G96: 2011 | H96: кмс | I96: УОР№2 | L96: 0.0041666667 | M96: 12.02.2027 | N96: 763297 | P96: 283 | X96: Кандидат в мастера спорта | Y96: ГБПОУ «МССУОР № 2» Москомспорта | Z96: Семиволос Алексей Юрьевич
C97: 8пр
A98: 14:50 18:00 | B98: Заплыв 7 Забег 7 | C98: 1лев | D98: Д23в/к | E98: Ж | F98: Кузовкова Милана | G98: 2005 | H98: 1р | I98: Мос.обл., лично
C99: 1пр | D99: Д19 | E99: Ж | F99: Аниканова Станислава | G99: 2009 | H99: 1р | I99: МАСП | L99: 0.011111111 | M99: 11.05.2026 | N99: 1340363 | O99: + | X99: 1 спортивный разряд | Y99: ГБУ ДО «Московская академия современного пятиборья» | Z99: Васильев Иван Михайлович
C100: 2лев | D100: Д19 | E100: Ж | F100: Щербакова Екатерина | G100: 2009 | H100: 1р | I100: МАСП | L100: 0.010069444 | M100: 11.03.2026 | N100: 1370635 | O100: + | X100: 1 спортивный разряд | Y100: ГБУ ДО «Московская академия современного пятиборья» | Z100: Анисимова Нина Валентиновна
...

Sheet приход
A3: П/п
A4: Имя
A5: Команда
A6: Старт
A7: SWIM
A8: RUN
A9: FINISH
A10: Результат
A11: 1
A12: Буханова Диана №1
A13: 2
A14: Петровская Анастасия №9
A15: 3
A16: Рогожина Дарья №10
A17: 4
A18: Петрова Полина №8
A19: 5
A20: Давыдова Екатерина №3
A21: 6
A22: Жевагина Виктория №5
A23: 7
A24: Сомова Алиса №12
A25: 8
A26: Ланцова Мария №7
A27: 9
A28: Жаринова Анна №4
A29: 10
A30: Украинцева Софья №13
A31: П/п
A32: Имя
A33: П/п | B33: Команда | C33: Старт | D33: SWIM | F33: RUN | G33: FINISH | H33: Результат
A34: Имя
A35: 1 | B35: ГБОУ ДО МАСП | C35: 0.54166667 | D35: 0.0045023148 | F35: 0.0072005787
A36: Буханова Диана №1 | D36: +0:00
A37: 2 | B37: ГБОУ ДО МАСП | C37: 0.54166667 | D37: 0.0048032407 | F37: 0.0057226852
A38: Петровская Анастасия №9 | D38: +0:26
A39: 3 | B39: МССУОР№2 | C39: 0.54166667 | D39: 0.0049768519 | F39: 0.0068171296
A40: Рогожина Дарья №10 | D40: +0:41
A41: 4 | B41: ГБОУ ДО МАСП | C41: 0.54166667 | D41: 0.0050231481 | F41: 0.007090162
A42: Петрова Полина №8 | D42: +0:45
A43: 5 | B43: ГБОУ ДО МАСП | C43: 0.54166667 | D43: 0.0051157407 | F43: 0.0064622685
A44: Давыдова Екатерина №3 | D44: +0:53
A45: 6 | B45: МССУОР№2 | C45: 0.54166667 | D45: 0.0052430556 | F45: 0.0072555556
A46: Жевагина Виктория №5 | D46: +1:04
A47: 7 | B47: ДЮСШ "АКВАТИКС" | C47: 0.54166667 | D47: 0.0052546296 | F47: 0.0069357639
A48: Сомова Алиса №12 | D48: +1:05
A49: 8 | B49: Акватикс | C49: 0.54166667 | D49: 0.0056365741 | F49: 0.0069560185
A50: Ланцова Мария №7 | D50: +1:38
A51: 9 | B51: МССУОР№2 | C51: 0.54166667 | D51: 0.0056597222 | F51: 0.0073611111
A52: Жаринова Анна №4 | D52: +1:40
A53: 10 | B53: Акватикс | C53: 0.54166667 | D53: 0.0057986111 | F53: 0.0077048611
A54: Украинцева Софья №13 | D54: +1:52
A58: Имя
A59: П/п | B59: Команда | C59: SWIM | D59: RUN | E59: FINISH | F59: Результат
A60: Имя
A61: 1 | B61: ГБОУ ДО МАСП | C61: 0.0045486111 | D61: 0.0060934028 | E61: =D61+C61 -> 0.010642014
A62: Ключарева Иоанна №1341 | C62: +0:00
A63: 2 | B63: ГБОУ ДО МАСП | C63: 0.0046180556 | D63: 0.0062921296 | E63: =D63+C63 -> 0.010910185
A64: Титова Алина №1291 | C64: +0:06
A65: 3 | B65: МССУОР№2 | C65: 0.0046527778 | D65: 0.0069266204 | E65: =D65+C65 -> 0.011579398
A66: Дащенко Элина №1371 | C66: +0:09
A67: 4 | B67: ГБОУ ДО "МАСП" | C67: 0.0046527778 | D67: 0.0078769676 | E67: =D67+C67 -> 0.012529745
A68: Морданова Софья №1311 | C68: +0:09
A69: 5 | B69: МССУОР№2 | C69: 0.0046643519 | D69: 0.0063018519 | E69: =D69+C69 -> 0.010966204
A70: Длютрова Ульяна №1391 | C70: +0:10
A71: 6 | B71: МССУОР№2 | C71: 0.0046643519 | D71: 0.008334838 | E71: =D71+C71 -> 0.01299919
A72: Силина Кира №1361 | C72: +0:10
A73: 7 | B73: ГБОУ ДО МАСП | C73: 0.0047222222 | D73: 0.0065119213 | E73: =D73+C73 -> 0.011234144
A74: Семенова Юлия №1281 | C74: +0:15
A75: 8 | B75: ГБОУ ДО МАСП | C75: 6:49 | E75: =D75+C75 -> #VALUE!
A76: Маркина Дарья №22 | C76: +0:16
A77: 9 | B77: ГБОУ ДО "МАСП" | C77: 0.0047337963 | D77: 0.0069244213 | E77: =D77+C77 -> 0.011658218
A78: Пронюк Анастасия №1321 | C78: +0:16
A79: 10 | B79: ГБОУ ДО "МАСП" | C79: 6:52 | E79: =D79+C79 -> #VALUE!
A80: Зовская Софья №16 | C80: +0:19
A81: 11 | B81: ГБПОУ "МССУОР №2" | C81: 0.0047916667 | D81: 0.0065542824 | E81: =D81+C81 -> 0.011345949
A82: Куфман Варвара №1401 | C82: +0:21
A83: 12 | B83: МССУОР№2 | C83: 0.0049768519 | D83: 0.0061921296 | E83: =D83+C83 -> 0.011168981
A84: Корюкалова Ева №1331 | C84: +0:37
A85: 13 | B85: ГБОУ ДО МАСП | C85: 0.0050347222 | D85: 0.0067743056 | E85: =D85+C85 -> 0.011809028
A86: Филина Анна №1301 | C86: +0:42
A87: 14 | B87: МССУОР№2 | C87: 0.0054398148 | D87: 0.0066140046 | E87: =D87+C87 -> 0.012053819
A88: Игошина Дарина №1351 | C88: +1:17
A89: 15 | B89: ДЮСШ "АКВАТИКС" | C89: 0.0055092593 | D89: 0.00709375 | E89: =D89+C89 -> 0.012603009
A90: Лабанюк Анна №1381 | C90: +1:23
A95: П/п | B95: Команда | C95: SWIM | D95: RUN | E95: FINISH | F95: Результат
A96: Имя
A97: 1 | B97: ГБПОУ "МССУОР №2" | C97: 0.0040740741 | D97: 0.0056076389 | E97: =D97+C97 -> 0.009681713
A98: Медведев Антон №69 | C98: +0:00
A99: 2 | B99: ГБОУ ДО МАСП | C99: 0.0041550926 | D99: 0.005669213 | E99: =D99+C99 -> 0.0098243056
A100: Акиньшин Платон №51 | C100: +0:07
A101: 3 | B101: ГБОУ ДО МАСП | C101: 0.0043287037 | D101: 0.0058719907 | E101: =D101+C101 -> 0.010200694
A102: Харин Тимур №77 | C102: +0:22
A103: 4 | B103: ГБОУ ДО МАСП | C103: 0.0043402778 | D103: 0.0056888889 | E103: =D103+C103 -> 0.010029167
A104: Бобков Игорь №52 | C104: +0:23
A105: 5 | B105: ГБОУ ДО МАСП | C105: 0.0044791667 | D105: 0.0066930556 | E105: =D105+C105 -> 0.011172222
A106: Диденко Александр №55 | C106: +0:35
A107: 6 | B107: МССУОР№2 | C107: 0.0045949074 | D107: 0.0067666667 | E107: =D107+C107 -> 0.011361574
A108: Кухарев Даниил №64 | C108: +0:45
A109: 7 | B109: МССУОР№2 | C109: 0.0046643519 | D109: 0.006037037 | E109: =D109+C109 -> 0.010701389
...

Sheet ТАЙМИНГ
B3: ПЕРВЕНСТВО МОСКВЫ 1 марта 2026 г.
B4: 0.45833333 | C4: Комиссия по допуску (ХОЛЛ У ГАРДЕРОБА)
B5: 0.53125 | C5: Бассейн. Проход в бассейн
B6: БАССЕЙН | E6: Л/А МАНЕЖ (УСЗ) 4й этаж
B7: 13:00-13:25 | C7: Разминка ЮД 13-17 | E7: 15:00-15:45 | F7: Разминка ЮД 13-17
B8: 0.5625 | C8: Заплыв 1 | D8: Д14 10 чел | E8: 0.66666667 | F8: Забег 1 | G8: Д14 10 чел
B9: 0.56944444 | C9: Заплыв 2 | D9: Д17 16 чел | E9: 0.67708333 | F9: Забег 2 | G9: Д17 16 чел
B10: 0.57638889 | C10: Заплыв 3 | D10: М14 12 чел | E10: 0.6875 | F10: Забег 3 | G10: М14 12 чел
B11: 0.58333333 | C11: Заплыв 4 | D11: М14 13 чел | E11: 0.69791667 | F11: Забег 4 | G11: М14 13 чел
B12: 0.59027778 | C12: Заплыв 5 | D12: М17 15 чел | E12: 0.70833333 | F12: Забег 5 | G12: М17 15 чел
B13: 0.59722222 | C13: Заплыв 6 | D13: М17 15 чел | E13: 0.71875 | F13: Забег 6 | G13: М17 15 чел
B14: 0.60416667 | C14: Разминка Ю и Д 16-23 | E14: 0.73958333 | F14: НАГРАЖДЕНИЕ МД 13-17
B15: 0.61805556 | C15: Заплыв 7 | D15: Д19 10чел | E15: 0.75 | F15: Забег 7 | G15: Д19 10чел
D16: Д23 5чел | G16: Д23 5чел
B17: 0.62847222 | C17: Заплыв 8 | D17: М19 16 чел | E17: 0.76736111 | F17: Забег 8 | G17: М19 18 чел
B18: 0.63888889 | C18: Заплыв 9 | D18: М19 2чел | E18: 0.78125 | F18: Забег 9 | G18: М23 11чел
D19: М23 11чел
B20: ПЕРЕХОД в МАНЕЖ РАЗМИНКА | E20: 0.80555556 | F20: НАГРАЖДЕНИЕ МД 16-23
E21: ОКОНЧАНИЕ СОРЕВНОВАНИЙ

Sheet Лист3

Sheet Лист2
A1: № | B1: ID организации | C1: Название организации | D1: Реестр | E1: ФИО спортсмена | F1: Дата рождения | G1: Паспортные данные / данные свидетельства о рождении | H1: СНИЛС | I1: Адрес места жительства | J1: Тел. Email | K1: Вид спорта | L1: Этап | M1: Дата начала занятий по Приказу | N1: НС | O1: ДМС | P1: Отчислен | Q1: Планируемая дата отчисления
A2: 1 | B2: 207045 | C2: ГБПОУ «МССУОР № 2» Москомспорта | D2: 1632060 | E2: Безбородов Дмитрий Алексеевич | F2: 08.07.2010 | G2: 4524 341369, ГУ МВД РОССИИ ПО Г. МОСКВЕ, выдан 29.07.2024 | H2: 183-590-985 15 | I2: г. Москва, ул. Фестивальная, дом 57, 207 | J2: +7 (905) 7914447 petrushol@mail.ru | K2: Тяжелая атлетика | L2: ТЭ4 | M2: 01.01.2026 | N2: включить | O2: не включать
A3: 2 | B3: 207045 | C3: ГБПОУ «МССУОР № 2» Москомспорта | D3: 153949 | E3: Войнова Анастасия Сергеевна | F3: 05.02.1993 | G3: 7012 399164, ТП УФМС России по Тульской области в Ясногорском районе, выдан 13.03.2013 | H3: 137-687-613 07 | I3: обл. Тульская, р-н. Ленинский, п. Ревякино, Советская, 20а, 16 | J3: +7 (926) 3284970 voinovaanastasiya@mail.ru | K3: Велосипедный спорт | L3: СВК, ЭВСМ | M3: 01.01.2026 | N3: включить | O3: включить
A4: 3 | B4: 207045 | C4: ГБПОУ «МССУОР № 2» Москомспорта | D4: 338131 | E4: Таран Павел Сергеевич | F4: 15.02.2002 | G4: 4522 811398, ГУ МВД РОССИИ ПО Г . МОСКВЕ, выдан 29.03.2022 | H4: 180-362-655 61 | I4: г. Москва, Митинская ул., 21 корп. 1, 267 | K4: Конькобежный спорт | L4: СВК, ЭВСМ, СВК | M4: 01.01.2026 | N4: включить | O4: включить
A5: 4 | B5: 207045 | C5: ГБПОУ «МССУОР № 2» Москомспорта | D5: 2629119 | E5: Дрягина Татьяна Андреевна | F5: 04.10.2010 | G5: 3924 006578, МВД по Республике Крым, выдан 25.10.2024 | H5: 183-782-991 28 | I5: г. Москва, ул. Филёвская М., дом 26, корпус 2, общ | J5: +7 (978) 7717334 flowery2008@mail.ru | K5: Велосипедный спорт | L5: ТЭ2 | M5: 12.01.2026 | N5: включить | O5: не включать
A6: 5 | B6: 207045 | C6: ГБПОУ «МССУОР № 2» Москомспорта | D6: 861809 | E6: Солозобова Вероника Максимовна | F6: 18.07.2008 | G6: 4523 018478, ГУ МВД ПО Г. МОСКВЕ, выдан 25.07.2022 | H6: 195-729-180 21 | I6: г. Москва, пр-кт. Вернадского, 15, 309 | K6: Велосипедный спорт | L6: СВК, ЭВСМ | M6: 12.01.2026 | N6: включить | O6: включить
A7: 6 | B7: 207045 | C7: ГБПОУ «МССУОР № 2» Москомспорта | D7: 349701 | E7: Богоявленская Ксения Андреевна | F7: 21.05.1997 | G7: 4518 142613, отдел УФМС России по гор. Москве по району Фили-Давыдково, выдан 06.07.2017 | H7: 131-668-826 71 | I7: обл. Ярославская, г. Ярославль, пр-кт. Ленинградский, дом 66, корпус 3, 66 | J7: +7 (960) 5267441 kse48482009@yandex.ru | K7: Велосипедный спорт | L7: ЭССМ2+ | M7: 19.01.2026 | N7: включить | O7: включить
A8: 7 | B8: 207045 | C8: ГБПОУ «МССУОР № 2» Москомспорта | D8: 2557387 | E8: Грицков Даниил Алексеевич | F8: 18.07.2011 | G8: II-РУ 608945, выдано 28.07.2011, место рождения Балашов, место гос регистрации отдел записи актов гражданского состояния по г. Балашову и Балашовскому району Управления по делам ЗАГС Правительства Саратовской области, дата составления акта 28.07.2011 | H8: 167-476-171 05 | I8: г. Москва, ул. Лосевская, дом 1, корпус 4, 745 | J8: +7 (906) 7209015 lexa7-07@mail.ru | K8: Триатлон | L8: ТЭ3 | M8: 01.02.2026 | N8: включить | O8: не включать
A9: 8 | B9: 207045 | C9: ГБПОУ «МССУОР № 2» Москомспорта | D9: 1421759 | E9: Коростелева Александра Велиевна | F9: 06.04.2010 | H9: 185-756-231 10 | K9: Гребной спорт | L9: ТЭ3 | M9: 01.02.2026 | N9: включить | O9: не включать
A10: 9 | B10: 207045 | C10: ГБПОУ «МССУОР № 2» Москомспорта | D10: 2542566 | E10: Харлампьева Софья Павловна | F10: 03.01.2007 | G10: 5020 214356, ГУ МВД России по Новосибирской области., выдан 13.01.2021 | H10: 146-078-328 70 | K10: Пулевая стрельба | L10: ТЭ4 | M10: 01.02.2026 | N10: включить | O10: не включать
A11: 10 | B11: 207045 | C11: ГБПОУ «МССУОР № 2» Москомспорта | D11: 614705 | E11: Хошин Марк Владимирович | F11: 15.12.2006 | G11: 4521 122111, ГУ МВД России по г. Москве, выдан 29.12.2020 | H11: 179-220-919 87 | I11: г. Москва, проезд. Одоевского, дом 7, корпус 2, 217 | K11: Триатлон | L11: ТЭ4 | M11: 01.02.2026 | N11: включить | O11: не включать
A12: 11 | B12: 207045 | C12: ГБПОУ «МССУОР № 2» Москомспорта | D12: 1595480 | E12: Горохов Евгений Дмитриевич | F12: 01.07.2013 | G12: VIМЮ 730125, выдано 05.07.2013, место рождения МОСКВА, место гос регистрации Г.МОСКВА, УЛ. Ш ХОРОШЁВСКОЕ, Д. 22, КВ. 98, дата составления акта 05.07.2013 | H12: 181-464-401 62 | I12: г. Москва, ш. Хорошёвское, дом 68, корпус 1, 77 | J12: +7 (916) 8798351 kashirinami@yandex.ru | K12: Триатлон | L12: ЭНП2, ТЭ4 | M12: 24.02.2026 | N12: включить | O12: не включать
A13: 12 | B13: 207045 | C13: ГБПОУ «МССУОР № 2» Москомспорта | D13: 1285203 | E13: Добролюбов Игорь Олегович | F13: 06.03.2011 | G13: 4524 791404, ГУ МВД России по г. Москве, выдан 21.03.2025 | H13: 183-903-861 96 | I13: г. Москва, ул. Столетова, дом 7, 2 | J13: +7 (916) 7272837 dushanna22@mail.ru | K13: Триатлон | L13: ТЭ5, ТЭ5 | M13: 24.02.2026 | N13: включить | O13: не включать
A14: 13 | B14: 207045 | C14: ГБПОУ «МССУОР № 2» Москомспорта | D14: 2248867 | E14: Косов Даниил Алексеевич | F14: 08.04.2013 | H14: 176-264-933 00 | K14: Триатлон | L14: ТЭ4 | M14: 24.02.2026 | N14: включить | O14: не включать
A15: 14 | B15: 207045 | C15: ГБПОУ «МССУОР № 2» Москомспорта | D15: 2460329 | E15: Козловский Павел Александрович | F15: 30.08.2011 | H15: 189-029-140 92 | K15: Гребной спорт | L15: ТЭ1 | M15: 25.02.2026 | N15: включить | O15: не включать
A16: 1 | B16: 219132 | C16: ГБУ ДО «Московская академия современного пятиборья» | D16: 639330 | E16: Бабанин Павел Романович | F16: 23.03.1999 | G16: 4519 157704, ГУ МВД России по г. Москве, выдан 10.04.2019 | H16: 193-437-089 93 | I16: г. Москва, пер. Угловой, дом 4, 7 | J16: +7 (909) 9065805 pasha99@mail.ru | K16: Современное пятиборье | L16: ЭССМ2+ | M16: 16.01.2026 | N16: включить | O16: включить
A17: 2 | B17: 219132 | C17: ГБУ ДО «Московская академия современного пятиборья» | D17: 2634105 | E17: Буханова Диана Дмитриевна | F17: 08.01.2013 | G17: III-АН 658114, выдано 10.01.2013, место рождения село Покровское, место гос регистрации Отдел ЗАГС Неклиновского района Ростовской области, дата составления акта 10.01.2013 | H17: 175-059-781 98 | I17: г. Москва, ш. Дмитровское, дом 169, корпус 7 | J17: +7 (918) 8544121 s21bss@som1.su | K17: Триатлон | L17: ТЭ1 | M17: 16.01.2026 | N17: включить | O17: не включать
A18: 3 | B18: 219132 | C18: ГБУ ДО «Московская академия современного пятиборья» | D18: 1468398 | E18: Волчёнков Александр Викторович | F18: 28.03.2012 | G18: V-МЮ 840866, выдано 12.04.2012, место рождения г. Москва, место гос регистрации Измайловский отдел ЗАГС Управления ЗАГС Москвы, дата составления акта 12.04.2012 | H18: 186-867-272 41 | I18: г. Москва, ул. Святоозерская, дом 16, 84 | J18: +7 (916) 4442432 vakhrovchik@mail.ru | K18: Фехтование | L18: ТЭ4 | M18: 16.01.2026 | N18: включить | O18: не включать
