Workbook

Sheet протокол
G1: ПЕРВЕНСТВО МОСКВЫ
G2: по триатлону
G3: (спортивная дисциплина: акватлон)
G4: 500м плав + 2,5км бег
A5: Место проведения: г. Москва ЦСП "Северный" | M5: 1 марта 2026 г.
A6: Место | B6: Фамилия | C6: Имя | D6: Отчество | E6: ДР | F6: Квалиф. | G6: Спортивная организация | H6: ПЛАВ 500м | J6: БЕГ 2,5км | L6: Результат | M6: Отстав. мин:сек / %% | O6: Выполн. | P6: Тренеры | Q6: Ж
G7: ДЕВУШКИ 13-14 лет | S7: 500+2,5 | T7: М | U7: Ж
A8: 1 | B8: =INDEX(Оргео!C:C,MATCH(протокол!Q8,Оргео!F:F,0)) -> Петровская | C8: =INDEX(Оргео!D:D,MATCH(протокол!Q8,Оргео!F:F,0)) -> Анастасия | D8: =INDEX(Оргео!E:E,MATCH(протокол!Q8,Оргео!F:F,0)) -> Романовна | E8: =INDEX(Оргео!L:L,MATCH(протокол!Q8,Оргео!F:F,0)) -> 41541 | F8: =INDEX(мандатка!I:I,MATCH(протокол!Q8,мандатка!F:F,0)) -> 1р | G8: =INDEX(мандатка!Z:Z,MATCH(протокол!Q8,мандатка!F:F,0)) -> ГБУ ДО «Московская академия современного пятиборья» | H8: =INDEX(ИТОГИ!G:G,MATCH(протокол!Q8,ИТОГИ!E:E,0)) -> 0.0048032407 | I8: =INDEX(ИТОГИ!H:H,MATCH(протокол!Q8,ИТОГИ!E:E,0)) -> (2) | J8: =INDEX(ИТОГИ!I:I,MATCH(протокол!Q8,ИТОГИ!E:E,0)) -> 0.0057175926 | K8: =INDEX(ИТОГИ!J:J,MATCH(протокол!Q8,ИТОГИ!E:E,0)) -> (1) | L8: =H8+J8 -> 0.010520833 | M8: - | O8: 1р | P8: =INDEX(мандатка!AC:AC,MATCH(протокол!Q8,мандатка!F:F,0)) -> Васильев Иван Михайлович | Q8: Петровская Анастасия | R8: =INDEX(ИТОГИ!K:K,MATCH(протокол!Q8,ИТОГИ!E:E,0)) -> 0.010520833 | S8: 1 | T8: 0.011805556 | U8: 0.013194444
A9: 2 | B9: =INDEX(Оргео!C:C,MATCH(протокол!Q9,Оргео!F:F,0)) -> Давыдова | C9: =INDEX(Оргео!D:D,MATCH(протокол!Q9,Оргео!F:F,0)) -> Екатерина | D9: =INDEX(Оргео!E:E,MATCH(протокол!Q9,Оргео!F:F,0)) -> Витальевна | E9: =INDEX(Оргео!L:L,MATCH(протокол!Q9,Оргео!F:F,0)) -> 41151 | F9: =INDEX(мандатка!I:I,MATCH(протокол!Q9,мандатка!F:F,0)) -> кмс | G9: =INDEX(мандатка!Z:Z,MATCH(протокол!Q9,мандатка!F:F,0)) -> ГБУ ДО «Московская академия современного пятиборья» | H9: =INDEX(ИТОГИ!G:G,MATCH(протокол!Q9,ИТОГИ!E:E,0)) -> 0.0051157407 | I9: =INDEX(ИТОГИ!H:H,MATCH(протокол!Q9,ИТОГИ!E:E,0)) -> (5) | J9: =INDEX(ИТОГИ!I:I,MATCH(протокол!Q9,ИТОГИ!E:E,0)) -> 0.0064583333 | K9: =INDEX(ИТОГИ!J:J,MATCH(протокол!Q9,ИТОГИ!E:E,0)) -> (2) | L9: =H9+J9 -> 0.011574074 | M9: =L9-$L$8 -> 0.0010532407 | N9: =M9/$L$8 -> 0.10011001 | O9: 1р | P9: =INDEX(мандатка!AC:AC,MATCH(протокол!Q9,мандатка!F:F,0)) -> Багазеев Александр Константинович | Q9: Давыдова Екатерина | R9: =INDEX(ИТОГИ!K:K,MATCH(протокол!Q9,ИТОГИ!E:E,0)) -> 0.011574074 | S9: 2 | T9: 0.0125 | U9: 0.013888889
A10: 3 | B10: =INDEX(Оргео!C:C,MATCH(протокол!Q10,Оргео!F:F,0)) -> Буханова | C10: =INDEX(Оргео!D:D,MATCH(протокол!Q10,Оргео!F:F,0)) -> Диана | D10: =INDEX(Оргео!E:E,MATCH(протокол!Q10,Оргео!F:F,0)) -> Дмитриевна | E10: =INDEX(Оргео!L:L,MATCH(протокол!Q10,Оргео!F:F,0)) -> 41282 | F10: =INDEX(мандатка!I:I,MATCH(протокол!Q10,мандатка!F:F,0)) -> 1ю | G10: =INDEX(мандатка!Z:Z,MATCH(протокол!Q10,мандатка!F:F,0)) -> ГБУ ДО «Московская академия современного пятиборья» | H10: =INDEX(ИТОГИ!G:G,MATCH(протокол!Q10,ИТОГИ!E:E,0)) -> 0.0045023148 | I10: =INDEX(ИТОГИ!H:H,MATCH(протокол!Q10,ИТОГИ!E:E,0)) -> (1) | J10: =INDEX(ИТОГИ!I:I,MATCH(протокол!Q10,ИТОГИ!E:E,0)) -> 0.0071990741 | K10: =INDEX(ИТОГИ!J:J,MATCH(протокол!Q10,ИТОГИ!E:E,0)) -> (7) | L10: =H10+J10 -> 0.011701389 | M10: =L10-$L$8 -> 0.0011805556 | N10: =M10/$L$8 -> 0.11221122 | O10: 1р | P10: =INDEX(мандатка!AC:AC,MATCH(протокол!Q10,мандатка!F:F,0)) -> Васильев Иван Михайлович | Q10: Буханова Диана | R10: =INDEX(ИТОГИ!K:K,MATCH(протокол!Q10,ИТОГИ!E:E,0)) -> 0.011701389 | S10: 3 | T10: 0.013194444 | U10: 0.014583333
A11: 4 | B11: =INDEX(Оргео!C:C,MATCH(протокол!Q11,Оргео!F:F,0)) -> Рогожина | C11: =INDEX(Оргео!D:D,MATCH(протокол!Q11,Оргео!F:F,0)) -> Дарья | D11: =INDEX(Оргео!E:E,MATCH(протокол!Q11,Оргео!F:F,0)) -> Антоновна | E11: =INDEX(Оргео!L:L,MATCH(протокол!Q11,Оргео!F:F,0)) -> 41323 | F11: =INDEX(мандатка!I:I,MATCH(протокол!Q11,мандатка!F:F,0)) -> 1р | G11: =INDEX(мандатка!Z:Z,MATCH(протокол!Q11,мандатка!F:F,0)) -> ГБПОУ «МССУОР № 2» Москомспорта | H11: =INDEX(ИТОГИ!G:G,MATCH(протокол!Q11,ИТОГИ!E:E,0)) -> 0.0049768519 | I11: =INDEX(ИТОГИ!H:H,MATCH(протокол!Q11,ИТОГИ!E:E,0)) -> (3) | J11: =INDEX(ИТОГИ!I:I,MATCH(протокол!Q11,ИТОГИ!E:E,0)) -> 0.0068171296 | K11: =INDEX(ИТОГИ!J:J,MATCH(протокол!Q11,ИТОГИ!E:E,0)) -> (3) | L11: =H11+J11 -> 0.011793981 | M11: =L11-$L$8 -> 0.0012731481 | N11: =M11/$L$8 -> 0.1210121 | O11: 1р | P11: =INDEX(мандатка!AC:AC,MATCH(протокол!Q11,мандатка!F:F,0)) -> Пахомова Марина Сергеевна | Q11: Рогожина Дарья | R11: =INDEX(ИТОГИ!K:K,MATCH(протокол!Q11,ИТОГИ!E:E,0)) -> 0.011793981 | S11: 1ю | T11: 0.013888889 | U11: 0.015625
A12: 5 | B12: =INDEX(Оргео!C:C,MATCH(протокол!Q12,Оргео!F:F,0)) -> Петрова | C12: =INDEX(Оргео!D:D,MATCH(протокол!Q12,Оргео!F:F,0)) -> Полина | D12: =INDEX(Оргео!E:E,MATCH(протокол!Q12,Оргео!F:F,0)) -> Сергеевна | E12: =INDEX(Оргео!L:L,MATCH(протокол!Q12,Оргео!F:F,0)) -> 41175 | F12: =INDEX(мандатка!I:I,MATCH(протокол!Q12,мандатка!F:F,0)) -> 1р | G12: =INDEX(мандатка!Z:Z,MATCH(протокол!Q12,мандатка!F:F,0)) -> ГБУ ДО «Московская академия современного пятиборья» | H12: =INDEX(ИТОГИ!G:G,MATCH(протокол!Q12,ИТОГИ!E:E,0)) -> 0.0050231481 | I12: =INDEX(ИТОГИ!H:H,MATCH(протокол!Q12,ИТОГИ!E:E,0)) -> (4) | J12: =INDEX(ИТОГИ!I:I,MATCH(протокол!Q12,ИТОГИ!E:E,0)) -> 0.0070949074 | K12: =INDEX(ИТОГИ!J:J,MATCH(протокол!Q12,ИТОГИ!E:E,0)) -> (6) | L12: =H12+J12 -> 0.012118056 | M12: =L12-$L$8 -> 0.0015972222 | N12: =M12/$L$8 -> 0.15181518 | O12: 1р | P12: =INDEX(мандатка!AC:AC,MATCH(протокол!Q12,мандатка!F:F,0)) -> Васильев Иван Михайлович | Q12: Петрова Полина | R12: =INDEX(ИТОГИ!K:K,MATCH(протокол!Q12,ИТОГИ!E:E,0)) -> 0.012118056 | S12: 2ю | T12: 0.014930556 | U12: 0.016666667
A13: 6 | B13: =INDEX(Оргео!C:C,MATCH(протокол!Q13,Оргео!F:F,0)) -> Сомова | C13: =INDEX(Оргео!D:D,MATCH(протокол!Q13,Оргео!F:F,0)) -> Алиса | D13: =INDEX(Оргео!E:E,MATCH(протокол!Q13,Оргео!F:F,0)) -> Евгеньевна | E13: =INDEX(Оргео!L:L,MATCH(протокол!Q13,Оргео!F:F,0)) -> 41617 | F13: =INDEX(мандатка!I:I,MATCH(протокол!Q13,мандатка!F:F,0)) -> 1р | G13: =INDEX(мандатка!Z:Z,MATCH(протокол!Q13,мандатка!F:F,0)) -> АНО «ДЮСШ «Акватикс» | H13: =INDEX(ИТОГИ!G:G,MATCH(протокол!Q13,ИТОГИ!E:E,0)) -> 0.0052546296 | I13: =INDEX(ИТОГИ!H:H,MATCH(протокол!Q13,ИТОГИ!E:E,0)) -> (7) | J13: =INDEX(ИТОГИ!I:I,MATCH(протокол!Q13,ИТОГИ!E:E,0)) -> 0.0069328704 | K13: =INDEX(ИТОГИ!J:J,MATCH(протокол!Q13,ИТОГИ!E:E,0)) -> (4) | L13: =H13+J13 -> 0.0121875 | M13: =L13-$L$8 -> 0.0016666667 | N13: =M13/$L$8 -> 0.15841584 | O13: 1р | P13: =INDEX(мандатка!AC:AC,MATCH(протокол!Q13,мандатка!F:F,0)) -> Борисов Евгений Валерьевич, Самсонов Иван Александрович | Q13: Сомова Алиса | R13: =INDEX(ИТОГИ!K:K,MATCH(протокол!Q13,ИТОГИ!E:E,0)) -> 0.0121875 | S13: 3ю | T13: 0.015625 | U13: 0.017708333
A14: 7 | B14: =INDEX(Оргео!C:C,MATCH(протокол!Q14,Оргео!F:F,0)) -> Жевагина | C14: =INDEX(Оргео!D:D,MATCH(протокол!Q14,Оргео!F:F,0)) -> Виктория | D14: =INDEX(Оргео!E:E,MATCH(протокол!Q14,Оргео!F:F,0)) -> Михайловна | E14: =INDEX(Оргео!L:L,MATCH(протокол!Q14,Оргео!F:F,0)) -> 41135 | F14: =INDEX(мандатка!I:I,MATCH(протокол!Q14,мандатка!F:F,0)) -> 2р | G14: =INDEX(мандатка!Z:Z,MATCH(протокол!Q14,мандатка!F:F,0)) -> ГБПОУ «МССУОР № 2» Москомспорта | H14: =INDEX(ИТОГИ!G:G,MATCH(протокол!Q14,ИТОГИ!E:E,0)) -> 0.0052430556 | I14: =INDEX(ИТОГИ!H:H,MATCH(протокол!Q14,ИТОГИ!E:E,0)) -> (6) | J14: =INDEX(ИТОГИ!I:I,MATCH(протокол!Q14,ИТОГИ!E:E,0)) -> 0.0072569444 | K14: =INDEX(ИТОГИ!J:J,MATCH(протокол!Q14,ИТОГИ!E:E,0)) -> (8) | L14: =H14+J14 -> 0.0125 | M14: =L14-$L$8 -> 0.0019791667 | N14: =M14/$L$8 -> 0.18811881 | O14: 1р | P14: =INDEX(мандатка!AC:AC,MATCH(протокол!Q14,мандатка!F:F,0)) -> Семиволос Алексей Юрьевич | Q14: Жевагина Виктория | R14: =INDEX(ИТОГИ!K:K,MATCH(протокол!Q14,ИТОГИ!E:E,0)) -> 0.0125
A15: 8 | B15: =INDEX(Оргео!C:C,MATCH(протокол!Q15,Оргео!F:F,0)) -> Ланцова | C15: =INDEX(Оргео!D:D,MATCH(протокол!Q15,Оргео!F:F,0)) -> Мария | D15: =INDEX(Оргео!E:E,MATCH(протокол!Q15,Оргео!F:F,0)) -> Андреевна | E15: =INDEX(Оргео!L:L,MATCH(протокол!Q15,Оргео!F:F,0)) -> 41583 | F15: =INDEX(мандатка!I:I,MATCH(протокол!Q15,мандатка!F:F,0)) -> 1р | G15: =INDEX(мандатка!Z:Z,MATCH(протокол!Q15,мандатка!F:F,0)) -> АНО «ДЮСШ «Акватикс» | H15: =INDEX(ИТОГИ!G:G,MATCH(протокол!Q15,ИТОГИ!E:E,0)) -> 0.0056365741 | I15: =INDEX(ИТОГИ!H:H,MATCH(протокол!Q15,ИТОГИ!E:E,0)) -> (8) | J15: =INDEX(ИТОГИ!I:I,MATCH(протокол!Q15,ИТОГИ!E:E,0)) -> 0.0069560185 | K15: =INDEX(ИТОГИ!J:J,MATCH(протокол!Q15,ИТОГИ!E:E,0)) -> (5) | L15: =H15+J15 -> 0.012592593 | M15: =L15-$L$8 -> 0.0020717593 | N15: =M15/$L$8 -> 0.19691969 | O15: 1р | P15: =INDEX(мандатка!AC:AC,MATCH(протокол!Q15,мандатка!F:F,0)) -> Борисов Евгений Валерьевич, Самсонов Иван Александрович | Q15: Ланцова Мария | R15: =INDEX(ИТОГИ!K:K,MATCH(протокол!Q15,ИТОГИ!E:E,0)) -> 0.012592593
A16: 9 | B16: =INDEX(Оргео!C:C,MATCH(протокол!Q16,Оргео!F:F,0)) -> Жаринова | C16: =INDEX(Оргео!D:D,MATCH(протокол!Q16,Оргео!F:F,0)) -> Анна | D16: =INDEX(Оргео!E:E,MATCH(протокол!Q16,Оргео!F:F,0)) -> Владимировна | E16: =INDEX(Оргео!L:L,MATCH(протокол!Q16,Оргео!F:F,0)) -> 41557 | F16: =INDEX(мандатка!I:I,MATCH(протокол!Q16,мандатка!F:F,0)) -> 2р | G16: =INDEX(мандатка!Z:Z,MATCH(протокол!Q16,мандатка!F:F,0)) -> ГБПОУ «МССУОР № 2» Москомспорта | H16: =INDEX(ИТОГИ!G:G,MATCH(протокол!Q16,ИТОГИ!E:E,0)) -> 0.0056597222 | I16: =INDEX(ИТОГИ!H:H,MATCH(протокол!Q16,ИТОГИ!E:E,0)) -> (9) | J16: =INDEX(ИТОГИ!I:I,MATCH(протокол!Q16,ИТОГИ!E:E,0)) -> 0.0073611111 | K16: =INDEX(ИТОГИ!J:J,MATCH(протокол!Q16,ИТОГИ!E:E,0)) -> (9) | L16: =H16+J16 -> 0.013020833 | M16: =L16-$L$8 -> 0.0025 | N16: =M16/$L$8 -> 0.23762376 | O16: 1р | P16: =INDEX(мандатка!AC:AC,MATCH(протокол!Q16,мандатка!F:F,0)) -> Семиволос Алексей Юрьевич | Q16: Жаринова Анна | R16: =INDEX(ИТОГИ!K:K,MATCH(протокол!Q16,ИТОГИ!E:E,0)) -> 0.013020833
A17: 10 | B17: =INDEX(Оргео!C:C,MATCH(протокол!Q17,Оргео!F:F,0)) -> Украинцева | C17: =INDEX(Оргео!D:D,MATCH(протокол!Q17,Оргео!F:F,0)) -> Софья | D17: =INDEX(Оргео!E:E,MATCH(протокол!Q17,Оргео!F:F,0)) -> Романовна | E17: =INDEX(Оргео!L:L,MATCH(протокол!Q17,Оргео!F:F,0)) -> 41525 | F17: =INDEX(мандатка!I:I,MATCH(протокол!Q17,мандатка!F:F,0)) -> 3р | G17: =INDEX(мандатка!Z:Z,MATCH(протокол!Q17,мандатка!F:F,0)) -> АНО «ДЮСШ «Акватикс» | H17: =INDEX(ИТОГИ!G:G,MATCH(протокол!Q17,ИТОГИ!E:E,0)) -> 0.0057986111 | I17: =INDEX(ИТОГИ!H:H,MATCH(протокол!Q17,ИТОГИ!E:E,0)) -> (16) | J17: =INDEX(ИТОГИ!I:I,MATCH(протокол!Q17,ИТОГИ!E:E,0)) -> 0.0077083333 | K17: =INDEX(ИТОГИ!J:J,MATCH(протокол!Q17,ИТОГИ!E:E,0)) -> (12) | L17: =H17+J17 -> 0.013506944 | M17: =L17-$L$8 -> 0.0029861111 | N17: =M17/$L$8 -> 0.28382838 | O17: 2р | P17: =INDEX(мандатка!AC:AC,MATCH(протокол!Q17,мандатка!F:F,0)) -> Трифанкин Степан Николаевич, Борисов Евгений Валерьевич | Q17: Украинцева Софья | R17: =INDEX(ИТОГИ!K:K,MATCH(протокол!Q17,ИТОГИ!E:E,0)) -> 0.013506944
D19: Главный судья | I19: Багазеев А.К., СС1К
D21: Главный секретарь | I21: Парфенцова Т.М., ССВК
G22: ПЕРВЕНСТВО МОСКВЫ
G23: по триатлону
G24: (спортивная дисциплина: акватлон)
G25: 500м плав + 2,5км бег
A26: Место проведения: г. Москва ЦСП "Северный" | M26: 1 марта 2026 г.
A27: Место | B27: Фамилия | C27: Имя | D27: Отчество | E27: ДР | F27: Квалиф. | G27: Спортивная организация | H27: ПЛАВ 500м | J27: БЕГ 2,5км | L27: Результат | M27: Отстав. мин:сек / %% | O27: Выполн. | P27: Тренеры | Q27: Ж
G28: ДЕВУШКИ 15-17 лет | S28: 500+2,5 | T28: М | U28: Ж
A29: 1 | B29: =INDEX(Оргео!C:C,MATCH(протокол!Q29,Оргео!F:F,0)) -> Ключарёва | C29: =INDEX(Оргео!D:D,MATCH(протокол!Q29,Оргео!F:F,0)) -> Иоанна | D29: =INDEX(Оргео!E:E,MATCH(протокол!Q29,Оргео!F:F,0)) -> Олеговна | E29: =INDEX(Оргео!L:L,MATCH(протокол!Q29,Оргео!F:F,0)) -> 40717 | F29: =INDEX(мандатка!I:I,MATCH(протокол!Q29,мандатка!F:F,0)) -> кмс | G29: =INDEX(мандатка!Z:Z,MATCH(протокол!Q29,мандатка!F:F,0)) -> ГБУ ДО «Московская академия современного пятиборья» | H29: =INDEX(ИТОГИ!G:G,MATCH(протокол!Q29,ИТОГИ!E:E,0)) -> 0.0045486111 | I29: =INDEX(ИТОГИ!H:H,MATCH(протокол!Q29,ИТОГИ!E:E,0)) -> (1) | J29: =INDEX(ИТОГИ!I:I,MATCH(протокол!Q29,ИТОГИ!E:E,0)) -> 0.006087963 | K29: =INDEX(ИТОГИ!J:J,MATCH(протокол!Q29,ИТОГИ!E:E,0)) -> (1) | L29: =H29+J29 -> 0.010636574 | M29: - | O29: 1р | P29: =INDEX(мандатка!AC:AC,MATCH(протокол!Q29,мандатка!F:F,0)) -> Багазеев Александр Константинович | Q29: Ключарёва Иоанна | R29: =INDEX(ИТОГИ!K:K,MATCH(протокол!Q29,ИТОГИ!E:E,0)) -> 0.010636574 | S29: 1 | T29: 0.011805556 | U29: 0.013194444
A30: 2 | B30: =INDEX(Оргео!C:C,MATCH(протокол!Q30,Оргео!F:F,0)) -> Титова | C30: =INDEX(Оргео!D:D,MATCH(протокол!Q30,Оргео!F:F,0)) -> Алина | D30: =INDEX(Оргео!E:E,MATCH(протокол!Q30,Оргео!F:F,0)) -> Павловна | E30: =INDEX(Оргео!L:L,MATCH(протокол!Q30,Оргео!F:F,0)) -> 40701 | F30: =INDEX(мандатка!I:I,MATCH(протокол!Q30,мандатка!F:F,0)) -> кмс | G30: =INDEX(мандатка!Z:Z,MATCH(протокол!Q30,мандатка!F:F,0)) -> ГБУ ДО «Московская академия современного пятиборья» | H30: =INDEX(ИТОГИ!G:G,MATCH(протокол!Q30,ИТОГИ!E:E,0)) -> 0.0046180556 | I30: =INDEX(ИТОГИ!H:H,MATCH(протокол!Q30,ИТОГИ!E:E,0)) -> (2) | J30: =INDEX(ИТОГИ!I:I,MATCH(протокол!Q30,ИТОГИ!E:E,0)) -> 0.0062847222 | K30: =INDEX(ИТОГИ!J:J,MATCH(протокол!Q30,ИТОГИ!E:E,0)) -> (3) | L30: =H30+J30 -> 0.010902778 | M30: =L30-$L$29 -> 0.0002662037 | N30: =M30/$L$29 -> 0.025027203 | O30: 1р | P30: =INDEX(мандатка!AC:AC,MATCH(протокол!Q30,мандатка!F:F,0)) -> Багазеев Александр Константинович | Q30: Титова Алина | R30: =INDEX(ИТОГИ!K:K,MATCH(протокол!Q30,ИТОГИ!E:E,0)) -> 0.010902778 | S30: 2 | T30: 0.0125 | U30: 0.013888889
A31: 3 | B31: =INDEX(Оргео!C:C,MATCH(протокол!Q31,Оргео!F:F,0)) -> Длютрова | C31: =INDEX(Оргео!D:D,MATCH(протокол!Q31,Оргео!F:F,0)) -> Ульяна | D31: =INDEX(Оргео!E:E,MATCH(протокол!Q31,Оргео!F:F,0)) -> Юрьевна | E31: =INDEX(Оргео!L:L,MATCH(протокол!Q31,Оргео!F:F,0)) -> 40717 | F31: =INDEX(мандатка!I:I,MATCH(протокол!Q31,мандатка!F:F,0)) -> кмс | G31: =INDEX(мандатка!Z:Z,MATCH(протокол!Q31,мандатка!F:F,0)) -> ГБПОУ «МССУОР № 2» Москомспорта | H31: =INDEX(ИТОГИ!G:G,MATCH(протокол!Q31,ИТОГИ!E:E,0)) -> 0.0046643519 | I31: =INDEX(ИТОГИ!H:H,MATCH(протокол!Q31,ИТОГИ!E:E,0)) -> (5) | J31: =INDEX(ИТОГИ!I:I,MATCH(протокол!Q31,ИТОГИ!E:E,0)) -> 0.0062962963 | K31: =INDEX(ИТОГИ!J:J,MATCH(протокол!Q31,ИТОГИ!E:E,0)) -> (4) | L31: =H31+J31 -> 0.010960648 | M31: =L31-$L$29 -> 0.00032407407 | N31: =M31/$L$29 -> 0.0304679 | O31: 1р | P31: =INDEX(мандатка!AC:AC,MATCH(протокол!Q31,мандатка!F:F,0)) -> Антошина Ирина Николаевна | Q31: Длютрова Ульяна | R31: =INDEX(ИТОГИ!K:K,MATCH(протокол!Q31,ИТОГИ!E:E,0)) -> 0.010960648 | S31: 3 | T31: 0.013194444 | U31: 0.014583333
A32: 4 | B32: =INDEX(Оргео!C:C,MATCH(протокол!Q32,Оргео!F:F,0)) -> Корюкалова | C32: =INDEX(Оргео!D:D,MATCH(протокол!Q32,Оргео!F:F,0)) -> Ева | D32: =INDEX(Оргео!E:E,MATCH(протокол!Q32,Оргео!F:F,0)) -> Станиславовна | E32: =INDEX(Оргео!L:L,MATCH(протокол!Q32,Оргео!F:F,0)) -> 39837 | F32: =INDEX(мандатка!I:I,MATCH(протокол!Q32,мандатка!F:F,0)) -> кмс | G32: =INDEX(мандатка!Z:Z,MATCH(протокол!Q32,мандатка!F:F,0)) -> ГБПОУ «МССУОР № 2» Москомспорта | H32: =INDEX(ИТОГИ!G:G,MATCH(протокол!Q32,ИТОГИ!E:E,0)) -> 0.0049768519 | I32: =INDEX(ИТОГИ!H:H,MATCH(протокол!Q32,ИТОГИ!E:E,0)) -> (12) | J32: =INDEX(ИТОГИ!I:I,MATCH(протокол!Q32,ИТОГИ!E:E,0)) -> 0.0061921296 | K32: =INDEX(ИТОГИ!J:J,MATCH(протокол!Q32,ИТОГИ!E:E,0)) -> (2) | L32: =H32+J32 -> 0.011168981 | M32: =L32-$L$29 -> 0.00053240741 | N32: =M32/$L$29 -> 0.050054407 | O32: 1р | P32: =INDEX(мандатка!AC:AC,MATCH(протокол!Q32,мандатка!F:F,0)) -> Антошина Ирина Николаевна | Q32: Корюкалова Ева | R32: =INDEX(ИТОГИ!K:K,MATCH(протокол!Q32,ИТОГИ!E:E,0)) -> 0.011168981 | S32: 1ю | T32: 0.013888889 | U32: 0.015625
A33: 5 | B33: =INDEX(Оргео!C:C,MATCH(протокол!Q33,Оргео!F:F,0)) -> Семенова | C33: =INDEX(Оргео!D:D,MATCH(протокол!Q33,Оргео!F:F,0)) -> Юлия | D33: =INDEX(Оргео!E:E,MATCH(протокол!Q33,Оргео!F:F,0)) -> Олеговна | E33: =INDEX(Оргео!L:L,MATCH(протокол!Q33,Оргео!F:F,0)) -> 40725 | F33: =INDEX(мандатка!I:I,MATCH(протокол!Q33,мандатка!F:F,0)) -> кмс | G33: =INDEX(мандатка!Z:Z,MATCH(протокол!Q33,мандатка!F:F,0)) -> ГБУ ДО «Московская академия современного пятиборья» | H33: =INDEX(ИТОГИ!G:G,MATCH(протокол!Q33,ИТОГИ!E:E,0)) -> 0.0047222222 | I33: =INDEX(ИТОГИ!H:H,MATCH(протокол!Q33,ИТОГИ!E:E,0)) -> (7) | J33: =INDEX(ИТОГИ!I:I,MATCH(протокол!Q33,ИТОГИ!E:E,0)) -> 0.0065046296 | K33: =INDEX(ИТОГИ!J:J,MATCH(протокол!Q33,ИТОГИ!E:E,0)) -> (5) | L33: =H33+J33 -> 0.011226852 | M33: =L33-$L$29 -> 0.00059027778 | N33: =M33/$L$29 -> 0.055495103 | O33: 1р | P33: =INDEX(мандатка!AC:AC,MATCH(протокол!Q33,мандатка!F:F,0)) -> Багазеев Александр Константинович | Q33: Семенова Юлия | R33: =INDEX(ИТОГИ!K:K,MATCH(протокол!Q33,ИТОГИ!E:E,0)) -> 0.011226852 | S33: 2ю | T33: 0.014930556 | U33: 0.016666667
A34: 6 | B34: =INDEX(Оргео!C:C,MATCH(протокол!Q34,Оргео!F:F,0)) -> Куфман | C34: =INDEX(Оргео!D:D,MATCH(протокол!Q34,Оргео!F:F,0)) -> Варвара | D34: =INDEX(Оргео!E:E,MATCH(протокол!Q34,Оргео!F:F,0)) -> Ильинична | E34: =INDEX(Оргео!L:L,MATCH(протокол!Q34,Оргео!F:F,0)) -> 40223 | F34: =INDEX(мандатка!I:I,MATCH(протокол!Q34,мандатка!F:F,0)) -> кмс | G34: =INDEX(мандатка!Z:Z,MATCH(протокол!Q34,мандатка!F:F,0)) -> ГБПОУ «МССУОР № 2» Москомспорта | H34: =INDEX(ИТОГИ!G:G,MATCH(протокол!Q34,ИТОГИ!E:E,0)) -> 0.0047916667 | I34: =INDEX(ИТОГИ!H:H,MATCH(протокол!Q34,ИТОГИ!E:E,0)) -> (11) | J34: =INDEX(ИТОГИ!I:I,MATCH(протокол!Q34,ИТОГИ!E:E,0)) -> 0.0065509259 | K34: =INDEX(ИТОГИ!J:J,MATCH(протокол!Q34,ИТОГИ!E:E,0)) -> (6) | L34: =H34+J34 -> 0.011342593 | M34: =L34-$L$29 -> 0.00070601852 | N34: =M34/$L$29 -> 0.066376496 | O34: 1р | P34: =INDEX(мандатка!AC:AC,MATCH(протокол!Q34,мандатка!F:F,0)) -> Эсаулова Ольга Олеговна | Q34: Куфман Варвара | R34: =INDEX(ИТОГИ!K:K,MATCH(протокол!Q34,ИТОГИ!E:E,0)) -> 0.011342593 | S34: 3ю | T34: 0.015625 | U34: 0.017708333
A35: 7 | B35: =INDEX(Оргео!C:C,MATCH(протокол!Q35,Оргео!F:F,0)) -> Дащенко | C35: =INDEX(Оргео!D:D,MATCH(протокол!Q35,Оргео!F:F,0)) -> Элина | D35: =INDEX(Оргео!E:E,MATCH(протокол!Q35,Оргео!F:F,0)) -> Андреевна | E35: =INDEX(Оргео!L:L,MATCH(протокол!Q35,Оргео!F:F,0)) -> 40240 | F35: =INDEX(мандатка!I:I,MATCH(протокол!Q35,мандатка!F:F,0)) -> кмс | G35: =INDEX(мандатка!Z:Z,MATCH(протокол!Q35,мандатка!F:F,0)) -> ГБПОУ «МССУОР № 2» Москомспорта | H35: =INDEX(ИТОГИ!G:G,MATCH(протокол!Q35,ИТОГИ!E:E,0)) -> 0.0046527778 | I35: =INDEX(ИТОГИ!H:H,MATCH(протокол!Q35,ИТОГИ!E:E,0)) -> (3) | J35: =INDEX(ИТОГИ!I:I,MATCH(протокол!Q35,ИТОГИ!E:E,0)) -> 0.0069212963 | K35: =INDEX(ИТОГИ!J:J,MATCH(протокол!Q35,ИТОГИ!E:E,0)) -> (10) | L35: =H35+J35 -> 0.011574074 | M35: =L35-$L$29 -> 0.0009375 | N35: =M35/$L$29 -> 0.088139282 | O35: 1р | P35: =INDEX(мандатка!AC:AC,MATCH(протокол!Q35,мандатка!F:F,0)) -> Семиволос Алексей Юрьевич | Q35: Дащенко Элина | R35: =INDEX(ИТОГИ!K:K,MATCH(протокол!Q35,ИТОГИ!E:E,0)) -> 0.011574074
A36: 8 | B36: =INDEX(Оргео!C:C,MATCH(протокол!Q36,Оргео!F:F,0)) -> Пронюк | C36: =INDEX(Оргео!D:D,MATCH(протокол!Q36,Оргео!F:F,0)) -> Анастасия | D36: =INDEX(Оргео!E:E,MATCH(протокол!Q36,Оргео!F:F,0)) -> Вячеславовна | E36: =INDEX(Оргео!L:L,MATCH(протокол!Q36,Оргео!F:F,0)) -> 40183 | F36: =INDEX(мандатка!I:I,MATCH(протокол!Q36,мандатка!F:F,0)) -> кмс | G36: =INDEX(мандатка!Z:Z,MATCH(протокол!Q36,мандатка!F:F,0)) -> ГБУ ДО «Московская академия современного пятиборья» | H36: =INDEX(ИТОГИ!G:G,MATCH(протокол!Q36,ИТОГИ!E:E,0)) -> 0.0047337963 | I36: =INDEX(ИТОГИ!H:H,MATCH(протокол!Q36,ИТОГИ!E:E,0)) -> (8) | J36: =INDEX(ИТОГИ!I:I,MATCH(протокол!Q36,ИТОГИ!E:E,0)) -> 0.0069212963 | K36: =INDEX(ИТОГИ!J:J,MATCH(протокол!Q36,ИТОГИ!E:E,0)) -> (9) | L36: =H36+J36 -> 0.011655093 | M36: =L36-$L$29 -> 0.0010185185 | N36: =M36/$L$29 -> 0.095756257 | O36: 1р | P36: =INDEX(мандатка!AC:AC,MATCH(протокол!Q36,мандатка!F:F,0)) -> Анисимова Нина Валентиновна | Q36: Пронюк Анастасия | R36: =INDEX(ИТОГИ!K:K,MATCH(протокол!Q36,ИТОГИ!E:E,0)) -> 0.011655093
A37: 9 | B37: =INDEX(Оргео!C:C,MATCH(протокол!Q37,Оргео!F:F,0)) -> Филина | C37: =INDEX(Оргео!D:D,MATCH(протокол!Q37,Оргео!F:F,0)) -> Анна | D37: =INDEX(Оргео!E:E,MATCH(протокол!Q37,Оргео!F:F,0)) -> Дмитриевна | E37: =INDEX(Оргео!L:L,MATCH(протокол!Q37,Оргео!F:F,0)) -> 40675 | F37: =INDEX(мандатка!I:I,MATCH(протокол!Q37,мандатка!F:F,0)) -> кмс | G37: =INDEX(мандатка!Z:Z,MATCH(протокол!Q37,мандатка!F:F,0)) -> ГБУ ДО «Московская академия современного пятиборья» | H37: =INDEX(ИТОГИ!G:G,MATCH(протокол!Q37,ИТОГИ!E:E,0)) -> 0.0050347222 | I37: =INDEX(ИТОГИ!H:H,MATCH(протокол!Q37,ИТОГИ!E:E,0)) -> (13) | J37: =INDEX(ИТОГИ!I:I,MATCH(протокол!Q37,ИТОГИ!E:E,0)) -> 0.0067708333 | K37: =INDEX(ИТОГИ!J:J,MATCH(протокол!Q37,ИТОГИ!E:E,0)) -> (8) | L37: =H37+J37 -> 0.011805556 | M37: =L37-$L$29 -> 0.0011689815 | N37: =M37/$L$29 -> 0.10990207 | O37: 1р | P37: =INDEX(мандатка!AC:AC,MATCH(протокол!Q37,мандатка!F:F,0)) -> Васильев Иван Михайлович | Q37: Филина Анна | R37: =INDEX(ИТОГИ!K:K,MATCH(протокол!Q37,ИТОГИ!E:E,0)) -> 0.011805556
A38: 10 | B38: =INDEX(Оргео!C:C,MATCH(протокол!Q38,Оргео!F:F,0)) -> Игошина | C38: =INDEX(Оргео!D:D,MATCH(протокол!Q38,Оргео!F:F,0)) -> Дарина | D38: =INDEX(Оргео!E:E,MATCH(протокол!Q38,Оргео!F:F,0)) -> Алексеевна | E38: =INDEX(Оргео!L:L,MATCH(протокол!Q38,Оргео!F:F,0)) -> 40375 | F38: =INDEX(мандатка!I:I,MATCH(протокол!Q38,мандатка!F:F,0)) -> 1р | G38: =INDEX(мандатка!Z:Z,MATCH(протокол!Q38,мандатка!F:F,0)) -> ГБПОУ «МССУОР № 2» Москомспорта | H38: =INDEX(ИТОГИ!G:G,MATCH(протокол!Q38,ИТОГИ!E:E,0)) -> 0.0054398148 | I38: =INDEX(ИТОГИ!H:H,MATCH(протокол!Q38,ИТОГИ!E:E,0)) -> (14) | J38: =INDEX(ИТОГИ!I:I,MATCH(протокол!Q38,ИТОГИ!E:E,0)) -> 0.0066087963 | K38: =INDEX(ИТОГИ!J:J,MATCH(протокол!Q38,ИТОГИ!E:E,0)) -> (7) | L38: =H38+J38 -> 0.012048611 | M38: =L38-$L$29 -> 0.001412037 | N38: =M38/$L$29 -> 0.13275299 | O38: 1р | P38: =INDEX(мандатка!AC:AC,MATCH(протокол!Q38,мандатка!F:F,0)) -> Антошина Ирина Николаевна | Q38: Игошина Дарина | R38: =INDEX(ИТОГИ!K:K,MATCH(протокол!Q38,ИТОГИ!E:E,0)) -> 0.012048611
A39: 11 | B39: =INDEX(Оргео!C:C,MATCH(протокол!Q39,Оргео!F:F,0)) -> Морданова | C39: =INDEX(Оргео!D:D,MATCH(протокол!Q39,Оргео!F:F,0)) -> Софья | D39: =INDEX(Оргео!E:E,MATCH(протокол!Q39,Оргео!F:F,0)) -> Михайловна | E39: =INDEX(Оргео!L:L,MATCH(протокол!Q39,Оргео!F:F,0)) -> 39991 | F39: =INDEX(мандатка!I:I,MATCH(протокол!Q39,мандатка!F:F,0)) -> кмс | G39: =INDEX(мандатка!Z:Z,MATCH(протокол!Q39,мандатка!F:F,0)) -> ГБУ ДО «Московская академия современного пятиборья» | H39: =INDEX(ИТОГИ!G:G,MATCH(протокол!Q39,ИТОГИ!E:E,0)) -> 0.0046527778 | I39: =INDEX(ИТОГИ!H:H,MATCH(протокол!Q39,ИТОГИ!E:E,0)) -> (3) | J39: =INDEX(ИТОГИ!I:I,MATCH(протокол!Q39,ИТОГИ!E:E,0)) -> 0.0078703704 | K39: =INDEX(ИТОГИ!J:J,MATCH(протокол!Q39,ИТОГИ!E:E,0)) -> (13) | L39: =H39+J39 -> 0.012523148 | M39: =L39-$L$29 -> 0.0018865741 | N39: =M39/$L$29 -> 0.1773667 | O39: 1р | P39: =INDEX(мандатка!AC:AC,MATCH(протокол!Q39,мандатка!F:F,0)) -> Анисимова Нина Валентиновна | Q39: Морданова Софья | R39: =INDEX(ИТОГИ!K:K,MATCH(протокол!Q39,ИТОГИ!E:E,0)) -> 0.012523148
A40: 12 | B40: =INDEX(Оргео!C:C,MATCH(протокол!Q40,Оргео!F:F,0)) -> Лабанюк | C40: =INDEX(Оргео!D:D,MATCH(протокол!Q40,Оргео!F:F,0)) -> Анна | D40: =INDEX(Оргео!E:E,MATCH(протокол!Q40,Оргео!F:F,0)) -> Денисовна | E40: =INDEX(Оргео!L:L,MATCH(протокол!Q40,Оргео!F:F,0)) -> 40445 | F40: =INDEX(мандатка!I:I,MATCH(протокол!Q40,мандатка!F:F,0)) -> 1р | G40: =INDEX(мандатка!Z:Z,MATCH(протокол!Q40,мандатка!F:F,0)) -> АНО «ДЮСШ «Акватикс» | H40: =INDEX(ИТОГИ!G:G,MATCH(протокол!Q40,ИТОГИ!E:E,0)) -> 0.0055092593 | I40: =INDEX(ИТОГИ!H:H,MATCH(протокол!Q40,ИТОГИ!E:E,0)) -> (15) | J40: =INDEX(ИТОГИ!I:I,MATCH(протокол!Q40,ИТОГИ!E:E,0)) -> 0.0070833333 | K40: =INDEX(ИТОГИ!J:J,MATCH(протокол!Q40,ИТОГИ!E:E,0)) -> (11) | L40: =H40+J40 -> 0.012592593 | M40: =L40-$L$29 -> 0.0019560185 | N40: =M40/$L$29 -> 0.18389554 | O40: 1р | P40: =INDEX(мандатка!AC:AC,MATCH(протокол!Q40,мандатка!F:F,0)) -> Борисов Евгений Валерьевич, Самсонов Иван Александрович | Q40: Лабанюк Анна | R40: =INDEX(ИТОГИ!K:K,MATCH(протокол!Q40,ИТОГИ!E:E,0)) -> 0.012592593
A41: 13 | B41: =INDEX(Оргео!C:C,MATCH(протокол!Q41,Оргео!F:F,0)) -> Силина | C41: =INDEX(Оргео!D:D,MATCH(протокол!Q41,Оргео!F:F,0)) -> Кира | D41: =INDEX(Оргео!E:E,MATCH(протокол!Q41,Оргео!F:F,0)) -> Олеговна | E41: =INDEX(Оргео!L:L,MATCH(протокол!Q41,Оргео!F:F,0)) -> 40667 | F41: =INDEX(мандатка!I:I,MATCH(протокол!Q41,мандатка!F:F,0)) -> 1р | G41: =INDEX(мандатка!Z:Z,MATCH(протокол!Q41,мандатка!F:F,0)) -> ГБПОУ «МССУОР № 2» Москомспорта | H41: =INDEX(ИТОГИ!G:G,MATCH(протокол!Q41,ИТОГИ!E:E,0)) -> 0.0046643519 | I41: =INDEX(ИТОГИ!H:H,MATCH(протокол!Q41,ИТОГИ!E:E,0)) -> (5) | J41: =INDEX(ИТОГИ!I:I,MATCH(протокол!Q41,ИТОГИ!E:E,0)) -> 0.0083333333 | K41: =INDEX(ИТОГИ!J:J,MATCH(протокол!Q41,ИТОГИ!E:E,0)) -> (14) | L41: =H41+J41 -> 0.012997685 | M41: =L41-$L$29 -> 0.0023611111 | N41: =M41/$L$29 -> 0.22198041 | O41: 1р | P41: =INDEX(мандатка!AC:AC,MATCH(протокол!Q41,мандатка!F:F,0)) -> Семиволос Алексей Юрьевич | Q41: Силина Кира | R41: =INDEX(ИТОГИ!K:K,MATCH(протокол!Q41,ИТОГИ!E:E,0)) -> 0.012997685
A42: н/ф | B42: =INDEX(Оргео!C:C,MATCH(протокол!Q42,Оргео!F:F,0)) -> Маркина | C42: =INDEX(Оргео!D:D,MATCH(протокол!Q42,Оргео!F:F,0)) -> Дарья | D42: =INDEX(Оргео!E:E,MATCH(протокол!Q42,Оргео!F:F,0)) -> Владимировна | E42: =INDEX(Оргео!L:L,MATCH(протокол!Q42,Оргео!F:F,0)) -> 40687 | F42: =INDEX(мандатка!I:I,MATCH(протокол!Q42,мандатка!F:F,0)) -> 1р | G42: =INDEX(мандатка!Z:Z,MATCH(протокол!Q42,мандатка!F:F,0)) -> ГБУ ДО «Московская академия современного пятиборья» | H42: =INDEX(ИТОГИ!G:G,MATCH(протокол!Q42,ИТОГИ!E:E,0)) -> 0.0047337963 | I42: =INDEX(ИТОГИ!H:H,MATCH(протокол!Q42,ИТОГИ!E:E,0)) -> (8) | J42: =INDEX(ИТОГИ!I:I,MATCH(протокол!Q42,ИТОГИ!E:E,0)) -> сошел | L42: н/ф | P42: =INDEX(мандатка!AC:AC,MATCH(протокол!Q42,мандатка!F:F,0)) -> Васильев Иван Михайлович | Q42: Маркина Дарья
...

Sheet ИТОГИ
A1: Группа | B1: П/п | C1: Место | D1: № | E1: Фамилия, имя | F1: Команда | G1: SWIM | I1: RUN | K1: FINISH | L1: Отставан
A2: Д14 | B2: 1 | C2: 1 | D2: 1441 | E2: Петровская Анастасия | F2: ГБОУ ДО МАСП | G2: 0.0048032407 | H2: =CONCATENATE("(",RANK(G2,$G$2:$G$11,1),")") -> (2) | I2: =K2-G2 -> 0.0057175926 | J2: =CONCATENATE("(",RANK(I2,$I$2:$I$11,1),")") -> (1) | K2: 0.010520833 | L2: +00:00
A3: Д14 | B3: 2 | C3: 2 | D3: 147 | E3: Давыдова Екатерина | F3: ГБОУ ДО МАСП | G3: 0.0051157407 | H3: =CONCATENATE("(",RANK(G3,$G$2:$G$11,1),")") -> (5) | I3: =K3-G3 -> 0.0064583333 | J3: =CONCATENATE("(",RANK(I3,$I$2:$I$11,1),")") -> (2) | K3: 0.011574074 | L3: +01:31
A4: Д14 | B4: 3 | C4: 3 | D4: 146 | E4: Буханова Диана | F4: ГБОУ ДО МАСП | G4: 0.0045023148 | H4: =CONCATENATE("(",RANK(G4,$G$2:$G$11,1),")") -> (1) | I4: =K4-G4 -> 0.0071990741 | J4: =CONCATENATE("(",RANK(I4,$I$2:$I$11,1),")") -> (7) | K4: 0.011701389 | L4: +01:42
A5: Д14 | B5: 4 | C5: 4 | D5: 145 | E5: Рогожина Дарья | F5: МССУОР№2 | G5: 0.0049768519 | H5: =CONCATENATE("(",RANK(G5,$G$2:$G$11,1),")") -> (3) | I5: =K5-G5 -> 0.0068171296 | J5: =CONCATENATE("(",RANK(I5,$I$2:$I$11,1),")") -> (3) | K5: 0.011793981 | L5: +01:50
A6: Д14 | B6: 5 | C6: 5 | D6: 149 | E6: Петрова Полина | F6: ГБОУ ДО МАСП | G6: 0.0050231481 | H6: =CONCATENATE("(",RANK(G6,$G$2:$G$11,1),")") -> (4) | I6: =K6-G6 -> 0.0070949074 | J6: =CONCATENATE("(",RANK(I6,$I$2:$I$11,1),")") -> (6) | K6: 0.012118056 | L6: +02:18
A7: Д14 | B7: 6 | C7: 6 | D7: 150 | E7: Сомова Алиса | F7: ДЮСШ "АКВАТИКС" | G7: 0.0052546296 | H7: =CONCATENATE("(",RANK(G7,$G$2:$G$11,1),")") -> (7) | I7: =K7-G7 -> 0.0069328704 | J7: =CONCATENATE("(",RANK(I7,$I$2:$I$11,1),")") -> (4) | K7: 0.0121875 | L7: +02:24
A8: Д14 | B8: 7 | C8: 7 | D8: 148 | E8: Жевагина Виктория | F8: МССУОР№2 | G8: 0.0052430556 | H8: =CONCATENATE("(",RANK(G8,$G$2:$G$11,1),")") -> (6) | I8: =K8-G8 -> 0.0072569444 | J8: =CONCATENATE("(",RANK(I8,$I$2:$I$11,1),")") -> (8) | K8: 0.0125 | L8: +02:51
A9: Д14 | B9: 8 | C9: 8 | D9: 1431 | E9: Ланцова Мария | F9: Акватикс | G9: 0.0056365741 | H9: =CONCATENATE("(",RANK(G9,$G$2:$G$11,1),")") -> (8) | I9: =K9-G9 -> 0.0069560185 | J9: =CONCATENATE("(",RANK(I9,$I$2:$I$11,1),")") -> (5) | K9: 0.012592593 | L9: +02:59
A10: Д14 | B10: 9 | C10: 9 | D10: 1421 | E10: Жаринова Анна | F10: МССУОР№2 | G10: 0.0056597222 | H10: =CONCATENATE("(",RANK(G10,$G$2:$G$11,1),")") -> (9) | I10: =K10-G10 -> 0.0073611111 | J10: =CONCATENATE("(",RANK(I10,$I$2:$I$11,1),")") -> (9) | K10: 0.013020833 | L10: +03:36
A11: Д14 | B11: 10 | C11: 10 | D11: 1411 | E11: Украинцева Софья | F11: Акватикс | G11: 0.0057986111 | H11: =CONCATENATE("(",RANK(G11,$G$11:$G$26,1),")") -> (16) | I11: =K11-G11 -> 0.0077083333 | J11: =CONCATENATE("(",RANK(I11,$I$11:$I$26,1),")") -> (12) | K11: 0.013506944 | L11: +04:18
A12: Д17 | B12: 1 | C12: 1 | D12: 1341 | E12: КлючарЁва Иоанна | F12: ГБОУ ДО МАСП | G12: 0.0045486111 | H12: =CONCATENATE("(",RANK(G12,$G$11:$G$26,1),")") -> (1) | I12: =K12-G12 -> 0.006087963 | J12: =CONCATENATE("(",RANK(I12,$I$11:$I$26,1),")") -> (1) | K12: 0.010636574 | L12: +00:00
A13: Д17 | B13: 2 | C13: 2 | D13: 1291 | E13: Титова Алина | F13: ГБОУ ДО МАСП | G13: 0.0046180556 | H13: =CONCATENATE("(",RANK(G13,$G$11:$G$26,1),")") -> (2) | I13: =K13-G13 -> 0.0062847222 | J13: =CONCATENATE("(",RANK(I13,$I$11:$I$26,1),")") -> (3) | K13: 0.010902778 | L13: +00:23
A14: Д17 | B14: 3 | C14: 3 | D14: 1391 | E14: Длютрова Ульяна | F14: МССУОР№2 | G14: 0.0046643519 | H14: =CONCATENATE("(",RANK(G14,$G$11:$G$26,1),")") -> (5) | I14: =K14-G14 -> 0.0062962963 | J14: =CONCATENATE("(",RANK(I14,$I$11:$I$26,1),")") -> (4) | K14: 0.010960648 | L14: +00:28
A15: Д17 | B15: 4 | C15: 4 | D15: 1331 | E15: Корюкалова Ева | F15: МССУОР№2 | G15: 0.0049768519 | H15: =CONCATENATE("(",RANK(G15,$G$11:$G$26,1),")") -> (12) | I15: =K15-G15 -> 0.0061921296 | J15: =CONCATENATE("(",RANK(I15,$I$11:$I$26,1),")") -> (2) | K15: 0.011168981 | L15: +00:46
A16: Д17 | B16: 5 | C16: 5 | D16: 1281 | E16: Семенова Юлия | F16: ГБОУ ДО МАСП | G16: 0.0047222222 | H16: =CONCATENATE("(",RANK(G16,$G$11:$G$26,1),")") -> (7) | I16: =K16-G16 -> 0.0065046296 | J16: =CONCATENATE("(",RANK(I16,$I$11:$I$26,1),")") -> (5) | K16: 0.011226852 | L16: +00:51
A17: Д17 | B17: 6 | C17: 6 | D17: 1401 | E17: Куфман Варвара | F17: ГБПОУ "МССУОР №2" | G17: 0.0047916667 | H17: =CONCATENATE("(",RANK(G17,$G$11:$G$26,1),")") -> (11) | I17: =K17-G17 -> 0.0065509259 | J17: =CONCATENATE("(",RANK(I17,$I$11:$I$26,1),")") -> (6) | K17: 0.011342593 | L17: +01:01
A18: Д17 | B18: 7 | C18: 7 | D18: 1371 | E18: Дащенко Элина | F18: МССУОР№2 | G18: 0.0046527778 | H18: =CONCATENATE("(",RANK(G18,$G$11:$G$26,1),")") -> (3) | I18: =K18-G18 -> 0.0069212963 | J18: =CONCATENATE("(",RANK(I18,$I$11:$I$26,1),")") -> (10) | K18: 0.011574074 | L18: +01:21
A19: Д17 | B19: 8 | C19: 8 | D19: 1321 | E19: Пронюк Анастасия | F19: ГБОУ ДО "МАСП" | G19: 0.0047337963 | H19: =CONCATENATE("(",RANK(G19,$G$11:$G$26,1),")") -> (8) | I19: =K19-G19 -> 0.0069212963 | J19: =CONCATENATE("(",RANK(I19,$I$11:$I$26,1),")") -> (9) | K19: 0.011655093 | L19: +01:28
A20: Д17 | B20: 9 | C20: 9 | D20: 1301 | E20: Филина Анна | F20: ГБОУ ДО МАСП | G20: 0.0050347222 | H20: =CONCATENATE("(",RANK(G20,$G$11:$G$26,1),")") -> (13) | I20: =K20-G20 -> 0.0067708333 | J20: =CONCATENATE("(",RANK(I20,$I$11:$I$26,1),")") -> (8) | K20: 0.011805556 | L20: +01:41
A21: Д17 | B21: 10 | C21: 10 | D21: 1351 | E21: Игошина Дарина | F21: МССУОР№2 | G21: 0.0054398148 | H21: =CONCATENATE("(",RANK(G21,$G$11:$G$26,1),")") -> (14) | I21: =K21-G21 -> 0.0066087963 | J21: =CONCATENATE("(",RANK(I21,$I$11:$I$26,1),")") -> (7) | K21: 0.012048611 | L21: +02:02
A22: Д17 | B22: 11 | C22: 11 | D22: 1311 | E22: Морданова Софья | F22: ГБОУ ДО "МАСП" | G22: 0.0046527778 | H22: =CONCATENATE("(",RANK(G22,$G$11:$G$26,1),")") -> (3) | I22: =K22-G22 -> 0.0078703704 | J22: =CONCATENATE("(",RANK(I22,$I$11:$I$26,1),")") -> (13) | K22: 0.012523148 | L22: +02:43
... A24: Д17 | B24: 13 | C24: 13 | D24: 1361 | E24: Силина Кира | F24: МССУОР№2 | G24: 0.0046643519 | H24: =CONCATENATE("(",RANK(G24,$G$11:$G$26,1),")") -> (5) | I24: =K24-G24 -> 0.0083333333 | J24: =CONCATENATE("(",RANK(I24,$I$11:$I$26,1),")") -> (14) | K24: 0.012997685 | L24: +03:24
A25: Д17 | B25: 14 | D25: 22 | E25: Маркина Дарья | F25: ГБОУ ДО МАСП | G25: 0.0047337963 | H25: =CONCATENATE("(",RANK(G25,$G$11:$G$26,1),")") -> (8) | I25: сошел | K25: н/ф
A26: Д17 | B26: 15 | D26: 16 | E26: Зовская Софья | F26: ГБОУ ДО "МАСП" | G26: 0.0047685185 | H26: =CONCATENATE("(",RANK(G26,$G$11:$G$26,1),")") -> (10) | I26: сошел | K26: н/ф
A27: М14 | B27: 1 | C27: 1 | D27: 69 | E27: Медведев Антон | F27: ГБПОУ "МССУОР №2" | G27: 0.0040740741 | H27: =CONCATENATE("(",RANK(G27,$G$27:$G$51,1),")") -> (1) | I27: =K27-G27 -> 0.0056018519 | J27: =CONCATENATE("(",RANK(I27,$I$27:$I$51,1),")") -> (1) | K27: 0.0096759259 | L27: +00:00
A28: М14 | B28: 2 | C28: 2 | D28: 51 | E28: Акиньшин Платон | F28: ГБОУ ДО МАСП | G28: 0.0041550926 | H28: =CONCATENATE("(",RANK(G28,$G$27:$G$51,1),")") -> (2) | I28: =K28-G28 -> 0.0056597222 | J28: =CONCATENATE("(",RANK(I28,$I$27:$I$51,1),")") -> (2) | K28: 0.0098148148 | L28: +00:12
A29: М14 | B29: 3 | C29: 3 | D29: 52 | E29: Бобков Игорь | F29: ГБОУ ДО МАСП | G29: 0.0043402778 | H29: =CONCATENATE("(",RANK(G29,$G$27:$G$51,1),")") -> (4) | I29: =K29-G29 -> 0.0056828704 | J29: =CONCATENATE("(",RANK(I29,$I$27:$I$51,1),")") -> (3) | K29: 0.010023148 | L29: +00:30
A30: М14 | B30: 4 | C30: 4 | D30: 77 | E30: Харин Тимур | F30: ГБОУ ДО МАСП | G30: 0.0043287037 | H30: =CONCATENATE("(",RANK(G30,$G$27:$G$51,1),")") -> (3) | I30: =K30-G30 -> 0.0058680556 | J30: =CONCATENATE("(",RANK(I30,$I$27:$I$51,1),")") -> (6) | K30: 0.010196759 | L30: +00:45
A31: М14 | B31: 5 | C31: 5 | D31: 63 | E31: Красников Лев | F31: ДЮСШ "АКВАТИКС" | G31: 0.0046875 | H31: =CONCATENATE("(",RANK(G31,$G$27:$G$51,1),")") -> (8) | I31: =K31-G31 -> 0.0058564815 | J31: =CONCATENATE("(",RANK(I31,$I$27:$I$51,1),")") -> (5) | K31: 0.010543981 | L31: +01:15
A32: М14 | B32: 6 | C32: 6 | D32: 73 | E32: Рогожин Дмитрий | F32: МССУОР№2 | G32: 0.0046643519 | H32: =CONCATENATE("(",RANK(G32,$G$27:$G$51,1),")") -> (7) | I32: =K32-G32 -> 0.0060300926 | J32: =CONCATENATE("(",RANK(I32,$I$27:$I$51,1),")") -> (11) | K32: 0.010694444 | L32: +01:28
A33: М14 | B33: 7 | C33: 7 | D33: 691 | E33: Шевяков Артем | F33: ДЮСШ "АКВАТИКС" | G33: 0.0048842593 | H33: =CONCATENATE("(",RANK(G33,$G$27:$G$51,1),")") -> (15) | I33: =K33-G33 -> 0.0058912037 | J33: =CONCATENATE("(",RANK(I33,$I$27:$I$51,1),")") -> (7) | K33: 0.010775463 | L33: +01:35
A34: М14 | B34: 8 | C34: 8 | D34: 751 | E34: Воловик Степан | F34: ГБОУ ДО МАСП | G34: 0.0048032407 | H34: =CONCATENATE("(",RANK(G34,$G$27:$G$51,1),")") -> (11) | I34: =K34-G34 -> 0.0059953704 | J34: =CONCATENATE("(",RANK(I34,$I$27:$I$51,1),")") -> (10) | K34: 0.010798611 | L34: +01:37
A35: М14 | B35: 9 | C35: 9 | D35: 721 | E35: Комлик Тимофей | F35: МССУОР№2 | G35: 0.0051041667 | H35: =CONCATENATE("(",RANK(G35,$G$27:$G$51,1),")") -> (17) | I35: =K35-G35 -> 0.0059953704 | J35: =CONCATENATE("(",RANK(I35,$I$27:$I$51,1),")") -> (9) | K35: 0.011099537 | L35: +02:03
A36: М14 | B36: 10 | C36: 10 | D36: 681 | E36: Лукьянов Артем | F36: ДЮСШ "АКВАТИКС" | G36: 0.0051273148 | H36: =CONCATENATE("(",RANK(G36,$G$27:$G$51,1),")") -> (20) | I36: =K36-G36 -> 0.0059837963 | J36: =CONCATENATE("(",RANK(I36,$I$27:$I$51,1),")") -> (8) | K36: 0.011111111 | L36: +02:04
A37: М14 | B37: 11 | C37: 11 | D37: 55 | E37: Диденко Александр | F37: ГБОУ ДО МАСП | G37: 0.0044791667 | H37: =CONCATENATE("(",RANK(G37,$G$27:$G$51,1),")") -> (5) | I37: =K37-G37 -> 0.0066898148 | J37: =CONCATENATE("(",RANK(I37,$I$27:$I$51,1),")") -> (16) | K37: 0.011168981 | L37: +02:09
A38: М14 | B38: 12 | C38: 12 | D38: 58 | E38: Ершов Антон | F38: ГБОУ ДО МАСП | G38: 0.0047569444 | H38: =CONCATENATE("(",RANK(G38,$G$27:$G$51,1),")") -> (9) | I38: =K38-G38 -> 0.0064351852 | J38: =CONCATENATE("(",RANK(I38,$I$27:$I$51,1),")") -> (15) | K38: 0.01119213 | L38: +02:11
... A51: М14 | B51: 25 | C51: 25 | D51: 651 | E51: Минажетдинов Руслан | F51: ГБОУ ДО МАСП | G51: 0.0064351852 | H51: =CONCATENATE("(",RANK(G51,$G$27:$G$51,1),")") -> (25) | I51: =K51-G51 -> 0.0069444444 | J51: =CONCATENATE("(",RANK(I51,$I$27:$I$51,1),")") -> (23) | K51: 0.01337963 | L51: +05:20
A52: М17 | B52: 1 | C52: 1 | D52: 80 | E52: Арстамян Глеб | F52: МССУОР№2 | G52: 0.003912037 | H52: =CONCATENATE("(",RANK(G52,$G$52:$G$80,1),")") -> (2) | I52: =K52-G52 -> 0.0053935185 | J52: =CONCATENATE("(",RANK(I52,$I$52:$I$80,1),")") -> (5) | K52: 0.0093055556 | L52: +00:00
A53: М17 | B53: 2 в/к | C53: 2 в/к | D53: 90 | E53: Задаура Дмитрий | F53: Нижний Новгород, лично | G53: 0.0041087963 | H53: =CONCATENATE("(",RANK(G53,$G$52:$G$80,1),")") -> (3) | I53: =K53-G53 -> 0.0053240741 | J53: =CONCATENATE("(",RANK(I53,$I$52:$I$80,1),")") -> (2) | K53: 0.0094328704 | L53: +00:11
...

Sheet Оргео
A1: Группа | B1: Пол | C1: Фамилия | D1: Имя | E1: Отчество | F1: ФИ | G1: Команда | H1: Код | I1: Регион | J1: Квал. SFR | K1: Квал. | L1: Дата рожд. | M1: ГР | N1: Примечания | O1: Кем подана | P1: Телефон | Q1: E-mail | R1: Номер заявки | S1: Время подачи | T1: Вошел по ссылке
A2: Д14 | B2: Ж | C2: Буханова | D2: Диана | E2: Дмитриевна | F2: Буханова Диана | G2: ГБОУ ДО МАСП | H2: 77 | I2: Москва | J2: 1ю | K2: Iю | L2: 41282 | M2: 2013 | N2: 1,3 06:20,0 | O2: Багазеев Александр | P2: 79776219848 | Q2: bagazeev2000@mail.ru | R2: 1777882 | S2: 46056.626 | T2: https://orgeo.ru/event/info/49610
A3: Д14 | B3: Ж | C3: Гордон | D3: Екатерина | E3: Андреевна | F3: Гордон Екатерина | G3: ГБОУ ДО МАСП | H3: 77 | I3: Москва | J3: 2ю | K3: IIю | L3: 41187 | M3: 2012 | N3: 1,3 6.25 в/к | O3: Багазеев Александр | P3: 79776219848 | Q3: bagazeev2000@mail.ru | R3: 1798705 | S3: 46073.683 | T3: https://orgeo.ru/event/index/type/triathlon/region/moscow/no_national/1?search=
A4: Д14 | B4: Ж | C4: Давыдова | D4: Екатерина | E4: Витальевна | F4: Давыдова Екатерина | G4: ГБОУ ДО МАСП | H4: 77 | I4: Москва | J4: кмс | K4: КМС | L4: 41151 | M4: 2012 | N4: 1,3 07:10,0 | O4: Багазеев Александр | P4: 79776219848 | Q4: bagazeev2000@mail.ru | R4: 1777882 | S4: 46056.626 | T4: https://orgeo.ru/event/info/49610
A5: Д14 | B5: Ж | C5: Жаринова | D5: Анна | E5: Владимировна | F5: Жаринова Анна | G5: МССУОР№2 | H5: 77 | I5: Москва | J5: 1ю | K5: Iю | L5: 41557 | M5: 2013 | N5: 1,3 08:30,4 | O5: Москвы Федерация Триатлона | P5: 79851480905 | Q5: tri@butkova.ru | R5: 1777766 | S5: 46056.584 | T5: https://orgeo.ru/event/update/49610/step/information/tab/info
A6: Д14 | B6: Ж | C6: Жевагина | D6: Виктория | E6: Михайловна | F6: Жевагина Виктория | G6: МССУОР№2 | H6: 77 | I6: Москва | J6: 2р | K6: II | L6: 41135 | M6: 2012 | N6: 1,3 07:30 | O6: Москвы Федерация Триатлона | P6: 79851480905 | Q6: tri@butkova.ru | R6: 1777766 | S6: 46056.584 | T6: https://orgeo.ru/event/update/49610/step/information/tab/info
A7: Д14 | B7: Ж | C7: Константинова | D7: Кристина | E7: Антоновна | F7: Константинова Кристина | G7: ГБПОУ 'МССУОР №2' | H7: 77 | I7: Москва | J7: 1ю | K7: Iю | L7: 41595 | M7: 2013 | N7: 06:50,0 | O7: Константинов Антон | P7: 79871372471 | Q7: antonkonstantinov@yandex.ru | R7: 1777599 | S7: 46056.523 | T7: https://orgeo.ru/event/info/49610
A8: Д14 | B8: Ж | C8: Ланцова | D8: Мария | E8: Андреевна | F8: Ланцова Мария | G8: Акватикс | H8: 77 | I8: Москва | J8: 1р | K8: I | L8: 41583 | M8: 2013 | N8: 1.3 | O8: Ланцова Мария | P8: 79150811129 | Q8: nataly280874N@yandex.ru | R8: 1783738 | S8: 46059.662 | T8: https://www.google.com
A9: Д14 | B9: Ж | C9: Петрова | D9: Полина | E9: Сергеевна | F9: Петрова Полина | G9: ГБОУ ДО МАСП | H9: 77 | I9: Москва | J9: 2р | K9: II | L9: 41175 | M9: 2012 | O9: Vasilyev Ivan | P9: 79012768676 | Q9: vantej_tri2000@mail.ru | R9: 1782466 | S9: 46058.837 | T9: https://orgeo.ru/event/info/49610
A10: Д14 | B10: Ж | C10: Петровская | D10: Анастасия | E10: Романовна | F10: Петровская Анастасия | G10: ГБОУ ДО МАСП | H10: 77 | I10: Москва | J10: 1р | K10: I | L10: 41541 | M10: 2013 | O10: Vasilyev Ivan | P10: 79012768676 | Q10: vantej_tri2000@mail.ru | R10: 1782466 | S10: 46058.837 | T10: https://orgeo.ru/event/info/49610
A11: Д14 | B11: Ж | C11: Рогожина | D11: Дарья | E11: Антоновна | F11: Рогожина Дарья | G11: МССУОР№2 | H11: 77 | I11: Москва | J11: 1р | K11: I | L11: 41323 | M11: 2013 | N11: 1,3 06:50,0 | O11: Москвы Федерация Триатлона | P11: 79851480905 | Q11: tri@butkova.ru | R11: 1777766 | S11: 46056.584 | T11: https://orgeo.ru/event/update/49610/step/information/tab/info
A12: Д14 | B12: Ж | C12: Рубченко | D12: Виктория | E12: Владимировна | F12: Рубченко Виктория | G12: СШОР ТЕМП | H12: 76 | I12: Ярославская обл. | J12: 1р | K12: I | L12: 41601 | M12: 2013 | N12: 1,3 06:15,0 в/к | O12: Алиева Мария | P12: 79206505071 | Q12: rybinskbassein@yandex.ru | R12: 1778460 | S12: 46056.896 | T12: https://orgeo.ru/event/index?search=%D0%B0%D0%BA%D0%B2%D0%B0%D1%82%D0%BB%D0%BE%D0%BD
A13: Д14 | B13: Ж | C13: Сомова | D13: Алиса | E13: Евгеньевна | F13: Сомова Алиса | G13: ДЮСШ 'АКВАТИКС' | H13: 77 | I13: Москва | J13: 1р | K13: I | L13: 41617 | M13: 2013 | N13: 1,3 08:12,0 | O13: Сомова Алиса | P13: 79175876973 | Q13: Katerinav5@yandex.ru | R13: 1777336 | S13: 46056.429 | T13: https://orgeo.ru/event/49610
A14: Д14 | B14: Ж | C14: Украинцева | D14: Софья | E14: Романовна | F14: Украинцева Софья | G14: Акватикс | H14: 77 | I14: Москва | J14: 2р | K14: II | L14: 41525 | M14: 2013 | N14: 1.3 | O14: Ланцова Мария | P14: 79150811129 | Q14: nataly280874N@yandex.ru | R14: 1783738 | S14: 46059.662 | T14: https://www.google.com
A15: Д17 | B15: Ж | C15: Дащенко | D15: Элина | E15: Андреевна | F15: Дащенко Элина | G15: МССУОР№2 | H15: 77 | I15: Москва | J15: кмс | K15: КМС | L15: 40240 | M15: 2010 | N15: 1,3 06:40,0 | O15: Москвы Федерация Триатлона | P15: 79851480905 | Q15: tri@butkova.ru | R15: 1777766 | S15: 46056.584 | T15: https://orgeo.ru/event/update/49610/step/information/tab/info
A16: Д17 | B16: Ж | C16: Длютрова | D16: Ульяна | E16: Юрьевна | F16: Длютрова Ульяна | G16: МССУОР№2 | H16: 77 | I16: Москва | J16: кмс | K16: КМС | L16: 40717 | M16: 2011 | N16: 1,3 07:01,1 | O16: Москвы Федерация Триатлона | P16: 79851480905 | Q16: tri@butkova.ru | R16: 1777766 | S16: 46056.584 | T16: https://orgeo.ru/event/update/49610/step/information/tab/info
A17: Д17 | B17: Ж | C17: Зовская | D17: Софья | E17: Дмитриевна | F17: Зовская Софья | G17: ГБОУ ДО 'МАСП' | H17: 77 | I17: Москва | J17: кмс | K17: КМС | L17: 40079 | M17: 2009 | N17: 1,3 06:45,0 | O17: Анисимова Нина | P17: 79268301834 | Q17: planeta7373@yandex.ru | R17: 1777615 | S17: 46056.527 | T17: https://orgeo.ru/event/index/region/moscow/no_national/1?search=
A18: Д17 | B18: Ж | C18: Игошина | D18: Дарина | E18: Алексеевна | F18: Игошина Дарина | G18: МССУОР№2 | H18: 77 | I18: Москва | J18: 1р | K18: I | L18: 40375 | M18: 2010 | N18: 1,3 08:12,7 | O18: Москвы Федерация Триатлона | P18: 79851480905 | Q18: tri@butkova.ru | R18: 1777766 | S18: 46056.584 | T18: https://orgeo.ru/event/update/49610/step/information/tab/info
A19: Д17 | B19: Ж | C19: Ключарёва | D19: Иоанна | E19: Олеговна | F19: Ключарёва Иоанна | G19: ГБОУ ДО МАСП | H19: 77 | I19: Москва | J19: кмс | K19: КМС | L19: 40717 | M19: 2011 | N19: 1,3 06:15,0 | O19: Багазеев Александр | P19: 79776219848 | Q19: bagazeev2000@mail.ru | R19: 1777882 | S19: 46056.626 | T19: https://orgeo.ru/event/info/49610
A20: Д17 | B20: Ж | C20: Корюкалова | D20: Ева | E20: Станиславовна | F20: Корюкалова Ева | G20: МССУОР№2 | H20: 77 | I20: Москва | J20: кмс | K20: КМС | L20: 39837 | M20: 2009 | N20: 1,3 06:45,0 | O20: Москвы Федерация Триатлона | P20: 79851480905 | Q20: tri@butkova.ru | R20: 1777766 | S20: 46056.584 | T20: https://orgeo.ru/event/update/49610/step/information/tab/info
A21: Д17 | B21: Ж | C21: Куфман | D21: Варвара | E21: Ильинична | F21: Куфман Варвара | G21: ГБПОУ 'МССУОР №2' | H21: 77 | I21: Москва | J21: кмс | K21: КМС | L21: 40223 | M21: 2010 | N21: 06:50,0 | O21: Оля Оля | P21: 79379178587 | Q21: olgaravaeva@yandex.ru | R21: 1778231 | S21: 46056.804 | T21: https://orgeo.ru/event/index/type/triathlon?search=
A22: Д17 | B22: Ж | C22: Лабанюк | D22: Анна | E22: Денисовна | F22: Лабанюк Анна | G22: ДЮСШ 'АКВАТИКС' | H22: 77 | I22: Москва | J22: 1р | K22: I | L22: 40445 | M22: 2010 | N22: 08:33,4 | O22: Labaniuc Natalia | P22: 79647298765 | Q22: Labaniucn@mail.ru | R22: 1777786 | S22: 46056.592 | T22: https://orgeo.ru/event/49610
A23: Д17 | B23: Ж | C23: Маркина | D23: Дарья | E23: Владимировна | F23: Маркина Дарья | G23: ГБОУ ДО МАСП | H23: 77 | I23: Москва | J23: 1р | K23: I | L23: 40687 | M23: 2011 | O23: Vasilyev Ivan | P23: 79012768676 | Q23: vantej_tri2000@mail.ru | R23: 1782466 | S23: 46058.837 | T23: https://orgeo.ru/event/info/49610
A24: Д17 | B24: Ж | C24: Морданова | D24: Софья | E24: Михайловна | F24: Морданова Софья | G24: ГБОУ ДО 'МАСП' | H24: 77 | I24: Москва | J24: кмс | K24: КМС | L24: 39991 | M24: 2009 | N24: 1,3 06:38,5 | O24: Анисимова Нина | P24: 79268301834 | Q24: planeta7373@yandex.ru | R24: 1777615 | S24: 46056.527 | T24: https://orgeo.ru/event/index/region/moscow/no_national/1?search=
A25: Д17 | B25: Ж | C25: Овчинникова | D25: Виктория | E25: Николаевна | F25: Овчинникова Виктория | G25: ДЮСШ 'АКВАТИКС' | H25: 77 | I25: Москва | J25: кмс | K25: КМС | L25: 40353 | M25: 2010 | N25: 07:00,0 | O25: Овчинникова Виктория | P25: 79202782345 | Q25: o.l.volodina@mail.ru | R25: 1777438 | S25: 46056.466 | T25: https://orgeo.ru/event/49610
A26: Д17 | B26: Ж | C26: Покрамович | D26: Мария | E26: Дмитриевна | F26: Покрамович Мария | G26: ДЮСШ 'Акватикс' | H26: 77 | I26: Москва | J26: кмс | K26: КМС | L26: 40249 | M26: 2010 | O26: Покрамович Дмитрий | P26: 79268886363 | Q26: Linch911@gmail.com | R26: 1786822 | S26: 46062.927 | T26: https://orgeo.ru/user/auth?back=https%3A%2F%2Forgeo.ru%2Fevent%2F49610
A27: Д17 | B27: Ж | C27: Пронюк | D27: Анастасия | E27: Вячеславовна | F27: Пронюк Анастасия | G27: ГБОУ ДО 'МАСП' | H27: 77 | I27: Москва | J27: кмс | K27: КМС | L27: 40183 | M27: 2010 | N27: 1,3 06:47,0 | O27: Анисимова Нина | P27: 79268301834 | Q27: planeta7373@yandex.ru | R27: 1777615 | S27: 46056.527 | T27: https://orgeo.ru/event/index/region/moscow/no_national/1?search=
A28: Д17 | B28: Ж | C28: Семенова | D28: Юлия | E28: Олеговна | F28: Семенова Юлия | G28: ГБОУ ДО МАСП | H28: 77 | I28: Москва | J28: кмс | K28: КМС | L28: 40725 | M28: 2011 | N28: 1,3 06:25,0 | O28: Багазеев Александр | P28: 79776219848 | Q28: bagazeev2000@mail.ru | R28: 1777882 | S28: 46056.626 | T28: https://orgeo.ru/event/info/49610
A29: Д17 | B29: Ж | C29: Силантьева | D29: София | E29: Сергеевна | F29: Силантьева София | G29: МССУОР№2 | H29: 77 | I29: Москва | J29: кмс | K29: КМС | L29: 40039 | M29: 2009 | N29: 1,3 06:50,0 | O29: Москвы Федерация Триатлона | P29: 79851480905 | Q29: tri@butkova.ru | R29: 1777766 | S29: 46056.584 | T29: https://orgeo.ru/event/update/49610/step/information/tab/info
A30: Д17 | B30: Ж | C30: Силина | D30: Кира | E30: Олеговна | F30: Силина Кира | G30: МССУОР№2 | H30: 77 | I30: Москва | J30: 1р | K30: I | L30: 40667 | M30: 2011 | N30: 1,3 06:54,7 | O30: Москвы Федерация Триатлона | P30: 79851480905 | Q30: tri@butkova.ru | R30: 1777766 | S30: 46056.584 | T30: https://orgeo.ru/event/update/49610/step/information/tab/info
A31: Д17 | B31: Ж | C31: Сяйлева | D31: Елизавета | E31: Вячеславовна | F31: Сяйлева Елизавета | G31: ГБПОУ 'МССУОР №2' | H31: 77 | I31: Москва | J31: кмс | K31: КМС | L31: 40046 | M31: 2009 | N31: 06:36,0 | O31: Оля Оля | P31: 79379178587 | Q31: olgaravaeva@yandex.ru | R31: 1778231 | S31: 46056.804 | T31: https://orgeo.ru/event/index/type/triathlon?search=
A32: Д17 | B32: Ж | C32: Типалова | D32: Ева | E32: Максимовна | F32: Типалова Ева | G32: МССУОР№2 | H32: 77 | I32: Москва | J32: 1р | K32: I | L32: 40607 | M32: 2011 | N32: 1,3 07:00,0 | O32: Москвы Федерация Триатлона | P32: 79851480905 | Q32: tri@butkova.ru | R32: 1777766 | S32: 46056.584 | T32: https://orgeo.ru/event/update/49610/step/information/tab/info
A33: Д17 | B33: Ж | C33: Титова | D33: Алина | E33: Павловна | F33: Титова Алина | G33: ГБОУ ДО МАСП | H33: 77 | I33: Москва | J33: кмс | K33: КМС | L33: 40701 | M33: 2011 | N33: 1,3 06:20,0 | O33: Багазеев Александр | P33: 79776219848 | Q33: bagazeev2000@mail.ru | R33: 1777882 | S33: 46056.626 | T33: https://orgeo.ru/event/info/49610
A34: Д17 | B34: Ж | C34: Филина | D34: Анна | E34: Дмитриевна | F34: Филина Анна | G34: ГБОУ ДО МАСП | H34: 77 | I34: Москва | J34: кмс | K34: КМС | L34: 40675 | M34: 2011 | O34: Vasilyev Ivan | P34: 79012768676 | Q34: vantej_tri2000@mail.ru | R34: 1782466 | S34: 46058.837 | T34: https://orgeo.ru/event/info/49610
A35: Д19 | B35: Ж | C35: Аниканова | D35: Станислава | E35: Игоревна | F35: Аниканова Станислава | G35: ГБОУ ДО МАСП | H35: 77 | I35: Москва | J35: 1р | K35: I | L35: 40140 | M35: 2009 | O35: Vasilyev Ivan | P35: 79012768676 | Q35: vantej_tri2000@mail.ru | R35: 1782466 | S35: 46058.837 | T35: https://orgeo.ru/event/info/49610
A36: Д19 | B36: Ж | C36: Бакалкина | D36: Маргарита | E36: Евгеньевна | F36: Бакалкина Маргарита | G36: ГБОУ ДО МАСП | H36: 77 | I36: Москва | J36: кмс | K36: КМС | L36: 39409 | M36: 2007 | N36: 2,4 12:45,0 | O36: Багазеев Александр | P36: 79776219848 | Q36: bagazeev2000@mail.ru | R36: 1777882 | S36: 46056.626 | T36: https://orgeo.ru/event/info/49610
A37: Д19 | B37: Ж | C37: Бальзовская | D37: Елизавета | E37: Максимовна | F37: Бальзовская Елизавета | G37: МССУОР№2 | H37: 77 | I37: Москва | J37: кмс | K37: КМС | L37: 39803 | M37: 2008 | N37: 2,4 15:10,0 | O37: Москвы Федерация Триатлона | P37: 79851480905 | Q37: tri@butkova.ru | R37: 1777766 | S37: 46056.584 | T37: https://orgeo.ru/event/update/49610/step/information/tab/info
A38: Д19 | B38: Ж | C38: Берладир | D38: Ярослава | E38: Игоревна | F38: Берладир Ярослава | G38: МССУОР№2 | H38: 77 | I38: Москва | J38: кмс | K38: КМС | L38: 39308 | M38: 2007 | N38: 2,4 13:00,0 | O38: Москвы Федерация Триатлона | P38: 79851480905 | Q38: tri@butkova.ru | R38: 1777766 | S38: 46056.584 | T38: https://orgeo.ru/event/update/49610/step/information/tab/info
A39: Д19 | B39: Ж | C39: Буданок | D39: Екатерина | E39: Кирилловна | F39: Буданок Екатерина | G39: ГБПОУ 'МССУОР №2' | H39: 77 | I39: Москва | J39: кмс | K39: КМС | L39: 39791 | M39: 2008 | N39: 12:50,0 | O39: Оля Оля | P39: 79379178587 | Q39: olgaravaeva@yandex.ru | R39: 1778231 | S39: 46056.804 | T39: https://orgeo.ru/event/index/type/triathlon?search=
A40: Д19 | B40: Ж | C40: Городова | D40: Кристина | E40: Вячеславовна | F40: Городова Кристина | G40: ГБОУ ДО МАСП | H40: 77 | I40: Москва | J40: кмс | K40: КМС | L40: 39785 | M40: 2008 | N40: 2,4 13:20,0 | O40: Багазеев Александр | P40: 79776219848 | Q40: bagazeev2000@mail.ru | R40: 1777882 | S40: 46056.626 | T40: https://orgeo.ru/event/info/49610
...

Sheet мандатка
A1: Старт | B1: Заплыв | C1: Дорожка | D1: Группа | E1: Пол | F1: Спортсмен | G1: Предъявить | H1: ГодРожд | I1: Квал. | J1: Команда | K1: Плав | L1: Бег | M1: Примечания | N1: Допуск | O1: ИАС | P1: Страховка_Школа | Q1: ФТР | R1: Паспорт | S1: Разряд | T1: СНИЛС | U1: Полис | V1: Допуск2 | W1: Страховка | X1: РУСАДА | Y1: Разряд3 | Z1: Школа | AA1: Тренер1 | AB1: Тренер2
A2: 13:30 16:00 | B2: Заплыв 1 Забег 1 | C2: 1лев
C3: 1пр
C4: 2лев | D4: Д14 | E4: Ж | F4: Сомова Алиса | H4: 2013 | I4: 1р | J4: АКВАТИКС | M4: 0.0056944444 | N4: 46093 | O4: 1189795 | Q4: 310 | Y4: =INDEX(ИАС!P:P,MATCH(F4,ИАС!E:E,0)) -> 1 спортивный разряд | Z4: АНО «ДЮСШ «Акватикс» | AA4: Борисов Евгений Валерьевич | AB4: Самсонов Иван Александрович | AC4: =IF(AB4="",AA4,CONCATENATE(AA4,", ",AB4)) -> Борисов Евгений Валерьевич, Самсонов Иван Александрович
C5: 2пр | D5: Д14 | E5: Ж | F5: Петрова Полина | H5: 2012 | I5: 1р | J5: МАСП | M5: 0.0051273148 | N5: 11.03.2026 | O5: 1038936 | P5: + | Y5: =INDEX(ИАС!P:P,MATCH(F5,ИАС!E:E,0)) -> 1 спортивный разряд | Z5: ГБУ ДО «Московская академия современного пятиборья» | AA5: Васильев Иван Михайлович | AC5: =IF(AB5="",AA5,CONCATENATE(AA5,", ",AB5)) -> Васильев Иван Михайлович
C6: 3лев | D6: Д14 | E6: Ж | F6: Жевагина Виктория | H6: 2012 | I6: 2р | J6: УОР№2 | M6: 0.0052083333 | N6: 13.01.2027 | O6: 1647658 | P6: + | Y6: =INDEX(ИАС!P:P,MATCH(F6,ИАС!E:E,0)) -> 2 спортивный разряд | Z6: ГБПОУ «МССУОР № 2» Москомспорта | AA6: Семиволос Алексей Юрьевич | AC6: =IF(AB6="",AA6,CONCATENATE(AA6,", ",AB6)) -> Семиволос Алексей Юрьевич
C7: 3пр | D7: Д14 | E7: Ж | F7: Давыдова Екатерина | H7: 2012 | I7: кмс | J7: МАСП | M7: 0.0049768519 | N7: 01.02.2027 | O7: 1036688 | Q7: 325 | Y7: =INDEX(ИАС!P:P,MATCH(F7,ИАС!E:E,0)) -> Кандидат в мастера спорта | Z7: ГБУ ДО «Московская академия современного пятиборья» | AA7: Багазеев Александр Константинович | AC7: =IF(AB7="",AA7,CONCATENATE(AA7,", ",AB7)) -> Багазеев Александр Константинович
C8: 5пр | D8: Д14 | E8: Ж | F8: Ланцова Мария | H8: 2013 | I8: 1р | J8: АКВАТИКС | M8: 0.0054398148 | N8: 46349 | O8: 1589588 | Y8: =INDEX(ИАС!P:P,MATCH(F8,ИАС!E:E,0)) -> 1 спортивный разряд | Z8: АНО «ДЮСШ «Акватикс» | AA8: Борисов Евгений Валерьевич | AB8: Самсонов Иван Александрович | AC8: =IF(AB8="",AA8,CONCATENATE(AA8,", ",AB8)) -> Борисов Евгений Валерьевич, Самсонов Иван Александрович
C9: 4пр | D9: Д14 | E9: Ж | F9: Рогожина Дарья | H9: 2013 | I9: 1р | J9: УОР№2 | M9: 0.0047453704 | N9: 22.06.2026 | O9: 1190379 | Q9: 299 | W9: + | Y9: =INDEX(ИАС!P:P,MATCH(F9,ИАС!E:E,0)) -> 1 спортивный разряд | Z9: ГБПОУ «МССУОР № 2» Москомспорта | AA9: Пахомова Марина Сергеевна | AC9: =IF(AB9="",AA9,CONCATENATE(AA9,", ",AB9)) -> Пахомова Марина Сергеевна
C10: 5лев | D10: Д14 | E10: Ж | F10: Петровская Анастасия | H10: 2013 | I10: 1р | J10: МАСП | M10: 0.0052083333 | N10: 16.09.2026 | O10: 1382436 | Q10: 328 | Y10: =INDEX(ИАС!P:P,MATCH(F10,ИАС!E:E,0)) -> 1 спортивный разряд | Z10: ГБУ ДО «Московская академия современного пятиборья» | AA10: Васильев Иван Михайлович | AC10: =IF(AB10="",AA10,CONCATENATE(AA10,", ",AB10)) -> Васильев Иван Михайлович
C11: 6пр | D11: Д14 | E11: Ж | F11: Украинцева Софья | H11: 2013 | I11: 3р | J11: АКВАТИКС | N11: 46111 | O11: 1189858 | Y11: =INDEX(ИАС!P:P,MATCH(F11,ИАС!E:E,0)) -> 3 спортивный разряд | Z11: АНО «ДЮСШ «Акватикс» | AA11: Трифанкин Степан Николаевич | AB11: Борисов Евгений Валерьевич | AC11: =IF(AB11="",AA11,CONCATENATE(AA11,", ",AB11)) -> Трифанкин Степан Николаевич, Борисов Евгений Валерьевич
C12: 6лев | D12: Д14 | E12: Ж | F12: Жаринова Анна | H12: 2013 | I12: 2р | J12: УОР№2 | M12: 0.0059074074 | N12: 24.09.2026 | O12: 1530637 | P12: + | Y12: =INDEX(ИАС!P:P,MATCH(F12,ИАС!E:E,0)) -> 2 спортивный разряд | Z12: ГБПОУ «МССУОР № 2» Москомспорта | AA12: Семиволос Алексей Юрьевич | AC12: =IF(AB12="",AA12,CONCATENATE(AA12,", ",AB12)) -> Семиволос Алексей Юрьевич
C13: 3пр | D13: М14 | E13: М | F13: Лукьянов Артем | H13: 2013 | I13: 1ю | J13: АКВАТИКС | M13: 0.0056712963 | O13: 1397120 | Y13: б/р | Z13: АНО «ДЮСШ «Акватикс» | AA13: Трифанкин Степан Николаевич | AB13: Борисов Евгений Валерьевич | AC13: =IF(AB13="",AA13,CONCATENATE(AA13,", ",AB13)) -> Трифанкин Степан Николаевич, Борисов Евгений Валерьевич
C14: 7лев | AC14: =IF(AB14="",AA14,CONCATENATE(AA14,", ",AB14)) -> 0
C15: 7пр | AC15: =IF(AB15="",AA15,CONCATENATE(AA15,", ",AB15)) -> 0
C16: 8лев | AC16: =IF(AB16="",AA16,CONCATENATE(AA16,", ",AB16)) -> 0
C17: 8пр | AC17: =IF(AB17="",AA17,CONCATENATE(AA17,", ",AB17)) -> 0
A18: 13:40 16:15 | B18: Заплыв 2 Забег 2 | C18: 1лев | D18: Д17 | E18: Ж | F18: Покрамович Мария | H18: 2010 | I18: кмс | J18: АКВАТИКС | M18: 0.0050115741 | N18: 46107 | O18: 748107 | Q18: 290 | Y18: =INDEX(ИАС!P:P,MATCH(F18,ИАС!E:E,0)) -> Кандидат в мастера спорта | Z18: АНО «ДЮСШ «Акватикс» | AA18: Кумин Егор Сергеевич | AB18: Борисов Евгений Валерьевич | AC18: =IF(AB18="",AA18,CONCATENATE(AA18,", ",AB18)) -> Кумин Егор Сергеевич, Борисов Евгений Валерьевич
C19: 1пр | D19: Д17 | E19: Ж | F19: Пронюк Анастасия | H19: 2010 | I19: кмс | J19: МАСП | M19: 0.0047106481 | N19: 01.09.2026 | O19: 1052090 | Q19: 295 | Y19: Кандидат в мастера спорта | Z19: ГБУ ДО «Московская академия современного пятиборья» | AA19: Анисимова Нина Валентиновна | AC19: =IF(AB19="",AA19,CONCATENATE(AA19,", ",AB19)) -> Анисимова Нина Валентиновна
C20: 2лев | D20: Д17 | E20: Ж | F20: Филина Анна | H20: 2011 | I20: кмс | J20: МАСП | M20: 0.0049768519 | N20: 03.04.2026 | O20: 1338522 | Q20: 329 | Y20: Кандидат в мастера спорта | Z20: ГБУ ДО «Московская академия современного пятиборья» | AA20: Васильев Иван Михайлович | AC20: =IF(AB20="",AA20,CONCATENATE(AA20,", ",AB20)) -> Васильев Иван Михайлович
C21: 2пр | D21: Д17 | E21: Ж | F21: Корюкалова Ева | H21: 2009 | I21: кмс | J21: УОР№2 | M21: 0.0046875 | N21: 11.08.2026 | O21: 2185734 | Q21: 270 | W21: + | Y21: Кандидат в мастера спорта | Z21: ГБПОУ «МССУОР № 2» Москомспорта | AA21: Антошина Ирина Николаевна | AC21: =IF(AB21="",AA21,CONCATENATE(AA21,", ",AB21)) -> Антошина Ирина Николаевна
C22: 3лев | D22: Д17 | E22: Ж | F22: Силина Кира | H22: 2011 | I22: 1р | J22: УОР№2 | M22: 0.0047997685 | N22: 04.05.2026 | O22: 864523 | P22: + | Y22: 1 спортивный разряд | Z22: ГБПОУ «МССУОР № 2» Москомспорта | AA22: Семиволос Алексей Юрьевич | AC22: =IF(AB22="",AA22,CONCATENATE(AA22,", ",AB22)) -> Семиволос Алексей Юрьевич
C23: 3пр | D23: Д17 | E23: Ж | F23: Морданова Софья | H23: 2009 | I23: кмс | J23: МАСП | M23: 0.0046122685 | N23: 11.03.2026 | O23: 973691 | P23: + | Y23: Кандидат в мастера спорта | Z23: ГБУ ДО «Московская академия современного пятиборья» | AA23: Анисимова Нина Валентиновна | AC23: =IF(AB23="",AA23,CONCATENATE(AA23,", ",AB23)) -> Анисимова Нина Валентиновна
C24: 4лев | D24: Д17 | E24: Ж | F24: Маркина Дарья | H24: 2011 | I24: 1р | J24: МАСП | M24: 0.0047569444 | N24: 20.03.2026 | O24: 1042904 | P24: + | Y24: =INDEX(ИАС!P:P,MATCH(F24,ИАС!E:E,0)) -> 1 спортивный разряд | Z24: ГБУ ДО «Московская академия современного пятиборья» | AA24: Васильев Иван Михайлович | AC24: =IF(AB24="",AA24,CONCATENATE(AA24,", ",AB24)) -> Васильев Иван Михайлович
C25: 4пр | D25: Д17 | E25: Ж | F25: Семенова Юлия | H25: 2011 | I25: кмс | J25: МАСП | M25: 0.0044560185 | N25: 24.12.2026 | O25: 858889 | Q25: 306 | Y25: Кандидат в мастера спорта | Z25: ГБУ ДО «Московская академия современного пятиборья» | AA25: Багазеев Александр Константинович | AC25: =IF(AB25="",AA25,CONCATENATE(AA25,", ",AB25)) -> Багазеев Александр Константинович
C26: 5лев | D26: Д17 | E26: Ж | F26: Куфман Варвара | H26: 2010 | I26: кмс | J26: УОР№2 | M26: 0.0047453704 | N26: 31.08.2026 | O26: 1062040 | Q26: 275 | Y26: Кандидат в мастера спорта | Z26: ГБПОУ «МССУОР № 2» Москомспорта | AA26: Эсаулова Ольга Олеговна | AC26: =IF(AB26="",AA26,CONCATENATE(AA26,", ",AB26)) -> Эсаулова Ольга Олеговна
C27: 5пр | D27: Д17 | E27: Ж | F27: Ключарёва Иоанна | H27: 2011 | I27: кмс | J27: МАСП | M27: 0.0043402778 | N27: 24.12.2026 | O27: 858872 | Q27: 265 | Y27: Кандидат в мастера спорта | Z27: ГБУ ДО «Московская академия современного пятиборья» | AA27: Багазеев Александр Константинович | AC27: =IF(AB27="",AA27,CONCATENATE(AA27,", ",AB27)) -> Багазеев Александр Константинович
C28: 6лев | D28: Д17 | E28: Ж | F28: Дащенко Элина | H28: 2010 | I28: кмс | J28: УОР№2 | M28: 0.0046296296 | N28: 10.09.2026 | O28: 1940590 | Q28: 254 | Y28: Кандидат в мастера спорта | Z28: ГБПОУ «МССУОР № 2» Москомспорта | AA28: Семиволос Алексей Юрьевич | AC28: =IF(AB28="",AA28,CONCATENATE(AA28,", ",AB28)) -> Семиволос Алексей Юрьевич
C29: 6пр | D29: Д17 | E29: Ж | F29: Титова Алина | H29: 2011 | I29: кмс | J29: МАСП | M29: 0.0043981481 | N29: 01.09.2026 | O29: 932959 | Q29: 315 | Y29: Кандидат в мастера спорта | Z29: ГБУ ДО «Московская академия современного пятиборья» | AA29: Багазеев Александр Константинович | AC29: =IF(AB29="",AA29,CONCATENATE(AA29,", ",AB29)) -> Багазеев Александр Константинович
C30: 7лев | D30: Д17 | E30: Ж | F30: Длютрова Ульяна | H30: 2011 | I30: кмс | J30: УОР№2 | M30: 0.0048738426 | N30: 12.01.2027 | O30: 891722 | Q30: 256 | W30: + | Y30: Кандидат в мастера спорта | Z30: ГБПОУ «МССУОР № 2» Москомспорта | AA30: Антошина Ирина Николаевна | AC30: =IF(AB30="",AA30,CONCATENATE(AA30,", ",AB30)) -> Антошина Ирина Николаевна
